BEGIN:VCALENDAR
VERSION:2.0
PRODID:-//Pecantown Books &amp; Brews - ECPv6.15.20//NONSGML v1.0//EN
CALSCALE:GREGORIAN
METHOD:PUBLISH
X-WR-CALNAME:Pecantown Books &amp; Brews
X-ORIGINAL-URL:https://pecantownbooks.com
X-WR-CALDESC:Events for Pecantown Books &amp; Brews
REFRESH-INTERVAL;VALUE=DURATION:PT1H
X-Robots-Tag:noindex
X-PUBLISHED-TTL:PT1H
BEGIN:VTIMEZONE
TZID:America/Chicago
BEGIN:DAYLIGHT
TZOFFSETFROM:-0600
TZOFFSETTO:-0500
TZNAME:CDT
DTSTART:20240310T080000
END:DAYLIGHT
BEGIN:STANDARD
TZOFFSETFROM:-0500
TZOFFSETTO:-0600
TZNAME:CST
DTSTART:20241103T070000
END:STANDARD
BEGIN:DAYLIGHT
TZOFFSETFROM:-0600
TZOFFSETTO:-0500
TZNAME:CDT
DTSTART:20250309T080000
END:DAYLIGHT
BEGIN:STANDARD
TZOFFSETFROM:-0500
TZOFFSETTO:-0600
TZNAME:CST
DTSTART:20251102T070000
END:STANDARD
BEGIN:DAYLIGHT
TZOFFSETFROM:-0600
TZOFFSETTO:-0500
TZNAME:CDT
DTSTART:20260308T080000
END:DAYLIGHT
BEGIN:STANDARD
TZOFFSETFROM:-0500
TZOFFSETTO:-0600
TZNAME:CST
DTSTART:20261101T070000
END:STANDARD
END:VTIMEZONE
BEGIN:VEVENT
DTSTART;TZID=America/Chicago:20250829T180000
DTEND;TZID=America/Chicago:20250829T190000
DTSTAMP:20260419T191250
CREATED:20250725T163642Z
LAST-MODIFIED:20250812T221521Z
UID:3690-1756490400-1756494000@pecantownbooks.com
SUMMARY:Lone Star Story Hour
DESCRIPTION:The Orphan Train & Texas \nBetween 1854 and 1929\, about 200\,000 orphaned children were sent by rail from eastern cities to rural families in the west by the Children’s Aid Society. The Seguin area saw more than one child deposited with a local family. We’ll share the stories of Seguin’s own Alice O’Brien and the other children brought to Texas – some to loving families\, some to be exploited for labor – at August’s Lone Star Story Hour.
URL:https://pecantownbooks.com/event/lone-star-story-hour-3/
LOCATION:Pecantown Books & Brews\, 212 S. Camp Street\, Seguin\, 78155\, United States
ORGANIZER;CN="Kassie Brandt":MAILTO:kassie@pecantownbooks.com
END:VEVENT
END:VCALENDAR