BEGIN:VCALENDAR
VERSION:2.0
PRODID:-//Pecantown Books &amp; Brews - ECPv6.15.20//NONSGML v1.0//EN
CALSCALE:GREGORIAN
METHOD:PUBLISH
X-WR-CALNAME:Pecantown Books &amp; Brews
X-ORIGINAL-URL:https://pecantownbooks.com
X-WR-CALDESC:Events for Pecantown Books &amp; Brews
REFRESH-INTERVAL;VALUE=DURATION:PT1H
X-Robots-Tag:noindex
X-PUBLISHED-TTL:PT1H
BEGIN:VTIMEZONE
TZID:America/Chicago
BEGIN:DAYLIGHT
TZOFFSETFROM:-0600
TZOFFSETTO:-0500
TZNAME:CDT
DTSTART:20240310T080000
END:DAYLIGHT
BEGIN:STANDARD
TZOFFSETFROM:-0500
TZOFFSETTO:-0600
TZNAME:CST
DTSTART:20241103T070000
END:STANDARD
BEGIN:DAYLIGHT
TZOFFSETFROM:-0600
TZOFFSETTO:-0500
TZNAME:CDT
DTSTART:20250309T080000
END:DAYLIGHT
BEGIN:STANDARD
TZOFFSETFROM:-0500
TZOFFSETTO:-0600
TZNAME:CST
DTSTART:20251102T070000
END:STANDARD
BEGIN:DAYLIGHT
TZOFFSETFROM:-0600
TZOFFSETTO:-0500
TZNAME:CDT
DTSTART:20260308T080000
END:DAYLIGHT
BEGIN:STANDARD
TZOFFSETFROM:-0500
TZOFFSETTO:-0600
TZNAME:CST
DTSTART:20261101T070000
END:STANDARD
END:VTIMEZONE
BEGIN:VEVENT
DTSTART;TZID=America/Chicago:20251024T170000
DTEND;TZID=America/Chicago:20251024T183000
DTSTAMP:20260419T155045
CREATED:20251006T201041Z
LAST-MODIFIED:20251006T201124Z
UID:4023-1761325200-1761330600@pecantownbooks.com
SUMMARY:Meet the Creator of 'Halloween Man'
DESCRIPTION:Join us for a meet and greet with Austin’s Drew Edwards\, who created the cult-classic “Halloween Man” comic for adult readers 25 years ago! Pick up your signed copy and learn more about the story\, his story and process.
URL:https://pecantownbooks.com/event/meet-the-creator-of-halloween-man/
ORGANIZER;CN="Tess Coody-Anders":MAILTO:tess@pecantownbooks.com
END:VEVENT
END:VCALENDAR