BEGIN:VCALENDAR
VERSION:2.0
PRODID:-//Pecantown Books &amp; Brews - ECPv6.15.20//NONSGML v1.0//EN
CALSCALE:GREGORIAN
METHOD:PUBLISH
X-ORIGINAL-URL:https://pecantownbooks.com
X-WR-CALDESC:Events for Pecantown Books &amp; Brews
REFRESH-INTERVAL;VALUE=DURATION:PT1H
X-Robots-Tag:noindex
X-PUBLISHED-TTL:PT1H
BEGIN:VTIMEZONE
TZID:America/Chicago
BEGIN:DAYLIGHT
TZOFFSETFROM:-0600
TZOFFSETTO:-0500
TZNAME:CDT
DTSTART:20240310T080000
END:DAYLIGHT
BEGIN:STANDARD
TZOFFSETFROM:-0500
TZOFFSETTO:-0600
TZNAME:CST
DTSTART:20241103T070000
END:STANDARD
BEGIN:DAYLIGHT
TZOFFSETFROM:-0600
TZOFFSETTO:-0500
TZNAME:CDT
DTSTART:20250309T080000
END:DAYLIGHT
BEGIN:STANDARD
TZOFFSETFROM:-0500
TZOFFSETTO:-0600
TZNAME:CST
DTSTART:20251102T070000
END:STANDARD
BEGIN:DAYLIGHT
TZOFFSETFROM:-0600
TZOFFSETTO:-0500
TZNAME:CDT
DTSTART:20260308T080000
END:DAYLIGHT
BEGIN:STANDARD
TZOFFSETFROM:-0500
TZOFFSETTO:-0600
TZNAME:CST
DTSTART:20261101T070000
END:STANDARD
END:VTIMEZONE
BEGIN:VEVENT
DTSTART;TZID=America/Chicago:20251217T170000
DTEND;TZID=America/Chicago:20251217T180000
DTSTAMP:20260419T123039
CREATED:20251119T171622Z
LAST-MODIFIED:20251204T161740Z
UID:4103-1765990800-1765994400@pecantownbooks.com
SUMMARY:Classics Book Club
DESCRIPTION:Join Mark and the Classics Book Club as they discuss\, “Elective Affinities” by Goethe. This story explores the passionate\, destructive\, and ultimately tragic consequences of spousal exchange and attraction between four people\, using the metaphor of chemical reactions (or “elective affinities”) to describe human relationships. Join us on December 10th at 5 pm.
URL:https://pecantownbooks.com/event/classics-book-club-14/
LOCATION:Pecantown Books & Brews\, 212 S. Camp Street\, Seguin\, 78155\, United States
ORGANIZER;CN="Kassie Brandt":MAILTO:kassie@pecantownbooks.com
END:VEVENT
END:VCALENDAR