BEGIN:VCALENDAR
VERSION:2.0
PRODID:-//Pecantown Books &amp; Brews - ECPv6.15.20//NONSGML v1.0//EN
CALSCALE:GREGORIAN
METHOD:PUBLISH
X-WR-CALNAME:Pecantown Books &amp; Brews
X-ORIGINAL-URL:https://pecantownbooks.com
X-WR-CALDESC:Events for Pecantown Books &amp; Brews
REFRESH-INTERVAL;VALUE=DURATION:PT1H
X-Robots-Tag:noindex
X-PUBLISHED-TTL:PT1H
BEGIN:VTIMEZONE
TZID:America/Chicago
BEGIN:DAYLIGHT
TZOFFSETFROM:-0600
TZOFFSETTO:-0500
TZNAME:CDT
DTSTART:20250309T080000
END:DAYLIGHT
BEGIN:STANDARD
TZOFFSETFROM:-0500
TZOFFSETTO:-0600
TZNAME:CST
DTSTART:20251102T070000
END:STANDARD
BEGIN:DAYLIGHT
TZOFFSETFROM:-0600
TZOFFSETTO:-0500
TZNAME:CDT
DTSTART:20260308T080000
END:DAYLIGHT
BEGIN:STANDARD
TZOFFSETFROM:-0500
TZOFFSETTO:-0600
TZNAME:CST
DTSTART:20261101T070000
END:STANDARD
BEGIN:DAYLIGHT
TZOFFSETFROM:-0600
TZOFFSETTO:-0500
TZNAME:CDT
DTSTART:20270314T080000
END:DAYLIGHT
BEGIN:STANDARD
TZOFFSETFROM:-0500
TZOFFSETTO:-0600
TZNAME:CST
DTSTART:20271107T070000
END:STANDARD
END:VTIMEZONE
BEGIN:VEVENT
DTSTART;TZID=America/Chicago:20260519T180000
DTEND;TZID=America/Chicago:20260519T190000
DTSTAMP:20260423T003453
CREATED:20260422T161117Z
LAST-MODIFIED:20260422T161117Z
UID:4735-1779213600-1779217200@pecantownbooks.com
SUMMARY:Literary Fiction Book Club
DESCRIPTION:This Month Tess and the Lit. Fiction book Club is reading “The Reservation” by Rebecca Kauffman. This book is an examination of pressure\, individual grit and taking pleasure in a job done well. Join us at 6 pm.
URL:https://pecantownbooks.com/event/literary-fiction-book-club-4/
LOCATION:Pecantown Books & Brews\, 212 S. Camp Street\, Seguin\, 78155\, United States
ORGANIZER;CN="Kassie Brandt":MAILTO:kassie@pecantownbooks.com
END:VEVENT
BEGIN:VEVENT
DTSTART;TZID=America/Chicago:20260522T180000
DTEND;TZID=America/Chicago:20260522T190000
DTSTAMP:20260423T003453
CREATED:20260422T161850Z
LAST-MODIFIED:20260422T161850Z
UID:4737-1779472800-1779476400@pecantownbooks.com
SUMMARY:Wine and True Crime
DESCRIPTION:Kassie is revisiting the first true crime book she ever read. Join her as she explores “Helter Skelter”\, Charles Manson and the cult of personality that shocked Hollywood and the world. \n*This event contains adult themes \n*Adult language \n*Tickets are not to be resold \n*Tickets are only available at Pecantownbooks.com
URL:https://pecantownbooks.com/event/wine-and-true-crime-30/
LOCATION:Pecantown Books & Brews\, 212 S. Camp Street\, Seguin\, 78155\, United States
ORGANIZER;CN="Kassie Brandt":MAILTO:kassie@pecantownbooks.com
END:VEVENT
BEGIN:VEVENT
DTSTART;TZID=America/Chicago:20260529T180000
DTEND;TZID=America/Chicago:20260529T190000
DTSTAMP:20260423T003453
CREATED:20260422T164132Z
LAST-MODIFIED:20260422T164132Z
UID:4741-1780077600-1780081200@pecantownbooks.com
SUMMARY:Fantasy Book Club
DESCRIPTION:Join Pecantown as they discuss “The Poison Daughter” by Shelia Masterson on Friday\, May 29th at 6 pm. This enemies to lovers romantasy is fast paced and fun. Email lindsay@pecantownbooks.com for more information.
URL:https://pecantownbooks.com/event/fantasy-book-club-12/
LOCATION:Pecantown Books & Brews\, 212 S. Camp Street\, Seguin\, 78155\, United States
ORGANIZER;CN="Kassie Brandt":MAILTO:kassie@pecantownbooks.com
END:VEVENT
END:VCALENDAR