BEGIN:VCALENDAR
VERSION:2.0
PRODID:-//Pecantown Books &amp; Brews - ECPv6.15.20//NONSGML v1.0//EN
CALSCALE:GREGORIAN
METHOD:PUBLISH
X-WR-CALNAME:Pecantown Books &amp; Brews
X-ORIGINAL-URL:https://pecantownbooks.com
X-WR-CALDESC:Events for Pecantown Books &amp; Brews
REFRESH-INTERVAL;VALUE=DURATION:PT1H
X-Robots-Tag:noindex
X-PUBLISHED-TTL:PT1H
BEGIN:VTIMEZONE
TZID:America/New_York
BEGIN:DAYLIGHT
TZOFFSETFROM:-0500
TZOFFSETTO:-0400
TZNAME:EDT
DTSTART:20220313T070000
END:DAYLIGHT
BEGIN:STANDARD
TZOFFSETFROM:-0400
TZOFFSETTO:-0500
TZNAME:EST
DTSTART:20221106T060000
END:STANDARD
BEGIN:DAYLIGHT
TZOFFSETFROM:-0500
TZOFFSETTO:-0400
TZNAME:EDT
DTSTART:20230312T070000
END:DAYLIGHT
BEGIN:STANDARD
TZOFFSETFROM:-0400
TZOFFSETTO:-0500
TZNAME:EST
DTSTART:20231105T060000
END:STANDARD
BEGIN:DAYLIGHT
TZOFFSETFROM:-0500
TZOFFSETTO:-0400
TZNAME:EDT
DTSTART:20240310T070000
END:DAYLIGHT
BEGIN:STANDARD
TZOFFSETFROM:-0400
TZOFFSETTO:-0500
TZNAME:EST
DTSTART:20241103T060000
END:STANDARD
END:VTIMEZONE
BEGIN:VEVENT
DTSTART;TZID=America/New_York:20231104T130000
DTEND;TZID=America/New_York:20231104T150000
DTSTAMP:20260420T025202
CREATED:20231012T224419Z
LAST-MODIFIED:20231024T231758Z
UID:1509-1699102800-1699110000@pecantownbooks.com
SUMMARY:Local Authors Tracy Donley and Nate Aubin
DESCRIPTION:Join us and Seguin locals share their cozy mysteries! Meet the authors\, get their books and hear some fun stories shared by this Mother and Son duo.
URL:https://pecantownbooks.com/event/local-authors-tracy-donely-and-nate-aubin/
LOCATION:Pecantown Books & Brews\, 212 S. Camp Street\, Seguin\, 78155\, United States
ORGANIZER;CN="Kassie Brandt":MAILTO:kassie@pecantownbooks.com
END:VEVENT
BEGIN:VEVENT
DTSTART;TZID=America/New_York:20231102T150000
DTEND;TZID=America/New_York:20231102T190000
DTSTAMP:20260420T025202
CREATED:20230923T192447Z
LAST-MODIFIED:20230923T192447Z
UID:1490-1698937200-1698951600@pecantownbooks.com
SUMMARY:College Night
DESCRIPTION:Join us every Thursday\, from 3p-7p\, for College Night! Bring your Student ID and get 10% off books\, bites and brews!
URL:https://pecantownbooks.com/event/college-night-15/
LOCATION:Pecantown Books & Brews\, 212 S. Camp Street\, Seguin\, 78155\, United States
ORGANIZER;CN="Kassie Brandt":MAILTO:kassie@pecantownbooks.com
END:VEVENT
BEGIN:VEVENT
DTSTART;VALUE=DATE:20231028
DTEND;VALUE=DATE:20231029
DTSTAMP:20260420T025202
CREATED:20230923T202512Z
LAST-MODIFIED:20230923T202512Z
UID:1499-1698451200-1698537599@pecantownbooks.com
SUMMARY:PECAN FEST
DESCRIPTION:Pecantown is celebrating Pecantfest! Come out and shop local as we prepare for the holiday season.
URL:https://pecantownbooks.com/event/pecan-fest/
LOCATION:Pecantown Books & Brews\, 212 S. Camp Street\, Seguin\, 78155\, United States
ORGANIZER;CN="Kassie Brandt":MAILTO:kassie@pecantownbooks.com
END:VEVENT
BEGIN:VEVENT
DTSTART;TZID=America/New_York:20231027T100000
DTEND;TZID=America/New_York:20231027T103000
DTSTAMP:20260420T025202
CREATED:20230913T194744Z
LAST-MODIFIED:20230913T194744Z
UID:1461-1698400800-1698402600@pecantownbooks.com
SUMMARY:Story Time
DESCRIPTION:Join us every Friday at 10 am and hear one of our booksellers read you a new or classic story. Email kassie@pecantownbooks.com for more info.
URL:https://pecantownbooks.com/event/story-time-30/
LOCATION:Pecantown Books & Brews\, 212 S. Camp Street\, Seguin\, 78155\, United States
ORGANIZER;CN="Kassie Brandt":MAILTO:kassie@pecantownbooks.com
END:VEVENT
BEGIN:VEVENT
DTSTART;TZID=America/New_York:20231026T150000
DTEND;TZID=America/New_York:20231026T190000
DTSTAMP:20260420T025202
CREATED:20230923T192154Z
LAST-MODIFIED:20230923T192154Z
UID:1488-1698332400-1698346800@pecantownbooks.com
SUMMARY:College Night
DESCRIPTION:Join us every Thursday\, from 3p-7p\, for College Night! Bring your Student ID and get 10% off books\, bites and brews!
URL:https://pecantownbooks.com/event/college-night-14/
LOCATION:Pecantown Books & Brews\, 212 S. Camp Street\, Seguin\, 78155\, United States
ORGANIZER;CN="Kassie Brandt":MAILTO:kassie@pecantownbooks.com
END:VEVENT
BEGIN:VEVENT
DTSTART;TZID=America/New_York:20231025T080000
DTEND;TZID=America/New_York:20231025T170000
DTSTAMP:20260420T025202
CREATED:20230923T200449Z
LAST-MODIFIED:20230923T200449Z
UID:1497-1698220800-1698253200@pecantownbooks.com
SUMMARY:Wine and True Crime
DESCRIPTION:Join Kassie as she tells the story that inspired “The Texas Chainsaw Massacre” and the horrible crimes of Ed Gein. Come grab a glass of wine\, a snack and prepare yourself for some horror. \n 
URL:https://pecantownbooks.com/event/wine-and-true-crime-10/
LOCATION:Pecantown Books & Brews\, 212 S. Camp Street\, Seguin\, 78155\, United States
ORGANIZER;CN="Kassie Brandt":MAILTO:kassie@pecantownbooks.com
END:VEVENT
BEGIN:VEVENT
DTSTART;TZID=America/New_York:20231021T173000
DTEND;TZID=America/New_York:20231021T190000
DTSTAMP:20260420T025202
CREATED:20230923T195055Z
LAST-MODIFIED:20230923T195055Z
UID:1495-1697909400-1697914800@pecantownbooks.com
SUMMARY:Spook Story Night
DESCRIPTION:Come and listen to some spooky stories on our patio. We will have Professor Caroline Davis here to share some of her haunted objects and personal ghost stories. We will have other story tellers ready to share the spooky stories they love.
URL:https://pecantownbooks.com/event/spooky-story-night/
LOCATION:Pecantown Books & Brews\, 212 S. Camp Street\, Seguin\, 78155\, United States
ORGANIZER;CN="Kassie Brandt":MAILTO:kassie@pecantownbooks.com
END:VEVENT
BEGIN:VEVENT
DTSTART;TZID=America/New_York:20231021T130000
DTEND;TZID=America/New_York:20231021T150000
DTSTAMP:20260420T025202
CREATED:20230923T193527Z
LAST-MODIFIED:20230923T193527Z
UID:1492-1697893200-1697900400@pecantownbooks.com
SUMMARY:Author Denise Tolan
DESCRIPTION:Author Denise Tolan will be here on October 21st with her Memoir “Italian Blood.” She will be here to sign books\, answer questions and share her story. Join us at 1pm and get your copy!
URL:https://pecantownbooks.com/event/author-denise-tolan/
LOCATION:Pecantown Books & Brews\, 212 S. Camp Street\, Seguin\, 78155\, United States
ORGANIZER;CN="Kassie Brandt":MAILTO:kassie@pecantownbooks.com
END:VEVENT
BEGIN:VEVENT
DTSTART;TZID=America/New_York:20231020T100000
DTEND;TZID=America/New_York:20231020T103000
DTSTAMP:20260420T025202
CREATED:20230913T194446Z
LAST-MODIFIED:20230913T194446Z
UID:1458-1697796000-1697797800@pecantownbooks.com
SUMMARY:Story Time
DESCRIPTION:Join us every Friday at 10 am and hear one of our booksellers read you a new or classic story. Email kassie@pecantownbooks.com for more info.
URL:https://pecantownbooks.com/event/story-time-29/
LOCATION:Pecantown Books & Brews\, 212 S. Camp Street\, Seguin\, 78155\, United States
ORGANIZER;CN="Kassie Brandt":MAILTO:kassie@pecantownbooks.com
END:VEVENT
BEGIN:VEVENT
DTSTART;TZID=America/New_York:20231019T150000
DTEND;TZID=America/New_York:20231019T190000
DTSTAMP:20260420T025202
CREATED:20230923T191755Z
LAST-MODIFIED:20230923T191755Z
UID:1486-1697727600-1697742000@pecantownbooks.com
SUMMARY:College Night
DESCRIPTION:Join us every Thursday\, from 3p-7p\, for College Night! Bring your Student ID and get 10% off books\, bites and brews!
URL:https://pecantownbooks.com/event/college-night-13/
LOCATION:Pecantown Books & Brews\, 212 S. Camp Street\, Seguin\, 78155\, United States
ORGANIZER;CN="Kassie Brandt":MAILTO:kassie@pecantownbooks.com
END:VEVENT
BEGIN:VEVENT
DTSTART;TZID=America/New_York:20231014T130000
DTEND;TZID=America/New_York:20231014T150000
DTSTAMP:20260420T025202
CREATED:20230921T195012Z
LAST-MODIFIED:20230921T195012Z
UID:1478-1697288400-1697295600@pecantownbooks.com
SUMMARY:Author Mike Lowrie
DESCRIPTION:Author Mike Lowrie will be here for the release of his new book “The house of De Zavala” on October 14th. Join us to meet the author\, get your book signed and learn a little Texas history.
URL:https://pecantownbooks.com/event/author-mike-lowrie-2/
LOCATION:Pecantown Books & Brews\, 212 S. Camp Street\, Seguin\, 78155\, United States
ORGANIZER;CN="Kassie Brandt":MAILTO:kassie@pecantownbooks.com
END:VEVENT
BEGIN:VEVENT
DTSTART;TZID=America/New_York:20231013T100000
DTEND;TZID=America/New_York:20231013T103000
DTSTAMP:20260420T025202
CREATED:20230913T194039Z
LAST-MODIFIED:20230913T194039Z
UID:1455-1697191200-1697193000@pecantownbooks.com
SUMMARY:Story Time
DESCRIPTION:Join us every Friday at 10 am and hear one of our booksellers read you a new or classic story. Email kassie@pecantownbooks.com for more info.
URL:https://pecantownbooks.com/event/story-time-28/
LOCATION:Pecantown Books & Brews\, 212 S. Camp Street\, Seguin\, 78155\, United States
ORGANIZER;CN="Kassie Brandt":MAILTO:kassie@pecantownbooks.com
END:VEVENT
BEGIN:VEVENT
DTSTART;TZID=America/New_York:20231012T180000
DTEND;TZID=America/New_York:20231012T190000
DTSTAMP:20260420T025202
CREATED:20230919T161347Z
LAST-MODIFIED:20230919T161347Z
UID:1469-1697133600-1697137200@pecantownbooks.com
SUMMARY:The Salem Witch Hunt Book Club
DESCRIPTION:Join Kassie for a discussion of the book “The Salem Witch Hunt” October 12th. Get your copy in store and receive 10% off when you tell the bookseller it is for Book Club. Email kassie@pecantownbooks.com for more information. \n 
URL:https://pecantownbooks.com/event/the-salem-witch-hunt-book-club/
LOCATION:Pecantown Books & Brews\, 212 S. Camp Street\, Seguin\, 78155\, United States
ORGANIZER;CN="Kassie Brandt":MAILTO:kassie@pecantownbooks.com
END:VEVENT
BEGIN:VEVENT
DTSTART;TZID=America/New_York:20231012T150000
DTEND;TZID=America/New_York:20231012T190000
DTSTAMP:20260420T025202
CREATED:20230923T191618Z
LAST-MODIFIED:20230923T191618Z
UID:1484-1697122800-1697137200@pecantownbooks.com
SUMMARY:College Night
DESCRIPTION:Join us every Thursday\, from 3p-7p\, for College Night! Bring your Student ID and get 10% off books\, bites and brews!
URL:https://pecantownbooks.com/event/college-night-12/
LOCATION:Pecantown Books & Brews\, 212 S. Camp Street\, Seguin\, 78155\, United States
ORGANIZER;CN="Kassie Brandt":MAILTO:kassie@pecantownbooks.com
END:VEVENT
BEGIN:VEVENT
DTSTART;TZID=America/New_York:20231011T130000
DTEND;TZID=America/New_York:20231011T140000
DTSTAMP:20260420T025202
CREATED:20230919T152331Z
LAST-MODIFIED:20230919T152331Z
UID:1467-1697029200-1697032800@pecantownbooks.com
SUMMARY:Postpartum Support
DESCRIPTION:Join us and Boundless Roots Yoga for another class on stretches to support your body. Learn so tips and tricks to support your body pre and post baby no matter how far your motherhood journey has taken you! Bring your kids and let’s learn from Alma. \n 
URL:https://pecantownbooks.com/event/postpartum-support-10/
LOCATION:Pecantown Books & Brews\, 212 S. Camp Street\, Seguin\, 78155\, United States
ORGANIZER;CN="Kassie Brandt":MAILTO:kassie@pecantownbooks.com
END:VEVENT
BEGIN:VEVENT
DTSTART;TZID=America/New_York:20231008T110000
DTEND;TZID=America/New_York:20231008T130000
DTSTAMP:20260420T025202
CREATED:20230919T150747Z
LAST-MODIFIED:20230919T150747Z
UID:1465-1696762800-1696770000@pecantownbooks.com
SUMMARY:Fall Flower Class
DESCRIPTION:Join us and master gardener Edie Cassell\, from Florabuelas Flower Farm\, for a class on fall flowers. This class includes a book\, brunch & a bouquet. If you attended our previous class and would like to attend again\, email tess@pecantownbooks.com.
URL:https://pecantownbooks.com/event/fall-flower-class/
LOCATION:Pecantown Books & Brews\, 212 S. Camp Street\, Seguin\, 78155\, United States
ORGANIZER;CN="Kassie Brandt":MAILTO:kassie@pecantownbooks.com
END:VEVENT
BEGIN:VEVENT
DTSTART;TZID=America/New_York:20231007T130000
DTEND;TZID=America/New_York:20231007T150000
DTSTAMP:20260420T025202
CREATED:20230913T193222Z
LAST-MODIFIED:20230913T193222Z
UID:1449-1696683600-1696690800@pecantownbooks.com
SUMMARY:Author Jayme Blaschke
DESCRIPTION:Author Jayme Blaschke will be here to talk about his book “Inside the Texas Chicken Ranch” on October 7th! Meet the author\, get your book and a glass of wine.
URL:https://pecantownbooks.com/event/author-jayme-blaschke/
LOCATION:Pecantown Books & Brews\, 212 S. Camp Street\, Seguin\, 78155\, United States
ORGANIZER;CN="Kassie Brandt":MAILTO:kassie@pecantownbooks.com
END:VEVENT
BEGIN:VEVENT
DTSTART;TZID=America/New_York:20231006T100000
DTEND;TZID=America/New_York:20231006T103000
DTSTAMP:20260420T025202
CREATED:20230913T193548Z
LAST-MODIFIED:20230913T193548Z
UID:1452-1696586400-1696588200@pecantownbooks.com
SUMMARY:Story Time
DESCRIPTION:Join us every Friday at 10 am and hear one of our booksellers read you a new or classic story. Email kassie@pecantownbooks.com for more info.
URL:https://pecantownbooks.com/event/story-time-27/
LOCATION:Pecantown Books & Brews\, 212 S. Camp Street\, Seguin\, 78155\, United States
ORGANIZER;CN="Kassie Brandt":MAILTO:kassie@pecantownbooks.com
END:VEVENT
BEGIN:VEVENT
DTSTART;TZID=America/New_York:20231005T150000
DTEND;TZID=America/New_York:20231005T190000
DTSTAMP:20260420T025202
CREATED:20230923T191058Z
LAST-MODIFIED:20230923T191058Z
UID:1482-1696518000-1696532400@pecantownbooks.com
SUMMARY:College Night
DESCRIPTION:Join us every Thursday\, from 3p-7p\, for College Night! Bring your Student ID and get 10% off books\, bites and brews!
URL:https://pecantownbooks.com/event/college-night-11/
LOCATION:Pecantown Books & Brews\, 212 S. Camp Street\, Seguin\, 78155\, United States
ORGANIZER;CN="Kassie Brandt":MAILTO:kassie@pecantownbooks.com
END:VEVENT
BEGIN:VEVENT
DTSTART;TZID=America/New_York:20231001T110000
DTEND;TZID=America/New_York:20231001T120000
DTSTAMP:20260420T025202
CREATED:20230913T143226Z
LAST-MODIFIED:20230913T143226Z
UID:1445-1696158000-1696161600@pecantownbooks.com
SUMMARY:Murder and Mimosas
DESCRIPTION:Join Kassie as she tells the horrible tale of the Long Island Serial killer.
URL:https://pecantownbooks.com/event/murder-and-mimosas-6/
LOCATION:Pecantown Books & Brews\, 212 S. Camp Street\, Seguin\, 78155\, United States
ORGANIZER;CN="Kassie Brandt":MAILTO:kassie@pecantownbooks.com
END:VEVENT
BEGIN:VEVENT
DTSTART;TZID=America/New_York:20230929T100000
DTEND;TZID=America/New_York:20230929T103000
DTSTAMP:20260420T025202
CREATED:20230812T152307Z
LAST-MODIFIED:20230812T152307Z
UID:1351-1695981600-1695983400@pecantownbooks.com
SUMMARY:Story Time
DESCRIPTION:Join us every Friday for Story Time at 10 am. One of our book sellers will read a new or classic story. All ages are welcome.
URL:https://pecantownbooks.com/event/story-time-24/
LOCATION:Pecantown Books & Brews\, 212 S. Camp Street\, Seguin\, 78155\, United States
ORGANIZER;CN="Kassie Brandt":MAILTO:kassie@pecantownbooks.com
END:VEVENT
BEGIN:VEVENT
DTSTART;TZID=America/New_York:20230928T150000
DTEND;TZID=America/New_York:20230928T190000
DTSTAMP:20260420T025202
CREATED:20230812T212858Z
LAST-MODIFIED:20230812T212858Z
UID:1394-1695913200-1695927600@pecantownbooks.com
SUMMARY:College Night
DESCRIPTION:Calling all college students!! Every Thursday\, 3 pm-7 pm show your student ID and get 10% off books\, bites and brews.
URL:https://pecantownbooks.com/event/college-night-10/
LOCATION:Pecantown Books & Brews\, 212 S. Camp Street\, Seguin\, 78155\, United States
ORGANIZER;CN="Kassie Brandt":MAILTO:kassie@pecantownbooks.com
END:VEVENT
BEGIN:VEVENT
DTSTART;TZID=America/New_York:20230927T180000
DTEND;TZID=America/New_York:20230927T190000
DTSTAMP:20260420T025202
CREATED:20230812T161031Z
LAST-MODIFIED:20230812T161118Z
UID:1371-1695837600-1695841200@pecantownbooks.com
SUMMARY:Wine and True Crime
DESCRIPTION:Kassie will be exploring the Long Island Serial Killer Case. She will share some theories\, corruption and the newest revelations in this nationally recognized crime. \n 
URL:https://pecantownbooks.com/event/wine-and-true-crime-9/
LOCATION:Pecantown Books & Brews\, 212 S. Camp Street\, Seguin\, 78155\, United States
ORGANIZER;CN="Kassie Brandt":MAILTO:kassie@pecantownbooks.com
END:VEVENT
BEGIN:VEVENT
DTSTART;TZID=America/New_York:20230923T170000
DTEND;TZID=America/New_York:20230923T190000
DTSTAMP:20260420T025202
CREATED:20230812T200154Z
LAST-MODIFIED:20230812T200318Z
UID:1382-1695488400-1695495600@pecantownbooks.com
SUMMARY:Live Original music with Dennis Jay
DESCRIPTION:Join musician Dennis Jay and his original and public domain music. Come get a glass of beer or wine and enjoy a Mezze Platter on the back porch. Music starts at 5 pm.
URL:https://pecantownbooks.com/event/live-original-music-with-dennis-jay/
LOCATION:Pecantown Books & Brews\, 212 S. Camp Street\, Seguin\, 78155\, United States
ORGANIZER;CN="Kassie Brandt":MAILTO:kassie@pecantownbooks.com
END:VEVENT
BEGIN:VEVENT
DTSTART;TZID=America/New_York:20230922T080000
DTEND;TZID=America/New_York:20230922T170000
DTSTAMP:20260420T025202
CREATED:20230812T152606Z
LAST-MODIFIED:20230812T152606Z
UID:1356-1695369600-1695402000@pecantownbooks.com
SUMMARY:Story Time
DESCRIPTION:Join us every Friday for Story Time at 10 am. One of our book sellers will read a new or classic story. All ages are welcome.
URL:https://pecantownbooks.com/event/story-time-26/
LOCATION:Pecantown Books & Brews\, 212 S. Camp Street\, Seguin\, 78155\, United States
ORGANIZER;CN="Kassie Brandt":MAILTO:kassie@pecantownbooks.com
END:VEVENT
BEGIN:VEVENT
DTSTART;TZID=America/New_York:20230921T150000
DTEND;TZID=America/New_York:20230921T190000
DTSTAMP:20260420T025202
CREATED:20230812T212754Z
LAST-MODIFIED:20230812T212754Z
UID:1392-1695308400-1695322800@pecantownbooks.com
SUMMARY:College Night
DESCRIPTION:Calling all college students!! Every Thursday\, 3 pm-7 pm show your student ID and get 10% off books\, bites and brews.
URL:https://pecantownbooks.com/event/college-night-9/
ORGANIZER;CN="Kassie Brandt":MAILTO:kassie@pecantownbooks.com
END:VEVENT
BEGIN:VEVENT
DTSTART;TZID=America/New_York:20230920T180000
DTEND;TZID=America/New_York:20230920T180000
DTSTAMP:20260420T025202
CREATED:20230812T155310Z
LAST-MODIFIED:20230812T155310Z
UID:1366-1695232800-1695232800@pecantownbooks.com
SUMMARY:Crime/Thriller Book Club
DESCRIPTION:Kassie and her book club will be discussing “The Nightingale Affair” an fictional account of nurses being murdered.
URL:https://pecantownbooks.com/event/crime-thriller-book-club-9/
LOCATION:Pecantown Books & Brews\, 212 S. Camp Street\, Seguin\, 78155\, United States
ORGANIZER;CN="Kassie Brandt":MAILTO:kassie@pecantownbooks.com
END:VEVENT
BEGIN:VEVENT
DTSTART;TZID=America/New_York:20230920T080000
DTEND;TZID=America/New_York:20230920T170000
DTSTAMP:20260420T025202
CREATED:20230920T230924Z
LAST-MODIFIED:20230920T230924Z
UID:1472-1695196800-1695229200@pecantownbooks.com
SUMMARY:Author Mike Lowrie
DESCRIPTION:Join us on Saturday\, October 14th for the Historical Fiction “House of De Zavala.” Author Mike Lowrie will be at Pecantown from 1 pm-3 pm to sign your book and meet the Author. \n  \n 
URL:https://pecantownbooks.com/event/author-mike-lowrie/
LOCATION:Pecantown Books & Brews\, 212 S. Camp Street\, Seguin\, 78155\, United States
ORGANIZER;CN="Kassie Brandt":MAILTO:kassie@pecantownbooks.com
END:VEVENT
BEGIN:VEVENT
DTSTART;TZID=America/New_York:20230916T150000
DTEND;TZID=America/New_York:20230916T190000
DTSTAMP:20260420T025202
CREATED:20230812T191949Z
LAST-MODIFIED:20230812T191949Z
UID:1380-1694876400-1694890800@pecantownbooks.com
SUMMARY:Silent Auction for Teatro de Artes
DESCRIPTION:Join Pecantown Books and Brews September 16th for an Art Show. We are partnering with Teadtro de Artes de Juan Seguin to raise scholarship funds for students. Come from 3-7 for a silent art auction\, food\, drinks and fun!
URL:https://pecantownbooks.com/event/silent-auction-for-teatro-de-artes/
LOCATION:Pecantown Books & Brews\, 212 S. Camp Street\, Seguin\, 78155\, United States
ORGANIZER;CN="Kassie Brandt":MAILTO:kassie@pecantownbooks.com
END:VEVENT
BEGIN:VEVENT
DTSTART;TZID=America/New_York:20230915T170000
DTEND;TZID=America/New_York:20230915T190000
DTSTAMP:20260420T025202
CREATED:20230812T185246Z
LAST-MODIFIED:20230812T185246Z
UID:1378-1694797200-1694804400@pecantownbooks.com
SUMMARY:Live Original music with Dylan Riley
DESCRIPTION:Join us for live and original music by Dylan Riley. He will be playing to kick off our fundraiser for Teatro de Artes de Juan Seguin!
URL:https://pecantownbooks.com/event/live-original-music-with-dylan-riley/
LOCATION:Pecantown Books & Brews\, 212 S. Camp Street\, Seguin\, 78155\, United States
ORGANIZER;CN="Kassie Brandt":MAILTO:kassie@pecantownbooks.com
END:VEVENT
END:VCALENDAR