BEGIN:VCALENDAR
VERSION:2.0
PRODID:-//Pecantown Books &amp; Brews - ECPv6.15.20//NONSGML v1.0//EN
CALSCALE:GREGORIAN
METHOD:PUBLISH
X-WR-CALNAME:Pecantown Books &amp; Brews
X-ORIGINAL-URL:https://pecantownbooks.com
X-WR-CALDESC:Events for Pecantown Books &amp; Brews
REFRESH-INTERVAL;VALUE=DURATION:PT1H
X-Robots-Tag:noindex
X-PUBLISHED-TTL:PT1H
BEGIN:VTIMEZONE
TZID:America/New_York
BEGIN:DAYLIGHT
TZOFFSETFROM:-0500
TZOFFSETTO:-0400
TZNAME:EDT
DTSTART:20220313T070000
END:DAYLIGHT
BEGIN:STANDARD
TZOFFSETFROM:-0400
TZOFFSETTO:-0500
TZNAME:EST
DTSTART:20221106T060000
END:STANDARD
BEGIN:DAYLIGHT
TZOFFSETFROM:-0500
TZOFFSETTO:-0400
TZNAME:EDT
DTSTART:20230312T070000
END:DAYLIGHT
BEGIN:STANDARD
TZOFFSETFROM:-0400
TZOFFSETTO:-0500
TZNAME:EST
DTSTART:20231105T060000
END:STANDARD
BEGIN:DAYLIGHT
TZOFFSETFROM:-0500
TZOFFSETTO:-0400
TZNAME:EDT
DTSTART:20240310T070000
END:DAYLIGHT
BEGIN:STANDARD
TZOFFSETFROM:-0400
TZOFFSETTO:-0500
TZNAME:EST
DTSTART:20241103T060000
END:STANDARD
END:VTIMEZONE
BEGIN:VEVENT
DTSTART;TZID=America/New_York:20231006T100000
DTEND;TZID=America/New_York:20231006T103000
DTSTAMP:20260420T225807
CREATED:20230913T193548Z
LAST-MODIFIED:20230913T193548Z
UID:1452-1696586400-1696588200@pecantownbooks.com
SUMMARY:Story Time
DESCRIPTION:Join us every Friday at 10 am and hear one of our booksellers read you a new or classic story. Email kassie@pecantownbooks.com for more info.
URL:https://pecantownbooks.com/event/story-time-27/
LOCATION:Pecantown Books & Brews\, 212 S. Camp Street\, Seguin\, 78155\, United States
ORGANIZER;CN="Kassie Brandt":MAILTO:kassie@pecantownbooks.com
END:VEVENT
BEGIN:VEVENT
DTSTART;TZID=America/New_York:20231005T150000
DTEND;TZID=America/New_York:20231005T190000
DTSTAMP:20260420T225807
CREATED:20230923T191058Z
LAST-MODIFIED:20230923T191058Z
UID:1482-1696518000-1696532400@pecantownbooks.com
SUMMARY:College Night
DESCRIPTION:Join us every Thursday\, from 3p-7p\, for College Night! Bring your Student ID and get 10% off books\, bites and brews!
URL:https://pecantownbooks.com/event/college-night-11/
LOCATION:Pecantown Books & Brews\, 212 S. Camp Street\, Seguin\, 78155\, United States
ORGANIZER;CN="Kassie Brandt":MAILTO:kassie@pecantownbooks.com
END:VEVENT
BEGIN:VEVENT
DTSTART;TZID=America/New_York:20231001T110000
DTEND;TZID=America/New_York:20231001T120000
DTSTAMP:20260420T225807
CREATED:20230913T143226Z
LAST-MODIFIED:20230913T143226Z
UID:1445-1696158000-1696161600@pecantownbooks.com
SUMMARY:Murder and Mimosas
DESCRIPTION:Join Kassie as she tells the horrible tale of the Long Island Serial killer.
URL:https://pecantownbooks.com/event/murder-and-mimosas-6/
LOCATION:Pecantown Books & Brews\, 212 S. Camp Street\, Seguin\, 78155\, United States
ORGANIZER;CN="Kassie Brandt":MAILTO:kassie@pecantownbooks.com
END:VEVENT
BEGIN:VEVENT
DTSTART;TZID=America/New_York:20230929T100000
DTEND;TZID=America/New_York:20230929T103000
DTSTAMP:20260420T225807
CREATED:20230812T152307Z
LAST-MODIFIED:20230812T152307Z
UID:1351-1695981600-1695983400@pecantownbooks.com
SUMMARY:Story Time
DESCRIPTION:Join us every Friday for Story Time at 10 am. One of our book sellers will read a new or classic story. All ages are welcome.
URL:https://pecantownbooks.com/event/story-time-24/
LOCATION:Pecantown Books & Brews\, 212 S. Camp Street\, Seguin\, 78155\, United States
ORGANIZER;CN="Kassie Brandt":MAILTO:kassie@pecantownbooks.com
END:VEVENT
BEGIN:VEVENT
DTSTART;TZID=America/New_York:20230928T150000
DTEND;TZID=America/New_York:20230928T190000
DTSTAMP:20260420T225807
CREATED:20230812T212858Z
LAST-MODIFIED:20230812T212858Z
UID:1394-1695913200-1695927600@pecantownbooks.com
SUMMARY:College Night
DESCRIPTION:Calling all college students!! Every Thursday\, 3 pm-7 pm show your student ID and get 10% off books\, bites and brews.
URL:https://pecantownbooks.com/event/college-night-10/
LOCATION:Pecantown Books & Brews\, 212 S. Camp Street\, Seguin\, 78155\, United States
ORGANIZER;CN="Kassie Brandt":MAILTO:kassie@pecantownbooks.com
END:VEVENT
BEGIN:VEVENT
DTSTART;TZID=America/New_York:20230927T180000
DTEND;TZID=America/New_York:20230927T190000
DTSTAMP:20260420T225807
CREATED:20230812T161031Z
LAST-MODIFIED:20230812T161118Z
UID:1371-1695837600-1695841200@pecantownbooks.com
SUMMARY:Wine and True Crime
DESCRIPTION:Kassie will be exploring the Long Island Serial Killer Case. She will share some theories\, corruption and the newest revelations in this nationally recognized crime. \n 
URL:https://pecantownbooks.com/event/wine-and-true-crime-9/
LOCATION:Pecantown Books & Brews\, 212 S. Camp Street\, Seguin\, 78155\, United States
ORGANIZER;CN="Kassie Brandt":MAILTO:kassie@pecantownbooks.com
END:VEVENT
BEGIN:VEVENT
DTSTART;TZID=America/New_York:20230923T170000
DTEND;TZID=America/New_York:20230923T190000
DTSTAMP:20260420T225807
CREATED:20230812T200154Z
LAST-MODIFIED:20230812T200318Z
UID:1382-1695488400-1695495600@pecantownbooks.com
SUMMARY:Live Original music with Dennis Jay
DESCRIPTION:Join musician Dennis Jay and his original and public domain music. Come get a glass of beer or wine and enjoy a Mezze Platter on the back porch. Music starts at 5 pm.
URL:https://pecantownbooks.com/event/live-original-music-with-dennis-jay/
LOCATION:Pecantown Books & Brews\, 212 S. Camp Street\, Seguin\, 78155\, United States
ORGANIZER;CN="Kassie Brandt":MAILTO:kassie@pecantownbooks.com
END:VEVENT
BEGIN:VEVENT
DTSTART;TZID=America/New_York:20230922T080000
DTEND;TZID=America/New_York:20230922T170000
DTSTAMP:20260420T225807
CREATED:20230812T152606Z
LAST-MODIFIED:20230812T152606Z
UID:1356-1695369600-1695402000@pecantownbooks.com
SUMMARY:Story Time
DESCRIPTION:Join us every Friday for Story Time at 10 am. One of our book sellers will read a new or classic story. All ages are welcome.
URL:https://pecantownbooks.com/event/story-time-26/
LOCATION:Pecantown Books & Brews\, 212 S. Camp Street\, Seguin\, 78155\, United States
ORGANIZER;CN="Kassie Brandt":MAILTO:kassie@pecantownbooks.com
END:VEVENT
BEGIN:VEVENT
DTSTART;TZID=America/New_York:20230921T150000
DTEND;TZID=America/New_York:20230921T190000
DTSTAMP:20260420T225807
CREATED:20230812T212754Z
LAST-MODIFIED:20230812T212754Z
UID:1392-1695308400-1695322800@pecantownbooks.com
SUMMARY:College Night
DESCRIPTION:Calling all college students!! Every Thursday\, 3 pm-7 pm show your student ID and get 10% off books\, bites and brews.
URL:https://pecantownbooks.com/event/college-night-9/
ORGANIZER;CN="Kassie Brandt":MAILTO:kassie@pecantownbooks.com
END:VEVENT
BEGIN:VEVENT
DTSTART;TZID=America/New_York:20230920T180000
DTEND;TZID=America/New_York:20230920T180000
DTSTAMP:20260420T225807
CREATED:20230812T155310Z
LAST-MODIFIED:20230812T155310Z
UID:1366-1695232800-1695232800@pecantownbooks.com
SUMMARY:Crime/Thriller Book Club
DESCRIPTION:Kassie and her book club will be discussing “The Nightingale Affair” an fictional account of nurses being murdered.
URL:https://pecantownbooks.com/event/crime-thriller-book-club-9/
LOCATION:Pecantown Books & Brews\, 212 S. Camp Street\, Seguin\, 78155\, United States
ORGANIZER;CN="Kassie Brandt":MAILTO:kassie@pecantownbooks.com
END:VEVENT
BEGIN:VEVENT
DTSTART;TZID=America/New_York:20230920T080000
DTEND;TZID=America/New_York:20230920T170000
DTSTAMP:20260420T225807
CREATED:20230920T230924Z
LAST-MODIFIED:20230920T230924Z
UID:1472-1695196800-1695229200@pecantownbooks.com
SUMMARY:Author Mike Lowrie
DESCRIPTION:Join us on Saturday\, October 14th for the Historical Fiction “House of De Zavala.” Author Mike Lowrie will be at Pecantown from 1 pm-3 pm to sign your book and meet the Author. \n  \n 
URL:https://pecantownbooks.com/event/author-mike-lowrie/
LOCATION:Pecantown Books & Brews\, 212 S. Camp Street\, Seguin\, 78155\, United States
ORGANIZER;CN="Kassie Brandt":MAILTO:kassie@pecantownbooks.com
END:VEVENT
BEGIN:VEVENT
DTSTART;TZID=America/New_York:20230916T150000
DTEND;TZID=America/New_York:20230916T190000
DTSTAMP:20260420T225807
CREATED:20230812T191949Z
LAST-MODIFIED:20230812T191949Z
UID:1380-1694876400-1694890800@pecantownbooks.com
SUMMARY:Silent Auction for Teatro de Artes
DESCRIPTION:Join Pecantown Books and Brews September 16th for an Art Show. We are partnering with Teadtro de Artes de Juan Seguin to raise scholarship funds for students. Come from 3-7 for a silent art auction\, food\, drinks and fun!
URL:https://pecantownbooks.com/event/silent-auction-for-teatro-de-artes/
LOCATION:Pecantown Books & Brews\, 212 S. Camp Street\, Seguin\, 78155\, United States
ORGANIZER;CN="Kassie Brandt":MAILTO:kassie@pecantownbooks.com
END:VEVENT
BEGIN:VEVENT
DTSTART;TZID=America/New_York:20230915T170000
DTEND;TZID=America/New_York:20230915T190000
DTSTAMP:20260420T225807
CREATED:20230812T185246Z
LAST-MODIFIED:20230812T185246Z
UID:1378-1694797200-1694804400@pecantownbooks.com
SUMMARY:Live Original music with Dylan Riley
DESCRIPTION:Join us for live and original music by Dylan Riley. He will be playing to kick off our fundraiser for Teatro de Artes de Juan Seguin!
URL:https://pecantownbooks.com/event/live-original-music-with-dylan-riley/
LOCATION:Pecantown Books & Brews\, 212 S. Camp Street\, Seguin\, 78155\, United States
ORGANIZER;CN="Kassie Brandt":MAILTO:kassie@pecantownbooks.com
END:VEVENT
BEGIN:VEVENT
DTSTART;TZID=America/New_York:20230915T100000
DTEND;TZID=America/New_York:20230915T103000
DTSTAMP:20260420T225807
CREATED:20230812T152504Z
LAST-MODIFIED:20230812T152504Z
UID:1354-1694772000-1694773800@pecantownbooks.com
SUMMARY:Story Time
DESCRIPTION:Join us every Friday for Story Time at 10 am. One of our book sellers will read a new or classic story. All ages are welcome.
URL:https://pecantownbooks.com/event/story-time-25/
LOCATION:Pecantown Books & Brews\, 212 S. Camp Street\, Seguin\, 78155\, United States
ORGANIZER;CN="Kassie Brandt":MAILTO:kassie@pecantownbooks.com
END:VEVENT
BEGIN:VEVENT
DTSTART;TZID=America/New_York:20230914T180000
DTEND;TZID=America/New_York:20230914T190000
DTSTAMP:20260420T225807
CREATED:20230812T154913Z
LAST-MODIFIED:20230812T154913Z
UID:1364-1694714400-1694718000@pecantownbooks.com
SUMMARY:Crime/Thriller Book Club
DESCRIPTION:Join Kassie and her book club as they discuss “The Nightingale Affair” on September 14th or September 20th.
URL:https://pecantownbooks.com/event/crime-thriller-book-club-8/
LOCATION:Pecantown Books & Brews\, 212 S. Camp Street\, Seguin\, 78155\, United States
ORGANIZER;CN="Kassie Brandt":MAILTO:kassie@pecantownbooks.com
END:VEVENT
BEGIN:VEVENT
DTSTART;TZID=America/New_York:20230914T150000
DTEND;TZID=America/New_York:20230914T190000
DTSTAMP:20260420T225807
CREATED:20230812T212636Z
LAST-MODIFIED:20230812T212636Z
UID:1390-1694703600-1694718000@pecantownbooks.com
SUMMARY:College Night
DESCRIPTION:Calling all college students!! Every Thursday\, 3 pm-7 pm show your student ID and get 10% off books\, bites and brews.
URL:https://pecantownbooks.com/event/college-night-8/
LOCATION:Pecantown Books & Brews\, 212 S. Camp Street\, Seguin\, 78155\, United States
ORGANIZER;CN="Kassie Brandt":MAILTO:kassie@pecantownbooks.com
END:VEVENT
BEGIN:VEVENT
DTSTART;TZID=America/New_York:20230913T180000
DTEND;TZID=America/New_York:20230913T190000
DTSTAMP:20260420T225807
CREATED:20230812T154538Z
LAST-MODIFIED:20230812T155446Z
UID:1362-1694628000-1694631600@pecantownbooks.com
SUMMARY:Literary Book Club
DESCRIPTION:Tess and her club have been reading “The Librarianist” for the Month of September. Join her for discussion on September 13th.
URL:https://pecantownbooks.com/event/literary-book-club-7/
END:VEVENT
BEGIN:VEVENT
DTSTART;TZID=America/New_York:20230913T130000
DTEND;TZID=America/New_York:20230913T140000
DTSTAMP:20260420T225807
CREATED:20230812T160059Z
LAST-MODIFIED:20230812T160059Z
UID:1368-1694610000-1694613600@pecantownbooks.com
SUMMARY:Postpartum Support
DESCRIPTION:Join us for a discussion on Motherhood and everything related to being a parent. This group wants to cheer you on during your journey. \n  \n 
URL:https://pecantownbooks.com/event/postpartum-support-9/
LOCATION:Pecantown Books & Brews\, 212 S. Camp Street\, Seguin\, 78155\, United States
ORGANIZER;CN="Kassie Brandt":MAILTO:kassie@pecantownbooks.com
END:VEVENT
BEGIN:VEVENT
DTSTART;TZID=America/New_York:20230910T110000
DTEND;TZID=America/New_York:20230910T120000
DTSTAMP:20260420T225807
CREATED:20230812T153148Z
LAST-MODIFIED:20230812T153148Z
UID:1358-1694343600-1694347200@pecantownbooks.com
SUMMARY:Murder and Mimosas
DESCRIPTION:Join Kassie as she tells the terrible story of the San Antonio 4. Join her as she takes you on a modern day witch hunt during the Satanic Panic in the late 90’s and early 00’s.
URL:https://pecantownbooks.com/event/murder-and-mimosas-5/
LOCATION:Pecantown Books & Brews\, 212 S. Camp Street\, Seguin\, 78155\, United States
ORGANIZER;CN="Kassie Brandt":MAILTO:kassie@pecantownbooks.com
END:VEVENT
BEGIN:VEVENT
DTSTART;TZID=America/New_York:20230909T100000
DTEND;TZID=America/New_York:20230909T180000
DTSTAMP:20260420T225807
CREATED:20230812T162214Z
LAST-MODIFIED:20230812T162214Z
UID:1373-1694253600-1694282400@pecantownbooks.com
SUMMARY:K-Pop Day
DESCRIPTION:Pecantown Books and Brews will be hosting our first annual K-POP event. Join us for give aways\, photo ops\, specailty drinks and reading lists inspired by Kim Nomjoon\, the leader of BTS.
URL:https://pecantownbooks.com/event/k-pop-day/
LOCATION:Pecantown Books & Brews\, 212 S. Camp Street\, Seguin\, 78155\, United States
ORGANIZER;CN="Kassie Brandt":MAILTO:kassie@pecantownbooks.com
END:VEVENT
BEGIN:VEVENT
DTSTART;TZID=America/New_York:20230908T100000
DTEND;TZID=America/New_York:20230908T103000
DTSTAMP:20260420T225807
CREATED:20230812T151908Z
LAST-MODIFIED:20230812T151908Z
UID:1347-1694167200-1694169000@pecantownbooks.com
SUMMARY:Story Time
DESCRIPTION:Join us every Friday for Story Time at 10 am. One of our book sellers will read a new or classic story. All ages are welcome.
URL:https://pecantownbooks.com/event/story-time-22/
LOCATION:Pecantown Books & Brews\, 212 S. Camp Street\, Seguin\, 78155\, United States
ORGANIZER;CN="Kassie Brandt":MAILTO:kassie@pecantownbooks.com
END:VEVENT
BEGIN:VEVENT
DTSTART;TZID=America/New_York:20230907T150000
DTEND;TZID=America/New_York:20230907T190000
DTSTAMP:20260420T225807
CREATED:20230812T212529Z
LAST-MODIFIED:20230812T212529Z
UID:1388-1694098800-1694113200@pecantownbooks.com
SUMMARY:College Night
DESCRIPTION:Calling all college students!! Every Thursday\, 3 pm-7 pm show your student ID and get 10% off books\, bites and brews.
URL:https://pecantownbooks.com/event/college-night-7/
LOCATION:Pecantown Books & Brews\, 212 S. Camp Street\, Seguin\, 78155\, United States
ORGANIZER;CN="Kassie Brandt":MAILTO:kassie@pecantownbooks.com
END:VEVENT
BEGIN:VEVENT
DTSTART;TZID=America/New_York:20230905T180000
DTEND;TZID=America/New_York:20230905T190000
DTSTAMP:20260420T225807
CREATED:20230812T154214Z
LAST-MODIFIED:20230812T154214Z
UID:1360-1693936800-1693940400@pecantownbooks.com
SUMMARY:Literary Book Club
DESCRIPTION:Tess and her club have been reading “The Librarianist” for the Month of September. Join her for discussion September 5th or September 13th.
URL:https://pecantownbooks.com/event/literary-book-club-6/
LOCATION:Pecantown Books & Brews\, 212 S. Camp Street\, Seguin\, 78155\, United States
ORGANIZER;CN="Tess Coody-Anders":MAILTO:tess@pecantownbooks.com
END:VEVENT
BEGIN:VEVENT
DTSTART;TZID=America/New_York:20230901T100000
DTEND;TZID=America/New_York:20230901T103000
DTSTAMP:20260420T225807
CREATED:20230812T151740Z
LAST-MODIFIED:20230812T151740Z
UID:1345-1693562400-1693564200@pecantownbooks.com
SUMMARY:Story Time
DESCRIPTION:Join us every Friday for Story Time at 10 am. One of our book sellers will read a new or classic story. All ages are welcome.
URL:https://pecantownbooks.com/event/story-time-21/
LOCATION:Pecantown Books & Brews\, 212 S. Camp Street\, Seguin\, 78155\, United States
ORGANIZER;CN="Kassie Brandt":MAILTO:kassie@pecantownbooks.com
END:VEVENT
BEGIN:VEVENT
DTSTART;TZID=America/New_York:20230831T160000
DTEND;TZID=America/New_York:20230831T190000
DTSTAMP:20260420T225807
CREATED:20230801T160540Z
LAST-MODIFIED:20230801T160540Z
UID:1267-1693497600-1693508400@pecantownbooks.com
SUMMARY:College Night
DESCRIPTION:Every Thursday is College Night at Pecantown Books and Brews! Come get your books\, brews and bites at 10% off with your 23/24 student ID.
URL:https://pecantownbooks.com/event/college-night-4/
LOCATION:Pecantown Books & Brews\, 212 S. Camp Street\, Seguin\, 78155\, United States
ORGANIZER;CN="Kassie Brandt":MAILTO:kassie@pecantownbooks.com
END:VEVENT
BEGIN:VEVENT
DTSTART;TZID=America/New_York:20230831T150000
DTEND;TZID=America/New_York:20230831T190000
DTSTAMP:20260420T225807
CREATED:20230812T212114Z
LAST-MODIFIED:20230812T212114Z
UID:1386-1693494000-1693508400@pecantownbooks.com
SUMMARY:College Night
DESCRIPTION:Calling all college students!! Every Thursday\, 3 pm-7 pm show your student ID and get 10% off books\, bites and brews.
URL:https://pecantownbooks.com/event/college-night-6/
LOCATION:Pecantown Books & Brews\, 212 S. Camp Street\, Seguin\, 78155\, United States
ORGANIZER;CN="Kassie Brandt":MAILTO:kassie@pecantownbooks.com
END:VEVENT
BEGIN:VEVENT
DTSTART;TZID=America/New_York:20230830T180000
DTEND;TZID=America/New_York:20230830T190000
DTSTAMP:20260420T225807
CREATED:20230728T200931Z
LAST-MODIFIED:20230728T200931Z
UID:1242-1693418400-1693422000@pecantownbooks.com
SUMMARY:Wine and True Crime
DESCRIPTION:Kassie will be telling the horrible story of the San Antonio 4. Join her for a glass of wine as she takes you on a journey. Follow a modern day witch hunt that ended up falsely accusing 4 women of abuse of children.
URL:https://pecantownbooks.com/event/wine-and-true-crime-8/
LOCATION:Pecantown Books & Brews\, 212 S. Camp Street\, Seguin\, 78155\, United States
ORGANIZER;CN="Kassie Brandt":MAILTO:kassie@pecantownbooks.com
END:VEVENT
BEGIN:VEVENT
DTSTART;TZID=America/New_York:20230826T130000
DTEND;TZID=America/New_York:20230826T150000
DTSTAMP:20260420T225807
CREATED:20230812T184006Z
LAST-MODIFIED:20230812T184006Z
UID:1376-1693054800-1693062000@pecantownbooks.com
SUMMARY:Author Kit Hawthorne
DESCRIPTION:Author Kit Hawthorne will be here Saturday\, August 26th at 1 pm. Join us for a meet and greet and get her new novel: “Savanna Storm.”
URL:https://pecantownbooks.com/event/author-kit-hawthorne/
LOCATION:Pecantown Books & Brews\, 212 S. Camp Street\, Seguin\, 78155\, United States
ORGANIZER;CN="Kassie Brandt":MAILTO:kassie@pecantownbooks.com
END:VEVENT
BEGIN:VEVENT
DTSTART;TZID=America/New_York:20230825T100000
DTEND;TZID=America/New_York:20230825T103000
DTSTAMP:20260420T225807
CREATED:20230728T193637Z
LAST-MODIFIED:20230728T193637Z
UID:1239-1692957600-1692959400@pecantownbooks.com
SUMMARY:Story Time
DESCRIPTION:Every Friday we have Story Time! Join us for a new or classic tale read by one of our booksellers.
URL:https://pecantownbooks.com/event/story-time-20/
LOCATION:Pecantown Books & Brews\, 212 S. Camp Street\, Seguin\, 78155\, United States
ORGANIZER;CN="Kassie Brandt":MAILTO:kassie@pecantownbooks.com
END:VEVENT
BEGIN:VEVENT
DTSTART;TZID=America/New_York:20230824T160000
DTEND;TZID=America/New_York:20230824T190000
DTSTAMP:20260420T225807
CREATED:20230801T160424Z
LAST-MODIFIED:20230801T160424Z
UID:1265-1692892800-1692903600@pecantownbooks.com
SUMMARY:College Night
DESCRIPTION:Every Thursday is College Night at Pecantown Books and Brews! Come get your books\, brews and bites at 10% off with your 23/24 student ID.
URL:https://pecantownbooks.com/event/college-night-3/
LOCATION:Pecantown Books & Brews\, 212 S. Camp Street\, Seguin\, 78155\, United States
ORGANIZER;CN="Kassie Brandt":MAILTO:kassie@pecantownbooks.com
END:VEVENT
END:VCALENDAR