BEGIN:VCALENDAR
VERSION:2.0
PRODID:-//Pecantown Books &amp; Brews - ECPv6.15.20//NONSGML v1.0//EN
CALSCALE:GREGORIAN
METHOD:PUBLISH
X-WR-CALNAME:Pecantown Books &amp; Brews
X-ORIGINAL-URL:https://pecantownbooks.com
X-WR-CALDESC:Events for Pecantown Books &amp; Brews
REFRESH-INTERVAL;VALUE=DURATION:PT1H
X-Robots-Tag:noindex
X-PUBLISHED-TTL:PT1H
BEGIN:VTIMEZONE
TZID:America/New_York
BEGIN:DAYLIGHT
TZOFFSETFROM:-0500
TZOFFSETTO:-0400
TZNAME:EDT
DTSTART:20220313T070000
END:DAYLIGHT
BEGIN:STANDARD
TZOFFSETFROM:-0400
TZOFFSETTO:-0500
TZNAME:EST
DTSTART:20221106T060000
END:STANDARD
BEGIN:DAYLIGHT
TZOFFSETFROM:-0500
TZOFFSETTO:-0400
TZNAME:EDT
DTSTART:20230312T070000
END:DAYLIGHT
BEGIN:STANDARD
TZOFFSETFROM:-0400
TZOFFSETTO:-0500
TZNAME:EST
DTSTART:20231105T060000
END:STANDARD
BEGIN:DAYLIGHT
TZOFFSETFROM:-0500
TZOFFSETTO:-0400
TZNAME:EDT
DTSTART:20240310T070000
END:DAYLIGHT
BEGIN:STANDARD
TZOFFSETFROM:-0400
TZOFFSETTO:-0500
TZNAME:EST
DTSTART:20241103T060000
END:STANDARD
END:VTIMEZONE
BEGIN:VEVENT
DTSTART;TZID=America/New_York:20230831T150000
DTEND;TZID=America/New_York:20230831T190000
DTSTAMP:20260421T014404
CREATED:20230812T212114Z
LAST-MODIFIED:20230812T212114Z
UID:1386-1693494000-1693508400@pecantownbooks.com
SUMMARY:College Night
DESCRIPTION:Calling all college students!! Every Thursday\, 3 pm-7 pm show your student ID and get 10% off books\, bites and brews.
URL:https://pecantownbooks.com/event/college-night-6/
LOCATION:Pecantown Books & Brews\, 212 S. Camp Street\, Seguin\, 78155\, United States
ORGANIZER;CN="Kassie Brandt":MAILTO:kassie@pecantownbooks.com
END:VEVENT
BEGIN:VEVENT
DTSTART;TZID=America/New_York:20230830T180000
DTEND;TZID=America/New_York:20230830T190000
DTSTAMP:20260421T014404
CREATED:20230728T200931Z
LAST-MODIFIED:20230728T200931Z
UID:1242-1693418400-1693422000@pecantownbooks.com
SUMMARY:Wine and True Crime
DESCRIPTION:Kassie will be telling the horrible story of the San Antonio 4. Join her for a glass of wine as she takes you on a journey. Follow a modern day witch hunt that ended up falsely accusing 4 women of abuse of children.
URL:https://pecantownbooks.com/event/wine-and-true-crime-8/
LOCATION:Pecantown Books & Brews\, 212 S. Camp Street\, Seguin\, 78155\, United States
ORGANIZER;CN="Kassie Brandt":MAILTO:kassie@pecantownbooks.com
END:VEVENT
BEGIN:VEVENT
DTSTART;TZID=America/New_York:20230826T130000
DTEND;TZID=America/New_York:20230826T150000
DTSTAMP:20260421T014404
CREATED:20230812T184006Z
LAST-MODIFIED:20230812T184006Z
UID:1376-1693054800-1693062000@pecantownbooks.com
SUMMARY:Author Kit Hawthorne
DESCRIPTION:Author Kit Hawthorne will be here Saturday\, August 26th at 1 pm. Join us for a meet and greet and get her new novel: “Savanna Storm.”
URL:https://pecantownbooks.com/event/author-kit-hawthorne/
LOCATION:Pecantown Books & Brews\, 212 S. Camp Street\, Seguin\, 78155\, United States
ORGANIZER;CN="Kassie Brandt":MAILTO:kassie@pecantownbooks.com
END:VEVENT
BEGIN:VEVENT
DTSTART;TZID=America/New_York:20230825T100000
DTEND;TZID=America/New_York:20230825T103000
DTSTAMP:20260421T014404
CREATED:20230728T193637Z
LAST-MODIFIED:20230728T193637Z
UID:1239-1692957600-1692959400@pecantownbooks.com
SUMMARY:Story Time
DESCRIPTION:Every Friday we have Story Time! Join us for a new or classic tale read by one of our booksellers.
URL:https://pecantownbooks.com/event/story-time-20/
LOCATION:Pecantown Books & Brews\, 212 S. Camp Street\, Seguin\, 78155\, United States
ORGANIZER;CN="Kassie Brandt":MAILTO:kassie@pecantownbooks.com
END:VEVENT
BEGIN:VEVENT
DTSTART;TZID=America/New_York:20230824T160000
DTEND;TZID=America/New_York:20230824T190000
DTSTAMP:20260421T014404
CREATED:20230801T160424Z
LAST-MODIFIED:20230801T160424Z
UID:1265-1692892800-1692903600@pecantownbooks.com
SUMMARY:College Night
DESCRIPTION:Every Thursday is College Night at Pecantown Books and Brews! Come get your books\, brews and bites at 10% off with your 23/24 student ID.
URL:https://pecantownbooks.com/event/college-night-3/
LOCATION:Pecantown Books & Brews\, 212 S. Camp Street\, Seguin\, 78155\, United States
ORGANIZER;CN="Kassie Brandt":MAILTO:kassie@pecantownbooks.com
END:VEVENT
BEGIN:VEVENT
DTSTART;TZID=America/New_York:20230824T150000
DTEND;TZID=America/New_York:20230824T190000
DTSTAMP:20260421T014404
CREATED:20230812T211958Z
LAST-MODIFIED:20230812T211958Z
UID:1384-1692889200-1692903600@pecantownbooks.com
SUMMARY:College Night
DESCRIPTION:Calling all college students!! Every Thursday\, 3 pm-7 pm show your student ID and get 10% off books\, bites and brews.
URL:https://pecantownbooks.com/event/college-night-5/
LOCATION:Pecantown Books & Brews\, 212 S. Camp Street\, Seguin\, 78155\, United States
ORGANIZER;CN="Kassie Brandt":MAILTO:kassie@pecantownbooks.com
END:VEVENT
BEGIN:VEVENT
DTSTART;TZID=America/New_York:20230819T140000
DTEND;TZID=America/New_York:20230819T153000
DTSTAMP:20260421T014404
CREATED:20230728T193236Z
LAST-MODIFIED:20230801T155138Z
UID:1237-1692453600-1692459000@pecantownbooks.com
SUMMARY:Author and Speaker Marcus Goodloe
DESCRIPTION:Join us on Saturday\, August 19th for a meet and greet with Author and Speaker Marcus “Goodie” Goodloe. He will be signing his books\, meeting members of the community and sharing his inspiration from 2 pm-3:30 pm.
URL:https://pecantownbooks.com/event/author-and-speaker-marcus-goodloe/
LOCATION:Pecantown Books & Brews\, 212 S. Camp Street\, Seguin\, 78155\, United States
ORGANIZER;CN="Kassie Brandt":MAILTO:kassie@pecantownbooks.com
END:VEVENT
BEGIN:VEVENT
DTSTART;TZID=America/New_York:20230819T100000
DTEND;TZID=America/New_York:20230819T103000
DTSTAMP:20260421T014404
CREATED:20230812T152100Z
LAST-MODIFIED:20230812T152100Z
UID:1349-1692439200-1692441000@pecantownbooks.com
SUMMARY:Story Time
DESCRIPTION:Join us every Friday for Story Time at 10 am. One of our book sellers will read a new or classic story. All ages are welcome.
URL:https://pecantownbooks.com/event/story-time-23/
LOCATION:Pecantown Books & Brews\, 212 S. Camp Street\, Seguin\, 78155\, United States
ORGANIZER;CN="Kassie Brandt":MAILTO:kassie@pecantownbooks.com
END:VEVENT
BEGIN:VEVENT
DTSTART;TZID=America/New_York:20230818T100000
DTEND;TZID=America/New_York:20230818T103000
DTSTAMP:20260421T014404
CREATED:20230726T215602Z
LAST-MODIFIED:20230726T215602Z
UID:1223-1692352800-1692354600@pecantownbooks.com
SUMMARY:Story Time
DESCRIPTION:Every Friday at 10 am Pecantown Books and Brews hosts Story Time. Kids of all ages should join us for a classic or a new story.
URL:https://pecantownbooks.com/event/story-time-19/
LOCATION:Pecantown Books & Brews\, 212 S. Camp Street\, Seguin\, 78155\, United States
ORGANIZER;CN="Kassie Brandt":MAILTO:kassie@pecantownbooks.com
END:VEVENT
BEGIN:VEVENT
DTSTART;TZID=America/New_York:20230817T160000
DTEND;TZID=America/New_York:20230817T190000
DTSTAMP:20260421T014404
CREATED:20230801T160306Z
LAST-MODIFIED:20230801T160306Z
UID:1262-1692288000-1692298800@pecantownbooks.com
SUMMARY:College Night
DESCRIPTION:Every Thursday is College Night at Pecantown Books and Brews! Come get your books\, brews and bites at 10% off with your 23/24 student ID.
URL:https://pecantownbooks.com/event/college-night-2/
LOCATION:Pecantown Books & Brews\, 212 S. Camp Street\, Seguin\, 78155\, United States
ORGANIZER;CN="Kassie Brandt":MAILTO:kassie@pecantownbooks.com
END:VEVENT
BEGIN:VEVENT
DTSTART;TZID=America/New_York:20230816T180000
DTEND;TZID=America/New_York:20230816T190000
DTSTAMP:20260421T014404
CREATED:20230726T215133Z
LAST-MODIFIED:20230726T215133Z
UID:1218-1692208800-1692212400@pecantownbooks.com
SUMMARY:Crime/Thriller Book Club
DESCRIPTION:Join us to discuss “Mad Man in the Woods” by Jamie Gehring. We will be meeting August 16th at 6 pm. Email kassie@pecantownbooks.com for more information.
URL:https://pecantownbooks.com/event/crime-thriller-book-club-7/
LOCATION:Pecantown Books & Brews\, 212 S. Camp Street\, Seguin\, 78155\, United States
ORGANIZER;CN="Kassie Brandt":MAILTO:kassie@pecantownbooks.com
END:VEVENT
BEGIN:VEVENT
DTSTART;TZID=America/New_York:20230813T110000
DTEND;TZID=America/New_York:20230813T120000
DTSTAMP:20260421T014404
CREATED:20230727T151558Z
LAST-MODIFIED:20230727T151558Z
UID:1230-1691924400-1691928000@pecantownbooks.com
SUMMARY:Murder and Mimosa
DESCRIPTION:Sunday\, August 13th at 11 am Kassie will be telling the story of Vanessa Guillen and the changes that came after her murder.
URL:https://pecantownbooks.com/event/murder-and-mimosa-2/
LOCATION:Pecantown Books & Brews\, 212 S. Camp Street\, Seguin\, 78155\, United States
ORGANIZER;CN="Kassie Brandt":MAILTO:kassie@pecantownbooks.com
END:VEVENT
BEGIN:VEVENT
DTSTART;TZID=America/New_York:20230811T100000
DTEND;TZID=America/New_York:20230811T103000
DTSTAMP:20260421T014404
CREATED:20230726T215412Z
LAST-MODIFIED:20230726T215412Z
UID:1220-1691748000-1691749800@pecantownbooks.com
SUMMARY:Story Time
DESCRIPTION:Every Friday at 10 am Pecantown Books and Brews hosts Story Time. Kids of all ages should join us for a classic or a new story.
URL:https://pecantownbooks.com/event/story-time-18/
LOCATION:Pecantown Books & Brews\, 212 S. Camp Street\, Seguin\, 78155\, United States
ORGANIZER;CN="Kassie Brandt":MAILTO:kassie@pecantownbooks.com
END:VEVENT
BEGIN:VEVENT
DTSTART;TZID=America/New_York:20230810T180000
DTEND;TZID=America/New_York:20230810T190000
DTSTAMP:20260421T014404
CREATED:20230726T214839Z
LAST-MODIFIED:20230726T214839Z
UID:1216-1691690400-1691694000@pecantownbooks.com
SUMMARY:Crime/Thriller Book Club
DESCRIPTION:This month we are reading a True Crime novel written by Jamie Gehring about her life living next door to the unibomber. “Mad Man in the Woods” will be discussed August 10th and August 16th at 6 pm.
URL:https://pecantownbooks.com/event/crime-thriller-book-club-6/
LOCATION:Pecantown Books & Brews\, 212 S. Camp Street\, Seguin\, 78155\, United States
ORGANIZER;CN="Kassie Brandt":MAILTO:kassie@pecantownbooks.com
END:VEVENT
BEGIN:VEVENT
DTSTART;TZID=America/New_York:20230810T173000
DTEND;TZID=America/New_York:20230810T190000
DTSTAMP:20260421T014404
CREATED:20230729T143943Z
LAST-MODIFIED:20230729T143943Z
UID:1245-1691688600-1691694000@pecantownbooks.com
SUMMARY:Poetry Workshop
DESCRIPTION:Last Poetry workshop of the Summer. We had such a great time discussing poetry with you! Watch for fall programs. \n 
URL:https://pecantownbooks.com/event/poetry-workshop/
LOCATION:Pecantown Books & Brews\, 212 S. Camp Street\, Seguin\, 78155\, United States
ORGANIZER;CN="Kassie Brandt":MAILTO:kassie@pecantownbooks.com
END:VEVENT
BEGIN:VEVENT
DTSTART;TZID=America/New_York:20230810T160000
DTEND;TZID=America/New_York:20230810T190000
DTSTAMP:20260421T014404
CREATED:20230801T160115Z
LAST-MODIFIED:20230801T160115Z
UID:1259-1691683200-1691694000@pecantownbooks.com
SUMMARY:College Night
DESCRIPTION:Every Thursday is College Night at Pecantown Books and Brews! Come get your books\, brews and bites at 10% off with your 23/24 student ID.
URL:https://pecantownbooks.com/event/college-night/
LOCATION:Pecantown Books & Brews\, 212 S. Camp Street\, Seguin\, 78155\, United States
ORGANIZER;CN="Kassie Brandt":MAILTO:kassie@pecantownbooks.com
END:VEVENT
BEGIN:VEVENT
DTSTART;TZID=America/New_York:20230809T180000
DTEND;TZID=America/New_York:20230809T190000
DTSTAMP:20260421T014404
CREATED:20230726T214213Z
LAST-MODIFIED:20230726T214213Z
UID:1214-1691604000-1691607600@pecantownbooks.com
SUMMARY:Literary Book Club
DESCRIPTION:Join Tess and discuss Halcyon by Elliot Ackerman. This book club will meet on August 1st at 6pm and August 9th at 6pm. Email tess@pecantownbooks.com for more information.
URL:https://pecantownbooks.com/event/literary-book-club-5/
LOCATION:Pecantown Books & Brews\, 212 S. Camp Street\, Seguin\, 78155\, United States
ORGANIZER;CN="Tess Coody-Anders":MAILTO:tess@pecantownbooks.com
END:VEVENT
BEGIN:VEVENT
DTSTART;TZID=America/New_York:20230809T130000
DTEND;TZID=America/New_York:20230809T140000
DTSTAMP:20260421T014404
CREATED:20230727T150341Z
LAST-MODIFIED:20230727T150341Z
UID:1226-1691586000-1691589600@pecantownbooks.com
SUMMARY:Postpartum Support
DESCRIPTION:Luminary Birth Center will be here to talk about tools and ideas for post birth “Baby Blues” and how it can take time to feel “normal.” Join us at 1 pm on August 9th.
URL:https://pecantownbooks.com/event/postpartum-support-8/
LOCATION:Pecantown Books & Brews\, 212 S. Camp Street\, Seguin\, 78155\, United States
ORGANIZER;CN="Kassie Brandt":MAILTO:kassie@pecantownbooks.com
END:VEVENT
BEGIN:VEVENT
DTSTART;TZID=America/New_York:20230808T173000
DTEND;TZID=America/New_York:20230808T193000
DTSTAMP:20260421T014404
CREATED:20230726T212008Z
LAST-MODIFIED:20230726T212008Z
UID:1206-1691515800-1691523000@pecantownbooks.com
SUMMARY:Cook The Book with Chef Fox
DESCRIPTION:Hurry\, before the spots are gone! Chef Fox will be leading a class that has interactive components. Get your spot\, copy of the book\, and join us for a pot luck style book club.
URL:https://pecantownbooks.com/event/cook-the-book-with-chef-fox/
LOCATION:Pecantown Books & Brews\, 212 S. Camp Street\, Seguin\, 78155\, United States
ORGANIZER;CN="Kassie Brandt":MAILTO:kassie@pecantownbooks.com
END:VEVENT
BEGIN:VEVENT
DTSTART;TZID=America/New_York:20230806T110000
DTEND;TZID=America/New_York:20230806T130000
DTSTAMP:20260421T014404
CREATED:20230726T205355Z
LAST-MODIFIED:20230726T205355Z
UID:1203-1691319600-1691326800@pecantownbooks.com
SUMMARY:Author Sidney Balman
DESCRIPTION:Join us and author Sidney Balman Jr. as they discuss the novel Algorithms on August 6th at 11 am.
URL:https://pecantownbooks.com/event/author-sidney-balman/
LOCATION:Pecantown Books & Brews\, 212 S. Camp Street\, Seguin\, 78155\, United States
ORGANIZER;CN="Kassie Brandt":MAILTO:kassie@pecantownbooks.com
END:VEVENT
BEGIN:VEVENT
DTSTART;TZID=America/New_York:20230804T100000
DTEND;TZID=America/New_York:20230804T223000
DTSTAMP:20260421T014404
CREATED:20230724T145159Z
LAST-MODIFIED:20230724T145159Z
UID:1197-1691143200-1691188200@pecantownbooks.com
SUMMARY:Story Time
DESCRIPTION:Every Friday at 10 am\, Pecantown Books and Brews host a story time. Everyone is welcome to hear a new or sometimes a classic children’s story read by one of our booksellers.
URL:https://pecantownbooks.com/event/story-time-17/
LOCATION:Pecantown Books & Brews\, 212 S. Camp Street\, Seguin\, 78155\, United States
ORGANIZER;CN="Kassie Brandt":MAILTO:kassie@pecantownbooks.com
END:VEVENT
BEGIN:VEVENT
DTSTART;TZID=America/New_York:20230801T180000
DTEND;TZID=America/New_York:20230801T190000
DTSTAMP:20260421T014404
CREATED:20230726T213524Z
LAST-MODIFIED:20230726T213631Z
UID:1210-1690912800-1690916400@pecantownbooks.com
SUMMARY:Literary Book Club
DESCRIPTION:Join Tess and discuss Halcyon by Elliot Ackerman. This book club will meet on August 1st at 6pm and August 9th at 6pm. Email tess@pecantownbooks.com for more information.
URL:https://pecantownbooks.com/event/literary-book-club-4/
LOCATION:Pecantown Books & Brews\, 212 S. Camp Street\, Seguin\, 78155\, United States
ORGANIZER;CN="Kassie Brandt":MAILTO:kassie@pecantownbooks.com
END:VEVENT
BEGIN:VEVENT
DTSTART;TZID=America/New_York:20230801T140000
DTEND;TZID=America/New_York:20230801T150000
DTSTAMP:20260421T014404
CREATED:20230724T141955Z
LAST-MODIFIED:20230724T144332Z
UID:1191-1690898400-1690902000@pecantownbooks.com
SUMMARY:Kids Writing Workshop
DESCRIPTION:Last workshop for the summer.  We look forward to finishing our writing pieces.
URL:https://pecantownbooks.com/event/kids-writing-workshop-5/
LOCATION:Pecantown Books & Brews\, 212 S. Camp Street\, Seguin\, 78155\, United States
ORGANIZER;CN="Kassie Brandt":MAILTO:kassie@pecantownbooks.com
END:VEVENT
BEGIN:VEVENT
DTSTART;TZID=America/New_York:20230729T130000
DTEND;TZID=America/New_York:20230729T150000
DTSTAMP:20260421T014404
CREATED:20230629T213914Z
LAST-MODIFIED:20230629T213914Z
UID:1169-1690635600-1690642800@pecantownbooks.com
SUMMARY:Poet Bianca Alyssa Perez
DESCRIPTION:Join Poet and Author Bianca Alyssa Perez as she shares her book Gemini Gospel. She will be reading from her published work; email kassie@pecantownbooks.com for more information.
URL:https://pecantownbooks.com/event/poet-bianca-alyssa-perez/
LOCATION:Pecantown Books & Brews\, 212 S. Camp Street\, Seguin\, 78155\, United States
ORGANIZER;CN="Kassie Brandt":MAILTO:kassie@pecantownbooks.com
END:VEVENT
BEGIN:VEVENT
DTSTART;TZID=America/New_York:20230728T100000
DTEND;TZID=America/New_York:20230728T103000
DTSTAMP:20260421T014404
CREATED:20230629T203828Z
LAST-MODIFIED:20230629T203828Z
UID:1131-1690538400-1690540200@pecantownbooks.com
SUMMARY:Story Time
DESCRIPTION:Join us every Friday for a story. Sometimes it is a classic\, sometimes it is a new story\, always a story for everyone. No age limit\, everyone is welcome. 10 am -10:30 am.
URL:https://pecantownbooks.com/event/story-time-16/
LOCATION:Pecantown Books & Brews\, 212 S. Camp Street\, Seguin\, 78155\, United States
ORGANIZER;CN="Kassie Brandt":MAILTO:kassie@pecantownbooks.com
END:VEVENT
BEGIN:VEVENT
DTSTART;TZID=America/New_York:20230727T173000
DTEND;TZID=America/New_York:20230727T190000
DTSTAMP:20260421T014404
CREATED:20230629T205851Z
LAST-MODIFIED:20230629T205851Z
UID:1148-1690479000-1690484400@pecantownbooks.com
SUMMARY:Adult and Teen Writing Workshop
DESCRIPTION:Tess Coody-Anders is sharing her MFA experience and encouraging poets on their artistic journey. Email tess@pecantownbooks.com for more information.
URL:https://pecantownbooks.com/event/adult-and-teen-writing-workshop-2/
LOCATION:Pecantown Books & Brews\, 212 S. Camp Street\, Seguin\, 78155\, United States
ORGANIZER;CN="Tess Coody-Anders":MAILTO:tess@pecantownbooks.com
END:VEVENT
BEGIN:VEVENT
DTSTART;TZID=America/New_York:20230726T180000
DTEND;TZID=America/New_York:20230726T190000
DTSTAMP:20260421T014404
CREATED:20230629T215328Z
LAST-MODIFIED:20230629T215328Z
UID:1171-1690394400-1690398000@pecantownbooks.com
SUMMARY:Wine and True Crime
DESCRIPTION:Kassie is going to share the story of Vanessa Guillem and the horrible behavior of Fort Hood Leadership. (Now called Fort Cavaros)
URL:https://pecantownbooks.com/event/wine-and-true-crime-7/
LOCATION:Pecantown Books & Brews\, 212 S. Camp Street\, Seguin\, 78155\, United States
ORGANIZER;CN="Kassie Brandt":MAILTO:kassie@pecantownbooks.com
END:VEVENT
BEGIN:VEVENT
DTSTART;TZID=America/New_York:20230725T020000
DTEND;TZID=America/New_York:20230725T150000
DTSTAMP:20260421T014404
CREATED:20230629T205130Z
LAST-MODIFIED:20230629T205130Z
UID:1141-1690250400-1690297200@pecantownbooks.com
SUMMARY:Kids Writing Workshop
DESCRIPTION:Kassie Brandt is teaching a writing class. If you haven’t signed up\, you still have 2 classes! $50 for the course. Email kassie@pecantownbooks.com for more information.
URL:https://pecantownbooks.com/event/kids-writing-workshop-4/
LOCATION:Pecantown Books & Brews\, 212 S. Camp Street\, Seguin\, 78155\, United States
ORGANIZER;CN="Kassie Brandt":MAILTO:kassie@pecantownbooks.com
END:VEVENT
BEGIN:VEVENT
DTSTART;TZID=America/New_York:20230722T130000
DTEND;TZID=America/New_York:20230722T150000
DTSTAMP:20260421T014404
CREATED:20230629T213302Z
LAST-MODIFIED:20230630T212515Z
UID:1166-1690030800-1690038000@pecantownbooks.com
SUMMARY:Book Signing and Author Discussion
DESCRIPTION:Join Editor and Author Thelma Young Lutuatabua to discuss the complex issues of climate change. \n 
URL:https://pecantownbooks.com/event/book-signing-and-author-discussion/
LOCATION:Pecantown Books & Brews\, 212 S. Camp Street\, Seguin\, 78155\, United States
ORGANIZER;CN="Kassie Brandt":MAILTO:kassie@pecantownbooks.com
END:VEVENT
BEGIN:VEVENT
DTSTART;TZID=America/New_York:20230721T100000
DTEND;TZID=America/New_York:20230721T223000
DTSTAMP:20260421T014404
CREATED:20230629T203620Z
LAST-MODIFIED:20230629T203620Z
UID:1128-1689933600-1689978600@pecantownbooks.com
SUMMARY:Story Time
DESCRIPTION:Join us every Friday for a story. Sometimes it is a classic\, sometimes it is a new story\, always a story for everyone. No age limit\, everyone is welcome. 10 am -10:30 am.
URL:https://pecantownbooks.com/event/story-time-15/
LOCATION:Pecantown Books & Brews\, 212 S. Camp Street\, Seguin\, 78155\, United States
ORGANIZER;CN="Kassie Brandt":MAILTO:kassie@pecantownbooks.com
END:VEVENT
END:VCALENDAR