BEGIN:VCALENDAR
VERSION:2.0
PRODID:-//Pecantown Books &amp; Brews - ECPv6.15.20//NONSGML v1.0//EN
CALSCALE:GREGORIAN
METHOD:PUBLISH
X-WR-CALNAME:Pecantown Books &amp; Brews
X-ORIGINAL-URL:https://pecantownbooks.com
X-WR-CALDESC:Events for Pecantown Books &amp; Brews
REFRESH-INTERVAL;VALUE=DURATION:PT1H
X-Robots-Tag:noindex
X-PUBLISHED-TTL:PT1H
BEGIN:VTIMEZONE
TZID:America/New_York
BEGIN:DAYLIGHT
TZOFFSETFROM:-0500
TZOFFSETTO:-0400
TZNAME:EDT
DTSTART:20210314T070000
END:DAYLIGHT
BEGIN:STANDARD
TZOFFSETFROM:-0400
TZOFFSETTO:-0500
TZNAME:EST
DTSTART:20211107T060000
END:STANDARD
BEGIN:DAYLIGHT
TZOFFSETFROM:-0500
TZOFFSETTO:-0400
TZNAME:EDT
DTSTART:20220313T070000
END:DAYLIGHT
BEGIN:STANDARD
TZOFFSETFROM:-0400
TZOFFSETTO:-0500
TZNAME:EST
DTSTART:20221106T060000
END:STANDARD
BEGIN:DAYLIGHT
TZOFFSETFROM:-0500
TZOFFSETTO:-0400
TZNAME:EDT
DTSTART:20230312T070000
END:DAYLIGHT
BEGIN:STANDARD
TZOFFSETFROM:-0400
TZOFFSETTO:-0500
TZNAME:EST
DTSTART:20231105T060000
END:STANDARD
BEGIN:DAYLIGHT
TZOFFSETFROM:-0500
TZOFFSETTO:-0400
TZNAME:EDT
DTSTART:20240310T070000
END:DAYLIGHT
BEGIN:STANDARD
TZOFFSETFROM:-0400
TZOFFSETTO:-0500
TZNAME:EST
DTSTART:20241103T060000
END:STANDARD
END:VTIMEZONE
BEGIN:VTIMEZONE
TZID:America/Chicago
BEGIN:DAYLIGHT
TZOFFSETFROM:-0600
TZOFFSETTO:-0500
TZNAME:CDT
DTSTART:20210314T080000
END:DAYLIGHT
BEGIN:STANDARD
TZOFFSETFROM:-0500
TZOFFSETTO:-0600
TZNAME:CST
DTSTART:20211107T070000
END:STANDARD
BEGIN:DAYLIGHT
TZOFFSETFROM:-0600
TZOFFSETTO:-0500
TZNAME:CDT
DTSTART:20220313T080000
END:DAYLIGHT
BEGIN:STANDARD
TZOFFSETFROM:-0500
TZOFFSETTO:-0600
TZNAME:CST
DTSTART:20221106T070000
END:STANDARD
BEGIN:DAYLIGHT
TZOFFSETFROM:-0600
TZOFFSETTO:-0500
TZNAME:CDT
DTSTART:20230312T080000
END:DAYLIGHT
BEGIN:STANDARD
TZOFFSETFROM:-0500
TZOFFSETTO:-0600
TZNAME:CST
DTSTART:20231105T070000
END:STANDARD
END:VTIMEZONE
BEGIN:VEVENT
DTSTART;TZID=America/New_York:20230224T100000
DTEND;TZID=America/New_York:20230224T103000
DTSTAMP:20260421T210649
CREATED:20230204T184442Z
LAST-MODIFIED:20230204T184442Z
UID:896-1677232800-1677234600@pecantownbooks.com
SUMMARY:Story Time
DESCRIPTION:Join us every Friday at 10 am for Story Time! We have a story\, sometimes a craft\, always a smile. Email kassie@pecantownbooks.com
URL:https://pecantownbooks.com/event/story-time-2/
ORGANIZER;CN="Kassie Brandt":MAILTO:kassie@pecantownbooks.com
END:VEVENT
BEGIN:VEVENT
DTSTART;TZID=America/New_York:20230222T183000
DTEND;TZID=America/New_York:20230222T193000
DTSTAMP:20260421T210649
CREATED:20230204T184024Z
LAST-MODIFIED:20230204T184024Z
UID:893-1677090600-1677094200@pecantownbooks.com
SUMMARY:Wine and True Crime
DESCRIPTION:This Month\, Kassie will be telling you the true and unsolved case of D.B. Cooper. Watch Facebook\, Instagram or eventbrite for tickets.
URL:https://pecantownbooks.com/event/wine-and-true-crime-3/
LOCATION:Pecantown Books & Brews\, 212 S. Camp Street\, Seguin\, 78155\, United States
ORGANIZER;CN="Kassie Brandt":MAILTO:kassie@pecantownbooks.com
END:VEVENT
BEGIN:VEVENT
DTSTART;TZID=America/New_York:20230218T170000
DTEND;TZID=America/New_York:20230218T180000
DTSTAMP:20260421T210649
CREATED:20230204T183440Z
LAST-MODIFIED:20230218T162103Z
UID:890-1676739600-1676743200@pecantownbooks.com
SUMMARY:POETRY NIGHT
DESCRIPTION:  \nPoet Duggan Flanakin will be here to share his prose on February 18th at 5 pm\, followed by an open floor for those who would like to share up to three poems. Sign up in-store this evening! \n  \n  \n 
URL:https://pecantownbooks.com/event/poetry-night-2/
LOCATION:Pecantown Books & Brews\, 212 S. Camp Street\, Seguin\, 78155\, United States
ORGANIZER;CN="Tess Coody-Anders":MAILTO:tess@pecantownbooks.com
END:VEVENT
BEGIN:VEVENT
DTSTART;TZID=America/New_York:20230218T130000
DTEND;TZID=America/New_York:20230218T150000
DTSTAMP:20260421T210649
CREATED:20230204T181737Z
LAST-MODIFIED:20230204T181737Z
UID:886-1676725200-1676732400@pecantownbooks.com
SUMMARY:Book Signing with Author Kit Hawthorne
DESCRIPTION:Join us February 18th for a book signing. Author Kit Hawthorne’s new book “Her Valentine Cowboy” will be available at 1 pm.
URL:https://pecantownbooks.com/event/book-signing-with-kit-hawthorne/
ORGANIZER;CN="Kassie Brandt":MAILTO:kassie@pecantownbooks.com
END:VEVENT
BEGIN:VEVENT
DTSTART;TZID=America/New_York:20230217T100000
DTEND;TZID=America/New_York:20230217T103000
DTSTAMP:20260421T210649
CREATED:20230204T185054Z
LAST-MODIFIED:20230204T185054Z
UID:902-1676628000-1676629800@pecantownbooks.com
SUMMARY:Story Time
DESCRIPTION:Join us every Friday at 10 am for Story Time! We have a story\, sometimes a craft\, always a smile. Email kassie@pecantownbooks.com
URL:https://pecantownbooks.com/event/story-time-4/
LOCATION:Pecantown Books & Brews\, 212 S. Camp Street\, Seguin\, 78155\, United States
ORGANIZER;CN="Kassie Brandt":MAILTO:kassie@pecantownbooks.com
END:VEVENT
BEGIN:VEVENT
DTSTART;TZID=America/New_York:20230215T180000
DTEND;TZID=America/New_York:20230215T193000
DTSTAMP:20260421T210649
CREATED:20230204T181302Z
LAST-MODIFIED:20230204T181302Z
UID:884-1676484000-1676489400@pecantownbooks.com
SUMMARY:Crime/Thriller/Suspense Book Club
DESCRIPTION:Kassie has a fun book “The Villa” by Rachel Hawkins. Message kassie@pecantownbooks.com to get your copy and join our book club. \n  \n 
URL:https://pecantownbooks.com/event/crime-thriller-suspense-book-club/
LOCATION:Pecantown Books & Brews\, 212 S. Camp Street\, Seguin\, 78155\, United States
ORGANIZER;CN="Kassie Brandt":MAILTO:kassie@pecantownbooks.com
END:VEVENT
BEGIN:VEVENT
DTSTART;TZID=America/New_York:20230214T173000
DTEND;TZID=America/New_York:20230214T193000
DTSTAMP:20260421T210649
CREATED:20230204T180728Z
LAST-MODIFIED:20230204T180728Z
UID:882-1676395800-1676403000@pecantownbooks.com
SUMMARY:Valentine's Day Dinner Event
DESCRIPTION:Grab your tickets for a romantic evening here at Pecantown Books & Brews. Email tess@pecantownbooks.com to see if there is room on the list. \n 
URL:https://pecantownbooks.com/event/valentines-day-dinner-event/
ORGANIZER;CN="Tess Coody-Anders":MAILTO:tess@pecantownbooks.com
END:VEVENT
BEGIN:VEVENT
DTSTART;TZID=America/New_York:20230211T170000
DTEND;TZID=America/New_York:20230211T190000
DTSTAMP:20260421T210649
CREATED:20230204T180308Z
LAST-MODIFIED:20230204T180308Z
UID:879-1676134800-1676142000@pecantownbooks.com
SUMMARY:Live Music with Joe Martin Ricke
DESCRIPTION:Join us for live music from 5-7 on February 11th!
URL:https://pecantownbooks.com/event/live-music-with-joe-martin-ricke/
LOCATION:Pecantown Books & Brews\, 212 S. Camp Street\, Seguin\, 78155\, United States
ORGANIZER;CN="Kassie Brandt":MAILTO:kassie@pecantownbooks.com
END:VEVENT
BEGIN:VEVENT
DTSTART;TZID=America/New_York:20230210T100000
DTEND;TZID=America/New_York:20230210T103000
DTSTAMP:20260421T210649
CREATED:20230210T060049Z
LAST-MODIFIED:20230204T180434Z
UID:873-1676023200-1676025000@pecantownbooks.com
SUMMARY:Story Time
DESCRIPTION:Every Friday!
URL:https://pecantownbooks.com/event/story-time/
LOCATION:Pecantown Books & Brews\, 212 S. Camp Street\, Seguin\, 78155\, United States
ORGANIZER;CN="Kassie Brandt":MAILTO:kassie@pecantownbooks.com
END:VEVENT
BEGIN:VEVENT
DTSTART;TZID=America/New_York:20230210T100000
DTEND;TZID=America/New_York:20230210T103000
DTSTAMP:20260421T210649
CREATED:20230204T184655Z
LAST-MODIFIED:20230204T184655Z
UID:899-1676023200-1676025000@pecantownbooks.com
SUMMARY:Story Time
DESCRIPTION:Join us every Friday at 10 am for Story Time! We have a story\, sometimes a craft\, always a smile. Email kassie@pecantownbooks.com
URL:https://pecantownbooks.com/event/story-time-3/
LOCATION:Pecantown Books & Brews\, 212 S. Camp Street\, Seguin\, 78155\, United States
ORGANIZER;CN="Kassie Brandt":MAILTO:kassie@pecantownbooks.com
END:VEVENT
BEGIN:VEVENT
DTSTART;TZID=America/New_York:20230208T130000
DTEND;TZID=America/New_York:20230208T140000
DTSTAMP:20260421T210649
CREATED:20230204T175000Z
LAST-MODIFIED:20230204T175000Z
UID:870-1675861200-1675864800@pecantownbooks.com
SUMMARY:Postpartum Support
DESCRIPTION:Representatives from the Department of Health and Safety will be here to answer questions and calm our anxiety around safety. Wednesday\, February 8th at 1 pm\, Children are welcome.
URL:https://pecantownbooks.com/event/postpartum-support-2/
LOCATION:Pecantown Books & Brews\, 212 S. Camp Street\, Seguin\, 78155\, United States
ORGANIZER;CN="Kassie Brandt":MAILTO:kassie@pecantownbooks.com
END:VEVENT
BEGIN:VEVENT
DTSTART;TZID=America/New_York:20230204T170000
DTEND;TZID=America/New_York:20230204T190000
DTSTAMP:20260421T210649
CREATED:20230204T173811Z
LAST-MODIFIED:20230204T173811Z
UID:867-1675530000-1675537200@pecantownbooks.com
SUMMARY:MAXIMILIANO Live!
DESCRIPTION:Join us as TLU musician Maximiliano plays his percussive style guitar. 5 pm -7 pm.
URL:https://pecantownbooks.com/event/maximiliano-live/
LOCATION:Pecantown Books & Brews\, 212 S. Camp Street\, Seguin\, 78155\, United States
ORGANIZER;CN="Kassie Brandt":MAILTO:kassie@pecantownbooks.com
END:VEVENT
BEGIN:VEVENT
DTSTART;TZID=America/New_York:20230128T130000
DTEND;TZID=America/New_York:20230128T150000
DTSTAMP:20260421T210649
CREATED:20230109T192541Z
LAST-MODIFIED:20230109T192541Z
UID:861-1674910800-1674918000@pecantownbooks.com
SUMMARY:Author Debra Atlas
DESCRIPTION:Come meet Debra Atlas and grab a copy of her book “You Aren’t Depression’s Victim” on January 28th at 1 pm.
URL:https://pecantownbooks.com/event/author-debra-atlas/
LOCATION:Pecantown Books & Brews\, 212 S. Camp Street\, Seguin\, 78155\, United States
ORGANIZER;CN="Kassie Brandt":MAILTO:kassie@pecantownbooks.com
END:VEVENT
BEGIN:VEVENT
DTSTART;TZID=America/New_York:20230121T170000
DTEND;TZID=America/New_York:20230121T190000
DTSTAMP:20260421T210649
CREATED:20230106T155709Z
LAST-MODIFIED:20230106T155709Z
UID:859-1674320400-1674327600@pecantownbooks.com
SUMMARY:Live Music with Tom Townley
DESCRIPTION:Join us Saturday\, January 21st at 5 pm to listen to country\, gospel\, and folk guitar. Local musician Tom Townley will be at Pecantown Books and Brews. \n 
URL:https://pecantownbooks.com/event/live-music-with-tom-townley/
LOCATION:Pecantown Books & Brews\, 212 S. Camp Street\, Seguin\, 78155\, United States
ORGANIZER;CN="Kassie Brandt":MAILTO:kassie@pecantownbooks.com
END:VEVENT
BEGIN:VEVENT
DTSTART;TZID=America/New_York:20230118T130000
DTEND;TZID=America/New_York:20230118T140000
DTSTAMP:20260421T210649
CREATED:20230105T170036Z
LAST-MODIFIED:20230105T170036Z
UID:850-1674046800-1674050400@pecantownbooks.com
SUMMARY:Postpartum Support
DESCRIPTION:Join Dr. Jodi Brannen to discuss milestones.
URL:https://pecantownbooks.com/event/postpartum-support/
LOCATION:Pecantown Books & Brews\, 212 S. Camp Street\, Seguin\, 78155\, United States
ORGANIZER;CN="Kassie Brandt":MAILTO:kassie@pecantownbooks.com
END:VEVENT
BEGIN:VEVENT
DTSTART;TZID=America/New_York:20230114T140000
DTEND;TZID=America/New_York:20230114T160000
DTSTAMP:20260421T210649
CREATED:20230105T192510Z
LAST-MODIFIED:20230109T160317Z
UID:856-1673704800-1673712000@pecantownbooks.com
SUMMARY:Eat to feel and look your best!
DESCRIPTION:Join Nutritionist Dion Turner as she teaches us about the foods that can optimize our health. She will be here January 14th at 2 pm. Look for your ticket on eventbrite.
URL:https://pecantownbooks.com/event/eat-to-feel-and-look-your-best/
ORGANIZER;CN="Kassie Brandt":MAILTO:kassie@pecantownbooks.com
END:VEVENT
BEGIN:VEVENT
DTSTART;TZID=America/New_York:20230106T170000
DTEND;TZID=America/New_York:20230106T190000
DTSTAMP:20260421T210649
CREATED:20230105T165426Z
LAST-MODIFIED:20230105T165426Z
UID:846-1673024400-1673031600@pecantownbooks.com
SUMMARY:LIVE MUSIC with Tom Rushlow
DESCRIPTION:
URL:https://pecantownbooks.com/event/live-music-with-tom-rushlow/
END:VEVENT
BEGIN:VEVENT
DTSTART;TZID=America/Chicago:20221215T170000
DTEND;TZID=America/Chicago:20221215T190000
DTSTAMP:20260421T210649
CREATED:20221115T163020Z
LAST-MODIFIED:20221115T163101Z
UID:806-1671123600-1671130800@pecantownbooks.com
SUMMARY:A Visit with Santa Claus!
DESCRIPTION:“Yes\, VIRGINIA\, there is a Santa Claus. He exists as certainly as love and generosity and devotion exist\, and you know that they abound and give to your life its highest beauty and joy.” Join us for a special visit with Santa Claus and enjoy special treats for kids and adults.
URL:https://pecantownbooks.com/event/a-visit-with-santa-claus/
LOCATION:Pecantown Books & Brews\, 212 S. Camp Street\, Seguin\, 78155\, United States
ORGANIZER;CN="Tess Coody-Anders":MAILTO:tess@pecantownbooks.com
END:VEVENT
BEGIN:VEVENT
DTSTART;TZID=America/New_York:20221130T183000
DTEND;TZID=America/New_York:20221130T193000
DTSTAMP:20260421T210649
CREATED:20221110T162703Z
LAST-MODIFIED:20221110T162703Z
UID:799-1669833000-1669836600@pecantownbooks.com
SUMMARY:Wine and True Crime
DESCRIPTION:Kassie Brandt wants to tell you a true story. Get a glass of wine and join us November 3oth at 6:30 pm. Seating is limited.
URL:https://pecantownbooks.com/event/wine-and-true-crime-2/
END:VEVENT
BEGIN:VEVENT
DTSTART;TZID=America/New_York:20221129T180000
DTEND;TZID=America/New_York:20221129T193000
DTSTAMP:20260421T210649
CREATED:20221110T163559Z
LAST-MODIFIED:20221127T142807Z
UID:802-1669744800-1669750200@pecantownbooks.com
SUMMARY:Poetry Night - CANCELLED
DESCRIPTION:Due to illness\, this week’s poetry night has been canceled. Please look for an updated date in December/January.
URL:https://pecantownbooks.com/event/poetry-night/
END:VEVENT
BEGIN:VEVENT
DTSTART;TZID=America/New_York:20221126T180000
DTEND;TZID=America/New_York:20221126T200000
DTSTAMP:20260421T210649
CREATED:20221109T230051Z
LAST-MODIFIED:20221109T231433Z
UID:787-1669485600-1669492800@pecantownbooks.com
SUMMARY:Live music with MAXIMILIANO
DESCRIPTION:Join Pecantown  Books & Brew for live music November 30th\, 6 pm -8 pm
URL:https://pecantownbooks.com/event/live-music-with-maximiliano/
END:VEVENT
BEGIN:VEVENT
DTSTART;VALUE=DATE:20221124
DTEND;VALUE=DATE:20221125
DTSTAMP:20260421T210649
CREATED:20221109T230447Z
LAST-MODIFIED:20221109T230827Z
UID:791-1669248000-1669334399@pecantownbooks.com
SUMMARY:Store Closed For Thanksgiving
DESCRIPTION:Pecantown Books & Brews will be CLOSED  11/24.
URL:https://pecantownbooks.com/event/hour-modification/
END:VEVENT
BEGIN:VEVENT
DTSTART;TZID=America/New_York:20221123T100000
DTEND;TZID=America/New_York:20221123T140000
DTSTAMP:20260421T210649
CREATED:20221109T231357Z
LAST-MODIFIED:20221109T231357Z
UID:796-1669197600-1669212000@pecantownbooks.com
SUMMARY:Modified Hours November 23rd
DESCRIPTION:Pecantown Books & Brews will be open 10 am -2 pm on 11/23.
URL:https://pecantownbooks.com/event/modified-hours-november-23rd/
END:VEVENT
BEGIN:VEVENT
DTSTART;TZID=America/New_York:20221119T140000
DTEND;TZID=America/New_York:20221119T160000
DTSTAMP:20260421T210649
CREATED:20221108T205541Z
LAST-MODIFIED:20221109T230857Z
UID:784-1668866400-1668873600@pecantownbooks.com
SUMMARY:Book Signing with Author Brita Long
DESCRIPTION:Meet Author Brita Long and have her sign your copy of “Tidy Up or Simplify.” Come with us into this holiday season organized and simplified. November 19th at 2 pm.
URL:https://pecantownbooks.com/event/book-signing-with-author-brita-long/
END:VEVENT
BEGIN:VEVENT
DTSTART;TZID=America/New_York:20221116T130000
DTEND;TZID=America/New_York:20221116T140000
DTSTAMP:20260421T210649
CREATED:20221108T204701Z
LAST-MODIFIED:20221108T204701Z
UID:782-1668603600-1668607200@pecantownbooks.com
SUMMARY:Postpartum Support Group and Yoga
DESCRIPTION:Bring a Yoga mat\, blocks and your kids and learn how to center yourself with Gina Touchstone. Wednesday\, November 16th at 1 pm.
URL:https://pecantownbooks.com/event/postpartum-support-group-and-yoga/
ORGANIZER;CN="Kassie Brandt":MAILTO:kassie@pecantownbooks.com
END:VEVENT
BEGIN:VEVENT
DTSTART;TZID=America/Chicago:20221112T180000
DTEND;TZID=America/Chicago:20221112T200000
DTSTAMP:20260421T210649
CREATED:20221108T202807Z
LAST-MODIFIED:20221108T202807Z
UID:777-1668276000-1668283200@pecantownbooks.com
SUMMARY:Live Jazz on the Patio with Choo-Cha Booch
DESCRIPTION:Kick off the holiday season with the Mitchells of Choo-Cha Booch for live jazz\, great wine\, beer and snacks and the season’s best books.
URL:https://pecantownbooks.com/event/live-jazz-on-the-patio-with-choo-cha-booch/
LOCATION:Pecantown Books & Brews\, 212 S. Camp Street\, Seguin\, 78155\, United States
ORGANIZER;CN="Kassie Brandt":MAILTO:kassie@pecantownbooks.com
END:VEVENT
BEGIN:VEVENT
DTSTART;TZID=America/New_York:20221103T173000
DTEND;TZID=America/New_York:20221103T183000
DTSTAMP:20260421T210649
CREATED:20221013T004641Z
LAST-MODIFIED:20221013T004828Z
UID:757-1667496600-1667500200@pecantownbooks.com
SUMMARY:Meet the Authors: James Wade & Rudy Ruiz
DESCRIPTION:Join us for a discussion with award-winning\, Austin-based authors James Wade and Rudy Ruiz about their new books and their writing lives. Copies of both authors’ newest releases will be available for purchase and signing. \nBeasts of the Earth by James Wade has been described as his most powerful work to date—a chilling parable about the impossible demands of hate and love\, trauma and goodness\, vividly set in the landscapes of Texas and Louisiana. \nValley of Shadows by Rudy Ruiz is a visionary neo-Western blend of magical realism\, mystery\, and horror\, Valley of Shadows sheds light on the dark past of injustice\, isolation\, and suffering along the US-Mexico border. Also available in Spanish.
URL:https://pecantownbooks.com/event/meet-the-authors-james-wade-rudy-ruiz/
LOCATION:Pecantown Books & Brews\, 212 S. Camp Street\, Seguin\, 78155\, United States
ORGANIZER;CN="Tess Coody-Anders":MAILTO:tess@pecantownbooks.com
END:VEVENT
BEGIN:VEVENT
DTSTART;TZID=America/New_York:20221030T090000
DTEND;TZID=America/New_York:20221030T140000
DTSTAMP:20260421T210649
CREATED:20221012T135700Z
LAST-MODIFIED:20221012T135700Z
UID:750-1667120400-1667138400@pecantownbooks.com
SUMMARY:Hogwarts Halloween Brunch
DESCRIPTION:Celebrate dark academia and peruse our collection of new special-edition Harry Potter illustrated books\, cookbooks and other related tomes while enjoying treacle tarts\, butter beer and all manner of other pasties for brunch. Join the Pecantown staff and come in costume for a special surprise!
URL:https://pecantownbooks.com/event/hogwarts-halloween-brunch/
LOCATION:Pecantown Books & Brews\, 212 S. Camp Street\, Seguin\, 78155\, United States
ORGANIZER;CN="Tess Coody-Anders":MAILTO:tess@pecantownbooks.com
END:VEVENT
BEGIN:VEVENT
DTSTART;VALUE=DATE:20221029
DTEND;VALUE=DATE:20221030
DTSTAMP:20260421T210649
CREATED:20221012T134745Z
LAST-MODIFIED:20221012T135848Z
UID:746-1667001600-1667087999@pecantownbooks.com
SUMMARY:Pecanfest at Pecantown!
DESCRIPTION:Grilled brats\, craft beer\, great books! Enjoy food and music outside on the patio and under the trees at Pecantown\, and browse our specially-curated books celebrating life and the history of the Seguin area. Special guests include local jewelry designer Jamieelizabeth\, who will unveil their new Pecantown-themed earrings\, and live music to complement the great fare.
URL:https://pecantownbooks.com/event/pecanfest-at-pecantown/
LOCATION:Pecantown Books & Brews\, 212 S. Camp Street\, Seguin\, 78155\, United States
ORGANIZER;CN="Kassie Brandt":MAILTO:kassie@pecantownbooks.com
END:VEVENT
BEGIN:VEVENT
DTSTART;TZID=America/New_York:20221026T180000
DTEND;TZID=America/New_York:20221026T190000
DTSTAMP:20260421T210649
CREATED:20221012T165620Z
LAST-MODIFIED:20221012T165620Z
UID:754-1666807200-1666810800@pecantownbooks.com
SUMMARY:Wine and True Crime
DESCRIPTION:Join Bookseller Kassie Brandt she explores stories of true crimes and mysteries\, usually with some connection to our town or region. To ensure an optimal experience\, this is a ticketed event. Drink and food specials\, as well as true crime book recommendations\, included. Registration opening soon!
URL:https://pecantownbooks.com/event/wine-and-true-crime/
LOCATION:Pecantown Books & Brews\, 212 S. Camp Street\, Seguin\, 78155\, United States
ORGANIZER;CN="Kassie Brandt":MAILTO:kassie@pecantownbooks.com
END:VEVENT
END:VCALENDAR