BEGIN:VCALENDAR
VERSION:2.0
PRODID:-//Pecantown Books &amp; Brews - ECPv6.15.20//NONSGML v1.0//EN
CALSCALE:GREGORIAN
METHOD:PUBLISH
X-WR-CALNAME:Pecantown Books &amp; Brews
X-ORIGINAL-URL:https://pecantownbooks.com
X-WR-CALDESC:Events for Pecantown Books &amp; Brews
REFRESH-INTERVAL;VALUE=DURATION:PT1H
X-Robots-Tag:noindex
X-PUBLISHED-TTL:PT1H
BEGIN:VTIMEZONE
TZID:America/New_York
BEGIN:DAYLIGHT
TZOFFSETFROM:-0500
TZOFFSETTO:-0400
TZNAME:EDT
DTSTART:20210314T070000
END:DAYLIGHT
BEGIN:STANDARD
TZOFFSETFROM:-0400
TZOFFSETTO:-0500
TZNAME:EST
DTSTART:20211107T060000
END:STANDARD
BEGIN:DAYLIGHT
TZOFFSETFROM:-0500
TZOFFSETTO:-0400
TZNAME:EDT
DTSTART:20220313T070000
END:DAYLIGHT
BEGIN:STANDARD
TZOFFSETFROM:-0400
TZOFFSETTO:-0500
TZNAME:EST
DTSTART:20221106T060000
END:STANDARD
BEGIN:DAYLIGHT
TZOFFSETFROM:-0500
TZOFFSETTO:-0400
TZNAME:EDT
DTSTART:20230312T070000
END:DAYLIGHT
BEGIN:STANDARD
TZOFFSETFROM:-0400
TZOFFSETTO:-0500
TZNAME:EST
DTSTART:20231105T060000
END:STANDARD
END:VTIMEZONE
BEGIN:VTIMEZONE
TZID:America/Chicago
BEGIN:DAYLIGHT
TZOFFSETFROM:-0600
TZOFFSETTO:-0500
TZNAME:CDT
DTSTART:20210314T080000
END:DAYLIGHT
BEGIN:STANDARD
TZOFFSETFROM:-0500
TZOFFSETTO:-0600
TZNAME:CST
DTSTART:20211107T070000
END:STANDARD
BEGIN:DAYLIGHT
TZOFFSETFROM:-0600
TZOFFSETTO:-0500
TZNAME:CDT
DTSTART:20220313T080000
END:DAYLIGHT
BEGIN:STANDARD
TZOFFSETFROM:-0500
TZOFFSETTO:-0600
TZNAME:CST
DTSTART:20221106T070000
END:STANDARD
BEGIN:DAYLIGHT
TZOFFSETFROM:-0600
TZOFFSETTO:-0500
TZNAME:CDT
DTSTART:20230312T080000
END:DAYLIGHT
BEGIN:STANDARD
TZOFFSETFROM:-0500
TZOFFSETTO:-0600
TZNAME:CST
DTSTART:20231105T070000
END:STANDARD
END:VTIMEZONE
BEGIN:VEVENT
DTSTART;VALUE=DATE:20221029
DTEND;VALUE=DATE:20221030
DTSTAMP:20260421T172224
CREATED:20221012T134745Z
LAST-MODIFIED:20221012T135848Z
UID:746-1667001600-1667087999@pecantownbooks.com
SUMMARY:Pecanfest at Pecantown!
DESCRIPTION:Grilled brats\, craft beer\, great books! Enjoy food and music outside on the patio and under the trees at Pecantown\, and browse our specially-curated books celebrating life and the history of the Seguin area. Special guests include local jewelry designer Jamieelizabeth\, who will unveil their new Pecantown-themed earrings\, and live music to complement the great fare.
URL:https://pecantownbooks.com/event/pecanfest-at-pecantown/
LOCATION:Pecantown Books & Brews\, 212 S. Camp Street\, Seguin\, 78155\, United States
ORGANIZER;CN="Kassie Brandt":MAILTO:kassie@pecantownbooks.com
END:VEVENT
BEGIN:VEVENT
DTSTART;TZID=America/New_York:20221026T180000
DTEND;TZID=America/New_York:20221026T190000
DTSTAMP:20260421T172224
CREATED:20221012T165620Z
LAST-MODIFIED:20221012T165620Z
UID:754-1666807200-1666810800@pecantownbooks.com
SUMMARY:Wine and True Crime
DESCRIPTION:Join Bookseller Kassie Brandt she explores stories of true crimes and mysteries\, usually with some connection to our town or region. To ensure an optimal experience\, this is a ticketed event. Drink and food specials\, as well as true crime book recommendations\, included. Registration opening soon!
URL:https://pecantownbooks.com/event/wine-and-true-crime/
LOCATION:Pecantown Books & Brews\, 212 S. Camp Street\, Seguin\, 78155\, United States
ORGANIZER;CN="Kassie Brandt":MAILTO:kassie@pecantownbooks.com
END:VEVENT
BEGIN:VEVENT
DTSTART;TZID=America/New_York:20221025T180000
DTEND;TZID=America/New_York:20221025T190000
DTSTAMP:20260421T172224
CREATED:20221012T135216Z
LAST-MODIFIED:20221025T220106Z
UID:748-1666720800-1666724400@pecantownbooks.com
SUMMARY:CANCELED: NEA Big Read Discussion Group of Heartland
DESCRIPTION:We will reschedule tonight’s meeting for a later date…. \n 
URL:https://pecantownbooks.com/event/nea-big-read-discussion-group-heartland/
LOCATION:Pecantown Books & Brews\, 212 S. Camp Street\, Seguin\, 78155\, United States
ORGANIZER;CN="Tess Coody-Anders":MAILTO:tess@pecantownbooks.com
END:VEVENT
BEGIN:VEVENT
DTSTART;TZID=America/New_York:20221022T173000
DTEND;TZID=America/New_York:20221022T193000
DTSTAMP:20260421T172224
CREATED:20221012T134114Z
LAST-MODIFIED:20221012T134114Z
UID:744-1666459800-1666467000@pecantownbooks.com
SUMMARY:Live Music with Joe Martyn Ricke on the Patio!
DESCRIPTION:Join us for live music with locally-based folk artist\, poet and general raconteur Joe Martyn Ricke and enjoy drink and food specials.
URL:https://pecantownbooks.com/event/live-music-with-joe-martyn-ricke-on-the-patio/
LOCATION:Pecantown Books & Brews\, 212 S. Camp Street\, Seguin\, 78155\, United States
ORGANIZER;CN="Kassie Brandt":MAILTO:kassie@pecantownbooks.com
END:VEVENT
BEGIN:VEVENT
DTSTART;TZID=America/New_York:20221022T140000
DTEND;TZID=America/New_York:20221022T150000
DTSTAMP:20260421T172224
CREATED:20221012T133732Z
LAST-MODIFIED:20221012T133732Z
UID:742-1666447200-1666450800@pecantownbooks.com
SUMMARY:Meet the Author: Mary Moreland
DESCRIPTION:Join us for connections and discussion with Mary Moreland\, author of The Gap Between: Loving and Supporting Someone with Alzheimer’s. After her family’s journey through Alzheimer’s\, she was determined to help fellow caregivers by sharing her experience. Now\, their story of loss has become the foundation of an invaluable resource for others facing the devastating disease.
URL:https://pecantownbooks.com/event/meet-the-author-mary-moreland/
LOCATION:Pecantown Books & Brews\, 212 S. Camp Street\, Seguin\, 78155\, United States
ORGANIZER;CN="Tess Coody-Anders":MAILTO:tess@pecantownbooks.com
END:VEVENT
BEGIN:VEVENT
DTSTART;TZID=America/New_York:20221016T173000
DTEND;TZID=America/New_York:20221016T193000
DTSTAMP:20260421T172224
CREATED:20221012T133142Z
LAST-MODIFIED:20221012T133142Z
UID:740-1665941400-1665948600@pecantownbooks.com
SUMMARY:Go 80s on the Patio for Happy Hour!
DESCRIPTION:Join us and DJ James Graciano for some 80s music and fun on the patio and enjoy drink\, food\, and featured book specials.
URL:https://pecantownbooks.com/event/go-80s-on-the-patio-for-happy-hour/
LOCATION:Pecantown Books & Brews\, 212 S. Camp Street\, Seguin\, 78155\, United States
ORGANIZER;CN="Kassie Brandt":MAILTO:kassie@pecantownbooks.com
END:VEVENT
BEGIN:VEVENT
DTSTART;TZID=America/New_York:20221016T140000
DTEND;TZID=America/New_York:20221016T150000
DTSTAMP:20260421T172224
CREATED:20221012T132814Z
LAST-MODIFIED:20221012T141627Z
UID:738-1665928800-1665932400@pecantownbooks.com
SUMMARY:Meet the Author: Kit Hawthorne
DESCRIPTION:Meet Kit Hawthorne\, who writes sweet contemporary Western romance\, and makes her home here in south central Texas on her husband’s ancestral farm. Kit will be available to sign copies of her newest book\, Snowbound With the Rancher\, available for sale in-store.
URL:https://pecantownbooks.com/event/meet-the-author-kit-hawthorne/
LOCATION:Pecantown Books & Brews\, 212 S. Camp Street\, Seguin\, 78155\, United States
ORGANIZER;CN="Kassie Brandt":MAILTO:kassie@pecantownbooks.com
END:VEVENT
BEGIN:VEVENT
DTSTART;TZID=America/New_York:20221014T100000
DTEND;TZID=America/New_York:20221014T110000
DTSTAMP:20260421T172224
CREATED:20221012T131918Z
LAST-MODIFIED:20221012T131938Z
UID:735-1665741600-1665745200@pecantownbooks.com
SUMMARY:Children's Story Hour!
DESCRIPTION:Join us for pre-school and toddler story hour\, rhymes and fun in our lovely children’s room.
URL:https://pecantownbooks.com/event/childrens-story-hour-2/
LOCATION:Pecantown Books & Brews\, 212 S. Camp Street\, Seguin\, 78155\, United States
ORGANIZER;CN="Tess Coody-Anders":MAILTO:tess@pecantownbooks.com
END:VEVENT
BEGIN:VEVENT
DTSTART;TZID=America/New_York:20221012T130000
DTEND;TZID=America/New_York:20221012T140000
DTSTAMP:20260421T172224
CREATED:20221012T131320Z
LAST-MODIFIED:20221012T131320Z
UID:733-1665579600-1665583200@pecantownbooks.com
SUMMARY:Post-Partum Support Group
DESCRIPTION:This month’s meet up features Nutritionist Dion Turner\, who will discuss the connections between food and allergies. Moms\, moms-to-be\, children and those who support them are all welcome. Come for lunch and stay for the great conversation and book recommendations!
URL:https://pecantownbooks.com/event/post-partum-support-group/
LOCATION:Pecantown Books & Brews\, 212 S. Camp Street\, Seguin\, 78155\, United States
ORGANIZER;CN="Kassie Brandt":MAILTO:kassie@pecantownbooks.com
END:VEVENT
BEGIN:VEVENT
DTSTART;TZID=America/Chicago:20220831T183000
DTEND;TZID=America/Chicago:20220831T200000
DTSTAMP:20260421T172224
CREATED:20220823T193306Z
LAST-MODIFIED:20220823T193306Z
UID:703-1661970600-1661976000@pecantownbooks.com
SUMMARY:Private Wine Tasting - Becker Vineyards
DESCRIPTION:Join us for a private tasting featuring four of Becker’s most sought-after wines\, paired with tapas and a special dessert. Tickets available at https://www.eventbrite.com/manage/events/404859314107/tickets.
URL:https://pecantownbooks.com/event/private-wine-tasting-becker-vineyards/
LOCATION:Pecantown Books & Brews\, 212 S. Camp Street\, Seguin\, 78155\, United States
ORGANIZER;CN="Kassie Brandt":MAILTO:kassie@pecantownbooks.com
END:VEVENT
BEGIN:VEVENT
DTSTART;TZID=America/Chicago:20220830T180000
DTEND;TZID=America/Chicago:20220830T193000
DTSTAMP:20260421T172224
CREATED:20220808T165110Z
LAST-MODIFIED:20220808T165110Z
UID:654-1661882400-1661887800@pecantownbooks.com
SUMMARY:Wine & True Crime
DESCRIPTION:Join Bookseller  & Events Manager Kassie Brandt for a chilling hour of historical true crime storytelling\, perfectly paired wines\, and farm-to-table fare. Tickets are required for this limited-seating event to ensure the optimal experience for all\, and will be released one week before the event via Eventbrite.
URL:https://pecantownbooks.com/event/wine-true-crime/
LOCATION:Pecantown Books & Brews\, 212 S. Camp Street\, Seguin\, 78155\, United States
ORGANIZER;CN="Tess Coody-Anders":MAILTO:tess@pecantownbooks.com
END:VEVENT
BEGIN:VEVENT
DTSTART;TZID=America/Chicago:20220827T140000
DTEND;TZID=America/Chicago:20220827T153000
DTSTAMP:20260421T172224
CREATED:20220808T165951Z
LAST-MODIFIED:20220808T165951Z
UID:658-1661608800-1661614200@pecantownbooks.com
SUMMARY:Meet the Authors: Growing Up in the Lone Star State: Notable Texans Remember Their Childhoods
DESCRIPTION:Join researchers and authors Gaylon Finklea Hecker and Marianne Odom for a presentation and book signing. They began the interviews for this book in 1981 and devoted a professional lifetime to collecting the memories of accomplished Texans to determine what\, if anything\, about growing up in the Lone Star State prepared them for success. \nThe resulting forty-seven oral history interviews begin with tales from the early 1900s\, when Texas was an agrarian state\, and continue through the growth of major cities and the country’s race to the moon. Interviews include notable Texas politicos\, actors\, news reporters\, musicians\, writers\, athletes\, business folks and just plain good storytellers.
URL:https://pecantownbooks.com/event/meet-the-authors-growing-up-in-the-lone-star-state-notable-texans-remember-their-childhoods/
LOCATION:Pecantown Books & Brews\, 212 S. Camp Street\, Seguin\, 78155\, United States
ORGANIZER;CN="Kassie Brandt":MAILTO:kassie@pecantownbooks.com
END:VEVENT
BEGIN:VEVENT
DTSTART;TZID=America/Chicago:20220825T100000
DTEND;TZID=America/Chicago:20220825T110000
DTSTAMP:20260421T172224
CREATED:20220816T120541Z
LAST-MODIFIED:20220816T120541Z
UID:701-1661421600-1661425200@pecantownbooks.com
SUMMARY:Children's Story Hour
DESCRIPTION:Help your children develop a love of books and reading and make new friends during this story hour\, featuring a preschool-aged children’s books hand selected by Tess or Kassie. Lots of reading\, rhyming and singing. Come for the reading and stay for lunch!
URL:https://pecantownbooks.com/event/childrens-story-hour/
LOCATION:Pecantown Books & Brews\, 212 S. Camp Street\, Seguin\, 78155\, United States
ORGANIZER;CN="Tess Coody-Anders":MAILTO:tess@pecantownbooks.com
END:VEVENT
BEGIN:VEVENT
DTSTART;TZID=America/Chicago:20220809T100000
DTEND;TZID=America/Chicago:20220809T110000
DTSTAMP:20260421T172224
CREATED:20220808T164120Z
LAST-MODIFIED:20220808T164226Z
UID:647-1660039200-1660042800@pecantownbooks.com
SUMMARY:Pecantown Children's Story Hour
DESCRIPTION:Join Tess or Kassie for a special story and treat for pre-schoolers. Moms and dads can enjoy a break in the bistro while we read & sing.
URL:https://pecantownbooks.com/event/pecantown-childrens-story-hour/
LOCATION:Pecantown Books & Brews\, 212 S. Camp Street\, Seguin\, 78155\, United States
ORGANIZER;CN="Tess Coody-Anders":MAILTO:tess@pecantownbooks.com
END:VEVENT
END:VCALENDAR