BEGIN:VCALENDAR
VERSION:2.0
PRODID:-//Pecantown Books &amp; Brews - ECPv6.15.20//NONSGML v1.0//EN
CALSCALE:GREGORIAN
METHOD:PUBLISH
X-WR-CALNAME:Pecantown Books &amp; Brews
X-ORIGINAL-URL:https://pecantownbooks.com
X-WR-CALDESC:Events for Pecantown Books &amp; Brews
REFRESH-INTERVAL;VALUE=DURATION:PT1H
X-Robots-Tag:noindex
X-PUBLISHED-TTL:PT1H
BEGIN:VTIMEZONE
TZID:America/Chicago
BEGIN:DAYLIGHT
TZOFFSETFROM:-0600
TZOFFSETTO:-0500
TZNAME:CDT
DTSTART:20240310T080000
END:DAYLIGHT
BEGIN:STANDARD
TZOFFSETFROM:-0500
TZOFFSETTO:-0600
TZNAME:CST
DTSTART:20241103T070000
END:STANDARD
BEGIN:DAYLIGHT
TZOFFSETFROM:-0600
TZOFFSETTO:-0500
TZNAME:CDT
DTSTART:20250309T080000
END:DAYLIGHT
BEGIN:STANDARD
TZOFFSETFROM:-0500
TZOFFSETTO:-0600
TZNAME:CST
DTSTART:20251102T070000
END:STANDARD
BEGIN:DAYLIGHT
TZOFFSETFROM:-0600
TZOFFSETTO:-0500
TZNAME:CDT
DTSTART:20260308T080000
END:DAYLIGHT
BEGIN:STANDARD
TZOFFSETFROM:-0500
TZOFFSETTO:-0600
TZNAME:CST
DTSTART:20261101T070000
END:STANDARD
END:VTIMEZONE
BEGIN:VTIMEZONE
TZID:America/New_York
BEGIN:DAYLIGHT
TZOFFSETFROM:-0500
TZOFFSETTO:-0400
TZNAME:EDT
DTSTART:20240310T070000
END:DAYLIGHT
BEGIN:STANDARD
TZOFFSETFROM:-0400
TZOFFSETTO:-0500
TZNAME:EST
DTSTART:20241103T060000
END:STANDARD
BEGIN:DAYLIGHT
TZOFFSETFROM:-0500
TZOFFSETTO:-0400
TZNAME:EDT
DTSTART:20250309T070000
END:DAYLIGHT
BEGIN:STANDARD
TZOFFSETFROM:-0400
TZOFFSETTO:-0500
TZNAME:EST
DTSTART:20251102T060000
END:STANDARD
BEGIN:DAYLIGHT
TZOFFSETFROM:-0500
TZOFFSETTO:-0400
TZNAME:EDT
DTSTART:20260308T070000
END:DAYLIGHT
BEGIN:STANDARD
TZOFFSETFROM:-0400
TZOFFSETTO:-0500
TZNAME:EST
DTSTART:20261101T060000
END:STANDARD
END:VTIMEZONE
BEGIN:VEVENT
DTSTART;TZID=America/Chicago:20250524T150000
DTEND;TZID=America/Chicago:20250524T170000
DTSTAMP:20260420T025233
CREATED:20250426T202336Z
LAST-MODIFIED:20250430T182027Z
UID:3345-1748098800-1748106000@pecantownbooks.com
SUMMARY:Author Andrew Porter
DESCRIPTION:Acclaimed author\, and professor at Trinity University in San Antoino\, Andrew Porter has released his latest novel The Imagined Life. He will be at Pecantown Books & Brews on Saturday\, May 24th\, at 3pm.
URL:https://pecantownbooks.com/event/author-andrew-porter/
LOCATION:Pecantown Books & Brews\, 212 S. Camp Street\, Seguin\, 78155\, United States
ORGANIZER;CN="Kassie Brandt":MAILTO:kassie@pecantownbooks.com
END:VEVENT
BEGIN:VEVENT
DTSTART;TZID=America/Chicago:20250523T180000
DTEND;TZID=America/Chicago:20250523T190000
DTSTAMP:20260420T025233
CREATED:20250508T002256Z
LAST-MODIFIED:20250508T002256Z
UID:3381-1748023200-1748026800@pecantownbooks.com
SUMMARY:Wine and True Crime
DESCRIPTION:Wine and True Crime is moving days but the rest of our event is the same! \nThis month Kassie is telling the incredible story of Wet and Dry laws that spurred incredible change in the U.S. during the 1920s. “Firebrands” By Gioia Diliberto tells the story of  4 women. 2 are members of the Women’s Christian Temperance Union\, 2 are founders of the Women’s Organization of National Prohibition Reform\, which helped usher the rise and fall of Prohibition in the United States.
URL:https://pecantownbooks.com/event/wine-and-true-crime-21/
LOCATION:Pecantown Books & Brews\, 212 S. Camp Street\, Seguin\, 78155\, United States
ORGANIZER;CN="Kassie Brandt":MAILTO:kassie@pecantownbooks.com
END:VEVENT
BEGIN:VEVENT
DTSTART;TZID=America/Chicago:20250523T180000
DTEND;TZID=America/Chicago:20250523T190000
DTSTAMP:20260420T025233
CREATED:20250501T224535Z
LAST-MODIFIED:20250501T224535Z
UID:3365-1748023200-1748026800@pecantownbooks.com
SUMMARY:Wine and True Crime
DESCRIPTION:This Month Kassie is sharing a fascinating story about prohibition! Come learn about Ella Boole and Mable Walker Wellebrandt who fierce advocates for the outlaw of all liquor. Not to be ignored are their counterparts\, Texas Guinan and Pauline Martin Sabin helped mobilize a movement in politics  about alcohol\, Suffrage\, and civil rights.  Join us at our NEW DATE but same time May 23 at 6pm.
URL:https://pecantownbooks.com/event/wine-and-true-crime-20/
LOCATION:Pecantown Books & Brews\, 212 S. Camp Street\, Seguin\, 78155\, United States
ORGANIZER;CN="Kassie Brandt":MAILTO:kassie@pecantownbooks.com
END:VEVENT
BEGIN:VEVENT
DTSTART;TZID=America/Chicago:20250517T150000
DTEND;TZID=America/Chicago:20250517T170000
DTSTAMP:20260420T025233
CREATED:20250419T211109Z
LAST-MODIFIED:20250419T211109Z
UID:3312-1747494000-1747501200@pecantownbooks.com
SUMMARY:Triggers Class with Paula King Harper
DESCRIPTION:Harper Ministries International is a non-profit 501(c)3 tax exempt organization designed to do our part in making the world a better place for all\, freely offering the freedom\, peace and restoration which comes from living sober minded. Our aim is to help mankind live free of all vices and receive the fullness of God’s love. \n  \nPecantown is excited to host Pastor Harper and her free “Triggers” class during Mental Health Awareness Month. Join us by clicking the link below. \nhttps://www.harperministries.org/event-info/understanding-emotional-triggers-workshop-pecantown-2025-05-17-15-00/form \n  \n 
URL:https://pecantownbooks.com/event/triggers-class-with-paula-king-harper/
LOCATION:Pecantown Books & Brews\, 212 S. Camp Street\, Seguin\, 78155\, United States
ORGANIZER;CN="Kassie Brandt":MAILTO:kassie@pecantownbooks.com
END:VEVENT
BEGIN:VEVENT
DTSTART;TZID=America/New_York:20250514T170000
DTEND;TZID=America/New_York:20250514T180000
DTSTAMP:20260420T025233
CREATED:20250426T201611Z
LAST-MODIFIED:20250426T201611Z
UID:3343-1747242000-1747245600@pecantownbooks.com
SUMMARY:Classics Book Club
DESCRIPTION:This month the Classics book club will be discussing The Apology by Plato with Mark Keddall\, join us at 5 pm.
URL:https://pecantownbooks.com/event/classics-book-club-7/
LOCATION:Pecantown Books & Brews\, 212 S. Camp Street\, Seguin\, 78155\, United States
ORGANIZER;CN="Kassie Brandt":MAILTO:kassie@pecantownbooks.com
END:VEVENT
BEGIN:VEVENT
DTSTART;TZID=America/Chicago:20250510T150000
DTEND;TZID=America/Chicago:20250510T170000
DTSTAMP:20260420T025233
CREATED:20250429T193009Z
LAST-MODIFIED:20250429T193009Z
UID:3357-1746889200-1746896400@pecantownbooks.com
SUMMARY:Mental Health Awareness Presentation with Monica Rodriguez
DESCRIPTION:Licensed Therapist and Assistant Professor of Practice at UTSA\, Monica Rodriguez will be at Pecantown on May 10th at 3 pm. She will be sharing helpful language\, strategies\, and practical knowledge for childhood mental health. Monica uses play and gentle wording to help parents and children identify and support their emotional needs.
URL:https://pecantownbooks.com/event/mental-health-awareness-presentation-with-monica-rodriguez/
LOCATION:Pecantown Books & Brews\, 212 S. Camp Street\, Seguin\, 78155\, United States
ORGANIZER;CN="Kassie Brandt":MAILTO:kassie@pecantownbooks.com
END:VEVENT
BEGIN:VEVENT
DTSTART;TZID=America/Chicago:20250508T180000
DTEND;TZID=America/Chicago:20250508T190000
DTSTAMP:20260420T025233
CREATED:20250426T200652Z
LAST-MODIFIED:20250426T200652Z
UID:3341-1746727200-1746730800@pecantownbooks.com
SUMMARY:Crime Book Club
DESCRIPTION:Join Kassie and the Crime/Thriller/Mystery book club on the 2nd Thursday of every month. This month\, they are discussing James by Percival Everett at 6 pm.
URL:https://pecantownbooks.com/event/crime-book-club-8/
LOCATION:Pecantown Books & Brews\, 212 S. Camp Street\, Seguin\, 78155\, United States
ORGANIZER;CN="Kassie Brandt":MAILTO:kassie@pecantownbooks.com
END:VEVENT
BEGIN:VEVENT
DTSTART;TZID=America/New_York:20250504T110000
DTEND;TZID=America/New_York:20250504T120000
DTSTAMP:20260420T025233
CREATED:20250404T192014Z
LAST-MODIFIED:20250404T192014Z
UID:3289-1746356400-1746360000@pecantownbooks.com
SUMMARY:Murder and Mimosas
DESCRIPTION:This month\, Kassie will be sharing the story of Absinthe. The legendary green drink became a collector’s dream and a criminal’s enrichment. Join us as we learn about the mythic ties of creativity and madness that surround the Green Fairy. \n  \nTickets are nonrefundable and cannot be transferred. Email kassie@pecantownbooks.com for more information.
URL:https://pecantownbooks.com/event/murder-and-mimosas-16/
LOCATION:Pecantown Books & Brews\, 212 S. Camp Street\, Seguin\, 78155\, United States
ORGANIZER;CN="Kassie Brandt":MAILTO:kassie@pecantownbooks.com
END:VEVENT
BEGIN:VEVENT
DTSTART;TZID=America/Chicago:20250430T180000
DTEND;TZID=America/Chicago:20250430T190000
DTSTAMP:20260420T025233
CREATED:20250404T190325Z
LAST-MODIFIED:20250416T182733Z
UID:3286-1746036000-1746039600@pecantownbooks.com
SUMMARY:Wine and True Crime
DESCRIPTION:This month\, Kassie will be sharing the story of Absinthe. The legendary green drink became a collector’s dream and a criminal’s enrichment. Join us as we learn about the mythic ties of creativity and madness that surround the Green Fairy. \n  \nTickets are nonrefundable and cannot be transferred. Email kassie@pecantownbooks.com for more information.
URL:https://pecantownbooks.com/event/wine-and-true-crime-19/
LOCATION:Pecantown Books & Brews\, 212 S. Camp Street\, Seguin\, 78155\, United States
ORGANIZER;CN="Kassie Brandt":MAILTO:kassie@pecantownbooks.com
END:VEVENT
BEGIN:VEVENT
DTSTART;TZID=America/New_York:20250425T180000
DTEND;TZID=America/New_York:20250425T190000
DTSTAMP:20260420T025233
CREATED:20250404T185003Z
LAST-MODIFIED:20250404T185003Z
UID:3284-1745604000-1745607600@pecantownbooks.com
SUMMARY:Fantasy Book Club
DESCRIPTION:Hannah hosts the Fantasy Book Club every month. They are reading “The Serpent and the Wings of Night” by Carissa Broadbent. Join us at 6 pm to discuss this month’s adventure.
URL:https://pecantownbooks.com/event/fantasy-book-club-5/
LOCATION:Pecantown Books & Brews\, 212 S. Camp Street\, Seguin\, 78155\, United States
ORGANIZER;CN="Kassie Brandt":MAILTO:kassie@pecantownbooks.com
END:VEVENT
BEGIN:VEVENT
DTSTART;TZID=America/New_York:20250419T150000
DTEND;TZID=America/New_York:20250419T170000
DTSTAMP:20260420T025233
CREATED:20250404T184543Z
LAST-MODIFIED:20250404T184543Z
UID:3281-1745074800-1745082000@pecantownbooks.com
SUMMARY:Author C. Prudence Arceneaux
DESCRIPTION:We are excited to host this talented and unique Austin poet at Pecantown on April 19th from 3pm to 5pm. Join us for a reading and signing with C. Prudence Arceneaux! \n 
URL:https://pecantownbooks.com/event/author-c-prudence-arceneaux/
LOCATION:Pecantown Books & Brews\, 212 S. Camp Street\, Seguin\, 78155\, United States
ORGANIZER;CN="Kassie Brandt":MAILTO:kassie@pecantownbooks.com
END:VEVENT
BEGIN:VEVENT
DTSTART;TZID=America/New_York:20250412T150000
DTEND;TZID=America/New_York:20250412T170000
DTSTAMP:20260420T025233
CREATED:20250404T184146Z
LAST-MODIFIED:20250404T184146Z
UID:3278-1744470000-1744477200@pecantownbooks.com
SUMMARY:Author Cindy Huyser
DESCRIPTION:Join us for a reading and signing with Poet and Author Cindy Huyser!
URL:https://pecantownbooks.com/event/author-cindy-huyser/
LOCATION:Pecantown Books & Brews\, 212 S. Camp Street\, Seguin\, 78155\, United States
ORGANIZER;CN="Kassie Brandt":MAILTO:kassie@pecantownbooks.com
END:VEVENT
BEGIN:VEVENT
DTSTART;TZID=America/New_York:20250410T180000
DTEND;TZID=America/New_York:20250410T190000
DTSTAMP:20260420T025233
CREATED:20250314T193743Z
LAST-MODIFIED:20250314T193743Z
UID:3190-1744308000-1744311600@pecantownbooks.com
SUMMARY:Crime and Thriller Book Club
DESCRIPTION:This month we are reading the true story of Henrietta Lack. She was a poor black tobacco farmer whose cells—taken without her knowledge in 1951—became one of the most important tools in medicine\, vital for developing the polio vaccine\, cloning\, gene mapping\, in vitro fertilization\, and more. Henrietta’s cells have been bought and sold by the billions\, yet she remains virtually unknown\, and her family can’t afford health insurance.
URL:https://pecantownbooks.com/event/crime-and-thriller-book-club-3/
LOCATION:Pecantown Books & Brews\, 212 S. Camp Street\, Seguin\, 78155\, United States
ORGANIZER;CN="Kassie Brandt":MAILTO:kassie@pecantownbooks.com
END:VEVENT
BEGIN:VEVENT
DTSTART;TZID=America/Chicago:20250406T110000
DTEND;TZID=America/Chicago:20250406T120000
DTSTAMP:20260420T025233
CREATED:20250312T142755Z
LAST-MODIFIED:20250317T143633Z
UID:3162-1743937200-1743940800@pecantownbooks.com
SUMMARY:Murder and Mimosas
DESCRIPTION:This month\, Kassie is telling Daniella Mestyanek Young’s story. She grew up in the Children of God cult and then joined the U.S. Army. This story is triggering\, but the cult conversation is fascinating.
URL:https://pecantownbooks.com/event/murder-and-mimosas-15/
LOCATION:Pecantown Books & Brews\, 212 S. Camp Street\, Seguin\, 78155\, United States
ORGANIZER;CN="Kassie Brandt":MAILTO:kassie@pecantownbooks.com
END:VEVENT
BEGIN:VEVENT
DTSTART;TZID=America/Chicago:20250329T110000
DTEND;TZID=America/Chicago:20250329T130000
DTSTAMP:20260420T025233
CREATED:20250310T170532Z
LAST-MODIFIED:20250310T212729Z
UID:3159-1743246000-1743253200@pecantownbooks.com
SUMMARY:Amelia Duran-Stanton
DESCRIPTION:  \n\n\nAuthor Amelia -Duran Stanton’s new book The Lotus Within: Grow Your Purpose and Ignite your Passion  lays out her approach in detail so that military and civilian women can embrace the challenges of career and family by learning new ways to set goals.
URL:https://pecantownbooks.com/event/amelia-duran-stanton/
LOCATION:Pecantown Books & Brews\, 212 S. Camp Street\, Seguin\, 78155\, United States
ORGANIZER;CN="Kassie Brandt":MAILTO:kassie@pecantownbooks.com
END:VEVENT
BEGIN:VEVENT
DTSTART;TZID=America/Chicago:20250328T180000
DTEND;TZID=America/Chicago:20250328T190000
DTSTAMP:20260420T025233
CREATED:20250310T164214Z
LAST-MODIFIED:20250310T164214Z
UID:3155-1743184800-1743188400@pecantownbooks.com
SUMMARY:Fantasy Book Club
DESCRIPTION:Join Hannah at 6 pm to discuss\, “Metal Slinger” by Rachel Schneider.
URL:https://pecantownbooks.com/event/fantasy-book-club-4/
LOCATION:Pecantown Books & Brews\, 212 S. Camp Street\, Seguin\, 78155\, United States
ORGANIZER;CN="Kassie Brandt":MAILTO:kassie@pecantownbooks.com
END:VEVENT
BEGIN:VEVENT
DTSTART;TZID=America/Chicago:20250326T180000
DTEND;TZID=America/Chicago:20250326T190000
DTSTAMP:20260420T025233
CREATED:20250310T162356Z
LAST-MODIFIED:20250310T162356Z
UID:3151-1743012000-1743015600@pecantownbooks.com
SUMMARY:Wine and True Crime
DESCRIPTION:This month\, Kassie is telling Daniella Mestyanek Young’s story. She grew up in the Children of God cult and then joined the U.S. Army. This story is triggering\, but the cult conversation is fascinating.
URL:https://pecantownbooks.com/event/wine-and-true-crime-18/
LOCATION:Pecantown Books & Brews\, 212 S. Camp Street\, Seguin\, 78155\, United States
ORGANIZER;CN="Kassie Brandt":MAILTO:kassie@pecantownbooks.com
END:VEVENT
BEGIN:VEVENT
DTSTART;TZID=America/Chicago:20250322T150000
DTEND;TZID=America/Chicago:20250322T170000
DTSTAMP:20260420T025233
CREATED:20250310T161400Z
LAST-MODIFIED:20250310T161400Z
UID:3152-1742655600-1742662800@pecantownbooks.com
SUMMARY:Celebrating Women's Voices
DESCRIPTION:
URL:https://pecantownbooks.com/event/celebrating-womens-voices/
LOCATION:Pecantown Books & Brews\, 212 S. Camp Street\, Seguin\, 78155\, United States
ORGANIZER;CN="Kassie Brandt":MAILTO:kassie@pecantownbooks.com
END:VEVENT
BEGIN:VEVENT
DTSTART;TZID=America/New_York:20250321T173000
DTEND;TZID=America/New_York:20250321T190000
DTSTAMP:20260420T025233
CREATED:20250212T191452Z
LAST-MODIFIED:20250318T144137Z
UID:3059-1742578200-1742583600@pecantownbooks.com
SUMMARY:Nancy Schiesari: 'Citizens at Last:' A History of Suffrage in Texas
DESCRIPTION:Join us for a discussion and screening of two short films about the history of Suffrage in Texas! Filmmaker and Historian Nancy Schiesari will be here to share her work and lead an informative and entertaining discussion of the characters and events of the time. RSVP today and use the link below to pre-screen the full-length film\, “Citizens at Last\,” in advance of the event! \nhttps://www.citizensatlastfilm.com/stream \nBIO: Nancy Schiesari is an experienced director\, producer and cinematographer on both broadcast documentaries and award-winning independent films.  Her latest full-length documentary\, Canine Soldiers: the Militarization of Love\, premiered at the Austin Film Festival and aired nationally on PBS over Memorial Day weekend\, 2018. She also directed and produced feature-length documentaries\, Cactus Jack\, Lone Star on Capitol Hill (PBS)\, Tattooed Under Fire (PBS)\, Hansel Mieth-Vagabond Photographer (Independent Lens) and History Man\, a half-hour profile on Martin Scorsese for BBC 4\, London.
URL:https://pecantownbooks.com/event/nancy-schiesari-history-of-suffrage-in-texas/
LOCATION:Pecantown Books & Brews\, 212 S. Camp Street\, Seguin\, 78155\, United States
ORGANIZER;CN="Kassie Brandt":MAILTO:kassie@pecantownbooks.com
END:VEVENT
BEGIN:VEVENT
DTSTART;TZID=America/Chicago:20250315T110000
DTEND;TZID=America/Chicago:20250315T120000
DTSTAMP:20260420T025233
CREATED:20250306T205708Z
LAST-MODIFIED:20250307T174724Z
UID:3148-1742036400-1742040000@pecantownbooks.com
SUMMARY:Meet and Greet Author Laurie Frazier
DESCRIPTION:
URL:https://pecantownbooks.com/event/meet-and-greet-author-laurie-frazier/
LOCATION:Pecantown Books & Brews\, 212 S. Camp Street\, Seguin\, 78155\, United States
ORGANIZER;CN="Kassie Brandt":MAILTO:kassie@pecantownbooks.com
END:VEVENT
BEGIN:VEVENT
DTSTART;TZID=America/New_York:20250313T180000
DTEND;TZID=America/New_York:20250313T190000
DTSTAMP:20260420T025233
CREATED:20250212T163922Z
LAST-MODIFIED:20250212T163922Z
UID:3057-1741888800-1741892400@pecantownbooks.com
SUMMARY:Crime Book Club
DESCRIPTION:Kassie’s Book Club is reading “Murder on the Orient Express” by Agatha Christie. Join us at 6pm for fun\, food\, discussion and a classic mystery.
URL:https://pecantownbooks.com/event/crime-book-club-7/
LOCATION:Pecantown Books & Brews\, 212 S. Camp Street\, Seguin\, 78155\, United States
ORGANIZER;CN="Kassie Brandt":MAILTO:kassie@pecantownbooks.com
END:VEVENT
BEGIN:VEVENT
DTSTART;TZID=America/New_York:20250308T110000
DTEND;TZID=America/New_York:20250308T130000
DTSTAMP:20260420T025233
CREATED:20250212T192547Z
LAST-MODIFIED:20250212T192547Z
UID:3062-1741431600-1741438800@pecantownbooks.com
SUMMARY:Author Chris Mullen
DESCRIPTION:Chris Mullen just released the next installment of “Dead land” a Cass Callahan novel series.  Mullen’s westerns are fun\, fast paced\, and full of twists. Join us for a signing and grab your copy of his book.
URL:https://pecantownbooks.com/event/author-chris-mullen/
LOCATION:Pecantown Books & Brews\, 212 S. Camp Street\, Seguin\, 78155\, United States
ORGANIZER;CN="Kassie Brandt":MAILTO:kassie@pecantownbooks.com
END:VEVENT
BEGIN:VEVENT
DTSTART;TZID=America/Chicago:20250306T180000
DTEND;TZID=America/Chicago:20250306T190000
DTSTAMP:20260420T025233
CREATED:20250226T193615Z
LAST-MODIFIED:20250226T193615Z
UID:3130-1741284000-1741287600@pecantownbooks.com
SUMMARY:Lone Star Story Hour: The "Mad" Madame & San Antonio's Sporting District
DESCRIPTION:This month’s Lone Star Story Hour explores the plight of women working in San Antonio’s red light district in the late 19th century through the story of Emilia Garza\, the Madame who blew the whistle on the city’s efforts to profit illegally off of brothels. Garza won her suit against political boss and Mayor Brian “King” Callahan – only to suffer devastating repercussions. \nSeating is limited\, and we have added a nominal ticket fee to ensure those who most want to attend find seating. Thank you for understanding!
URL:https://pecantownbooks.com/event/the-mad-madame-and-san-antonios-sporting-district/
LOCATION:Pecantown Books & Brews\, 212 S. Camp Street\, Seguin\, 78155\, United States
ORGANIZER;CN="Tess Coody-Anders":MAILTO:tess@pecantownbooks.com
END:VEVENT
BEGIN:VEVENT
DTSTART;TZID=America/Chicago:20250302T110000
DTEND;TZID=America/Chicago:20250302T120000
DTSTAMP:20260420T025233
CREATED:20250212T155743Z
LAST-MODIFIED:20250212T162945Z
UID:3052-1740913200-1740916800@pecantownbooks.com
SUMMARY:Murder and Mimosas
DESCRIPTION:This month Kassie is sharing the story of “The Serial Killer’s Apprentice” by Katherine Ramsland and Tracy Ullman. This book explores the grooming of 2 teen boys by a monster named Dean Corrll. \n* This event contains trigger themes and content; discretion is advised. \n**Tickets are nonrefundable and not transferable.
URL:https://pecantownbooks.com/event/murder-and-mimosas-14/
LOCATION:Pecantown Books & Brews\, 212 S. Camp Street\, Seguin\, 78155\, United States
ORGANIZER;CN="Kassie Brandt":MAILTO:kassie@pecantownbooks.com
END:VEVENT
BEGIN:VEVENT
DTSTART;TZID=America/New_York:20250301T150000
DTEND;TZID=America/New_York:20250301T170000
DTSTAMP:20260420T025233
CREATED:20250212T162737Z
LAST-MODIFIED:20250212T162737Z
UID:3055-1740841200-1740848400@pecantownbooks.com
SUMMARY:Author Susan Thomas
DESCRIPTION:Author Susan Thomas will be reading from her book\, “My Lucky Star” on March 1st! This is a middle reader tale of 1846 New Braunfels. Join us at 3 pm to hear this incredible story.
URL:https://pecantownbooks.com/event/author-susan-thomas/
LOCATION:Pecantown Books & Brews\, 212 S. Camp Street\, Seguin\, 78155\, United States
ORGANIZER;CN="Kassie Brandt":MAILTO:kassie@pecantownbooks.com
END:VEVENT
BEGIN:VEVENT
DTSTART;TZID=America/New_York:20250228T170000
DTEND;TZID=America/New_York:20250228T180000
DTSTAMP:20260420T025233
CREATED:20250207T200403Z
LAST-MODIFIED:20250207T200403Z
UID:3049-1740762000-1740765600@pecantownbooks.com
SUMMARY:Author Thomas Carroll "Simple Southern Recipes"
DESCRIPTION:Join us in welcoming Author Thomas Carroll as he shares his cookbook! Celebrate the bond of family through food.
URL:https://pecantownbooks.com/event/author-thomas-carroll-simple-southern-recipes/
LOCATION:Pecantown Books & Brews\, 212 S. Camp Street\, Seguin\, 78155\, United States
ORGANIZER;CN="Kassie Brandt":MAILTO:kassie@pecantownbooks.com
END:VEVENT
BEGIN:VEVENT
DTSTART;TZID=America/New_York:20250226T180000
DTEND;TZID=America/New_York:20250226T190000
DTSTAMP:20260420T025233
CREATED:20250127T234227Z
LAST-MODIFIED:20250127T234227Z
UID:3007-1740592800-1740596400@pecantownbooks.com
SUMMARY:Wine and True Crime
DESCRIPTION:This month\, Kassie has another story out of Texas. Get your glass of wine and hear about Dean Corll\, his murders and Wayne Henley\, the teen he turned into a murderer.  The book we will discuss explores the grooming and abuses used by Corll. \n  \n*This event discusses adult themes\, triggers\, and disturbing content\, please be advised. \nTickets will be available February 12th at 8 pm. Tickets are non-transferable and not refundable.
URL:https://pecantownbooks.com/event/wine-and-true-crime-17/
LOCATION:Pecantown Books & Brews\, 212 S. Camp Street\, Seguin\, 78155\, United States
ORGANIZER;CN="Kassie Brandt":MAILTO:kassie@pecantownbooks.com
END:VEVENT
BEGIN:VEVENT
DTSTART;TZID=America/New_York:20250222T110000
DTEND;TZID=America/New_York:20250222T130000
DTSTAMP:20260420T025233
CREATED:20250127T235310Z
LAST-MODIFIED:20250207T001441Z
UID:3010-1740222000-1740229200@pecantownbooks.com
SUMMARY:Paula King Harper and Wilson Pottery
DESCRIPTION:Join us for a presentation about the Wilson Pottery Foundation from scholar and descendant Paula King Harper. Learn about the foundation\, the history and how freedom and success were achieved for these Texans.
URL:https://pecantownbooks.com/event/paula-king-harper-and-wilson-pottery/
LOCATION:Pecantown Books & Brews\, 212 S. Camp Street\, Seguin\, 78155\, United States
ORGANIZER;CN="Kassie Brandt":MAILTO:kassie@pecantownbooks.com
END:VEVENT
BEGIN:VEVENT
DTSTART;TZID=America/New_York:20250221T180000
DTEND;TZID=America/New_York:20250221T190000
DTSTAMP:20260420T025233
CREATED:20250127T233026Z
LAST-MODIFIED:20250127T233026Z
UID:3005-1740160800-1740164400@pecantownbooks.com
SUMMARY:Fantasy Book Club
DESCRIPTION:Join Hannah and the fantasy book club while they discuss the 3rd installment of Rebecca Yarros’ dragon series\,”Onyx Storm.” Grab a glass of wine and share your thoughts with us!
URL:https://pecantownbooks.com/event/fantasy-book-club-3/
LOCATION:Pecantown Books & Brews\, 212 S. Camp Street\, Seguin\, 78155\, United States
ORGANIZER;CN="Kassie Brandt":MAILTO:kassie@pecantownbooks.com
END:VEVENT
BEGIN:VEVENT
DTSTART;TZID=America/New_York:20250218T180000
DTEND;TZID=America/New_York:20250218T190000
DTSTAMP:20260420T025233
CREATED:20250122T205700Z
LAST-MODIFIED:20250122T205700Z
UID:2999-1739901600-1739905200@pecantownbooks.com
SUMMARY:Literary Book Club
DESCRIPTION:The literary book club is reading “Our Hideous Progeny” by C. E. McGill. Grab a glass of wine and join Tess as they discuss this twisty Gothic adventure inspired by Mary Shelley’s “Frankenstein.”
URL:https://pecantownbooks.com/event/literary-book-club-12/
LOCATION:Pecantown Books & Brews\, 212 S. Camp Street\, Seguin\, 78155\, United States
END:VEVENT
END:VCALENDAR