BEGIN:VCALENDAR
VERSION:2.0
PRODID:-//Pecantown Books &amp; Brews - ECPv6.15.20//NONSGML v1.0//EN
CALSCALE:GREGORIAN
METHOD:PUBLISH
X-ORIGINAL-URL:https://pecantownbooks.com
X-WR-CALDESC:Events for Pecantown Books &amp; Brews
REFRESH-INTERVAL;VALUE=DURATION:PT1H
X-Robots-Tag:noindex
X-PUBLISHED-TTL:PT1H
BEGIN:VTIMEZONE
TZID:America/Chicago
BEGIN:DAYLIGHT
TZOFFSETFROM:-0600
TZOFFSETTO:-0500
TZNAME:CDT
DTSTART:20250309T080000
END:DAYLIGHT
BEGIN:STANDARD
TZOFFSETFROM:-0500
TZOFFSETTO:-0600
TZNAME:CST
DTSTART:20251102T070000
END:STANDARD
BEGIN:DAYLIGHT
TZOFFSETFROM:-0600
TZOFFSETTO:-0500
TZNAME:CDT
DTSTART:20260308T080000
END:DAYLIGHT
BEGIN:STANDARD
TZOFFSETFROM:-0500
TZOFFSETTO:-0600
TZNAME:CST
DTSTART:20261101T070000
END:STANDARD
BEGIN:DAYLIGHT
TZOFFSETFROM:-0600
TZOFFSETTO:-0500
TZNAME:CDT
DTSTART:20270314T080000
END:DAYLIGHT
BEGIN:STANDARD
TZOFFSETFROM:-0500
TZOFFSETTO:-0600
TZNAME:CST
DTSTART:20271107T070000
END:STANDARD
END:VTIMEZONE
BEGIN:VEVENT
DTSTART;TZID=America/Chicago:20260409T180000
DTEND;TZID=America/Chicago:20260409T190000
DTSTAMP:20260420T022217
CREATED:20260325T145657Z
LAST-MODIFIED:20260325T145657Z
UID:4414-1775757600-1775761200@pecantownbooks.com
SUMMARY:Crime Book Club
DESCRIPTION:This Month Kassie and the  Crime Book Club are reading Killers of the Flower Moon by David Grann. In the 1920s\, the Osage Nation in Oklahoma became fabulously wealthy after oil was discovered beneath their land. Then members of the tribe began to be systematically murdered. The FBI’s investigation into what became known as the “Reign of Terror” — one of the most sinister conspiracies in American history — is told in full for the first time. A gripping\, essential piece of American history\, now a major film by Martin Scorsese. Join us on April 9th at 6 pm!
URL:https://pecantownbooks.com/event/crime-book-club-17/
LOCATION:Pecantown Books & Brews\, 212 S. Camp Street\, Seguin\, 78155\, United States
ORGANIZER;CN="Kassie Brandt":MAILTO:kassie@pecantownbooks.com
END:VEVENT
BEGIN:VEVENT
DTSTART;TZID=America/Chicago:20260414T180000
DTEND;TZID=America/Chicago:20260414T190000
DTSTAMP:20260420T022217
CREATED:20260325T144859Z
LAST-MODIFIED:20260325T144859Z
UID:4410-1776189600-1776193200@pecantownbooks.com
SUMMARY:Literary Book Club
DESCRIPTION:This month Tess and the Literary Book Club will be reading Brawler by Lauren Groff. This book is a fierce\, celebrated collection of nine stories — Groff’s first since the award-winning Florida. Ranging from the 1950s to the present and moving across age\, class\, and region\, these stories reflect a shared theme: the ceaseless battle between humans’ dark and light angels. Characters include a hot-tempered teenage swimmer\, a woman responsible for a disabled sibling\, and a mother blinded by loss. Precise\, surprising\, and profound.
URL:https://pecantownbooks.com/event/literary-book-club-19/
LOCATION:Pecantown Books & Brews\, 212 S. Camp Street\, Seguin\, 78155\, United States
ORGANIZER;CN="Kassie Brandt":MAILTO:kassie@pecantownbooks.com
END:VEVENT
BEGIN:VEVENT
DTSTART;TZID=America/Chicago:20260417T180000
DTEND;TZID=America/Chicago:20260417T190000
DTSTAMP:20260420T022217
CREATED:20260325T151455Z
LAST-MODIFIED:20260325T151455Z
UID:4416-1776448800-1776452400@pecantownbooks.com
SUMMARY:Wine and True Crime
DESCRIPTION:This month\, Kassie is telling us about Elizabeth Bathory\, a 17th-century Hungarian countess accused of being a prolific serial killer. Author Shelly Puhak’s book\, “The Blood Countess” investigates whether Báthory was a monster or a victim of a political smear campaign. She uses new archival evidence to explore the historical context of a powerful woman in a patriarchal world and she questions the myth’s origins and the truth behind the accusations. Join us at 6 pm on April 17th to learn more! 
URL:https://pecantownbooks.com/event/wine-and-true-crime-29/
LOCATION:Pecantown Books & Brews\, 212 S. Camp Street\, Seguin\, 78155\, United States
ORGANIZER;CN="Kassie Brandt":MAILTO:kassie@pecantownbooks.com
END:VEVENT
BEGIN:VEVENT
DTSTART;TZID=America/Chicago:20260418T150000
DTEND;TZID=America/Chicago:20260418T163000
DTSTAMP:20260420T022217
CREATED:20260325T184022Z
LAST-MODIFIED:20260416T232625Z
UID:4424-1776524400-1776529800@pecantownbooks.com
SUMMARY:CANCELED: A Conversation about Iran; new date TBA
DESCRIPTION:Due to illness\, we are canceling this weekend’s discussion. Please check back for the rescheduled date soon!\n\nThe Iranian Conflict: Then and Now \nJoin us for an insightful and timely discussion with Sussan Siavoshi\, Ph.D. and the Una Chapman Cox Professor of International Affairs at Trinity University. An expert on the the state\, society and change in the Middle East\, Professor Siavoshi will provide modern historical context for the US-Iranian conflict and answer questions about the domestic and global impact. As space is limited\, reservations are required.
URL:https://pecantownbooks.com/event/a-conversation-about-iran/
LOCATION:Pecantown Books & Brews\, 212 S. Camp Street\, Seguin\, 78155\, United States
ORGANIZER;CN="Kassie Brandt":MAILTO:kassie@pecantownbooks.com
END:VEVENT
BEGIN:VEVENT
DTSTART;TZID=America/Chicago:20260424T180000
DTEND;TZID=America/Chicago:20260424T190000
DTSTAMP:20260420T022217
CREATED:20260325T152951Z
LAST-MODIFIED:20260325T152951Z
UID:4419-1777053600-1777057200@pecantownbooks.com
SUMMARY:Fantasy Book Club
DESCRIPTION:This month Hannah and the Fantasy Book Club are reading\, “Hemlock and Silver” by T. Kingfisher. Join them on Friday\, April 24th at 6 pm as they discuss the retelling of Snow White and the poisoned apple.
URL:https://pecantownbooks.com/event/fantasy-book-club-11/
LOCATION:Pecantown Books & Brews\, 212 S. Camp Street\, Seguin\, 78155\, United States
ORGANIZER;CN="Kassie Brandt":MAILTO:kassie@pecantownbooks.com
END:VEVENT
BEGIN:VEVENT
DTSTART;TZID=America/Chicago:20260425T150000
DTEND;TZID=America/Chicago:20260425T170000
DTSTAMP:20260420T022218
CREATED:20260325T153525Z
LAST-MODIFIED:20260325T153525Z
UID:4421-1777129200-1777136400@pecantownbooks.com
SUMMARY:Poetry with Bianca Garcia
DESCRIPTION:To close out National Poetry Month\, join us at 3 pm for Bianca Garcia’s new collection\, “Snake Breath.” Get a glass of wine and be inspired.
URL:https://pecantownbooks.com/event/poetry-with-bianca-garcia/
LOCATION:Pecantown Books & Brews\, 212 S. Camp Street\, Seguin\, 78155\, United States
ORGANIZER;CN="Kassie Brandt":MAILTO:kassie@pecantownbooks.com
END:VEVENT
BEGIN:VEVENT
DTSTART;TZID=America/Chicago:20260503T110000
DTEND;TZID=America/Chicago:20260503T120000
DTSTAMP:20260420T022218
CREATED:20260406T230835Z
LAST-MODIFIED:20260415T184622Z
UID:4492-1777806000-1777809600@pecantownbooks.com
SUMMARY:Murder and Mimosas
DESCRIPTION:This month\, Kassie is telling us about Elizabeth Bathory\, a 17th-century Hungarian countess accused of being a prolific serial killer. Author Shelly Puhak’s book\, “The Blood Countess” investigates whether Báthory was a monster or a victim of a political smear campaign. She uses new archival evidence to explore the historical context of a powerful woman in a patriarchal world and she questions the myth’s origins and the truth behind the accusations. Join us at 11 am on May 3rd to learn more! 
URL:https://pecantownbooks.com/event/murder-and-mimosas-25/
LOCATION:Pecantown Books & Brews\, 212 S. Camp Street\, Seguin\, 78155\, United States
ORGANIZER;CN="Kassie Brandt":MAILTO:kassie@pecantownbooks.com
END:VEVENT
END:VCALENDAR