BEGIN:VCALENDAR
VERSION:2.0
PRODID:-//Pecantown Books &amp; Brews - ECPv6.15.20//NONSGML v1.0//EN
CALSCALE:GREGORIAN
METHOD:PUBLISH
X-WR-CALNAME:Pecantown Books &amp; Brews
X-ORIGINAL-URL:https://pecantownbooks.com
X-WR-CALDESC:Events for Pecantown Books &amp; Brews
REFRESH-INTERVAL;VALUE=DURATION:PT1H
X-Robots-Tag:noindex
X-PUBLISHED-TTL:PT1H
BEGIN:VTIMEZONE
TZID:America/New_York
BEGIN:DAYLIGHT
TZOFFSETFROM:-0500
TZOFFSETTO:-0400
TZNAME:EDT
DTSTART:20230312T070000
END:DAYLIGHT
BEGIN:STANDARD
TZOFFSETFROM:-0400
TZOFFSETTO:-0500
TZNAME:EST
DTSTART:20231105T060000
END:STANDARD
BEGIN:DAYLIGHT
TZOFFSETFROM:-0500
TZOFFSETTO:-0400
TZNAME:EDT
DTSTART:20240310T070000
END:DAYLIGHT
BEGIN:STANDARD
TZOFFSETFROM:-0400
TZOFFSETTO:-0500
TZNAME:EST
DTSTART:20241103T060000
END:STANDARD
BEGIN:DAYLIGHT
TZOFFSETFROM:-0500
TZOFFSETTO:-0400
TZNAME:EDT
DTSTART:20250309T070000
END:DAYLIGHT
BEGIN:STANDARD
TZOFFSETFROM:-0400
TZOFFSETTO:-0500
TZNAME:EST
DTSTART:20251102T060000
END:STANDARD
END:VTIMEZONE
BEGIN:VTIMEZONE
TZID:America/Chicago
BEGIN:DAYLIGHT
TZOFFSETFROM:-0600
TZOFFSETTO:-0500
TZNAME:CDT
DTSTART:20230312T080000
END:DAYLIGHT
BEGIN:STANDARD
TZOFFSETFROM:-0500
TZOFFSETTO:-0600
TZNAME:CST
DTSTART:20231105T070000
END:STANDARD
BEGIN:DAYLIGHT
TZOFFSETFROM:-0600
TZOFFSETTO:-0500
TZNAME:CDT
DTSTART:20240310T080000
END:DAYLIGHT
BEGIN:STANDARD
TZOFFSETFROM:-0500
TZOFFSETTO:-0600
TZNAME:CST
DTSTART:20241103T070000
END:STANDARD
BEGIN:DAYLIGHT
TZOFFSETFROM:-0600
TZOFFSETTO:-0500
TZNAME:CDT
DTSTART:20250309T080000
END:DAYLIGHT
BEGIN:STANDARD
TZOFFSETFROM:-0500
TZOFFSETTO:-0600
TZNAME:CST
DTSTART:20251102T070000
END:STANDARD
END:VTIMEZONE
BEGIN:VEVENT
DTSTART;TZID=America/New_York:20240925T150000
DTEND;TZID=America/New_York:20240925T170000
DTSTAMP:20260419T163242
CREATED:20240910T160414Z
LAST-MODIFIED:20240910T160414Z
UID:2487-1727276400-1727283600@pecantownbooks.com
SUMMARY:Make-and-Take Event w/Artable Curiosities!
DESCRIPTION:Non-profit Artable Curiosties and Pecantown are partnering for another make-and-take event! Come create your own flower and detachable butterfly from the provided materials. Participants will enjoy a free cookie 😍🍪 and beverage of your choice. Don’t miss out on this amazing opportunity to support a local business and a local non-profit and express your creativity!
URL:https://pecantownbooks.com/event/make-and-take-event-w-artable-curiosities/
LOCATION:Pecantown Books & Brews\, 212 S. Camp Street\, Seguin\, 78155\, United States
ORGANIZER;CN="Tess Coody-Anders":MAILTO:tess@pecantownbooks.com
END:VEVENT
BEGIN:VEVENT
DTSTART;TZID=America/Chicago:20240925T150000
DTEND;TZID=America/Chicago:20240925T170000
DTSTAMP:20260419T163242
CREATED:20240820T144707Z
LAST-MODIFIED:20240820T144707Z
UID:2388-1727276400-1727283600@pecantownbooks.com
SUMMARY:Milk and Bookies
DESCRIPTION:Join Pecantown every Wednesday between 3p-5pm for a glass of milk and a cookie. Also enjoy specials on baked goods\, sharables and drinks.
URL:https://pecantownbooks.com/event/milk-and-bookies-13/
LOCATION:Pecantown Books & Brews\, 212 S. Camp Street\, Seguin\, 78155\, United States
ORGANIZER;CN="Kassie Brandt":MAILTO:kassie@pecantownbooks.com
END:VEVENT
BEGIN:VEVENT
DTSTART;TZID=America/Chicago:20240924T180000
DTEND;TZID=America/Chicago:20240924T190000
DTSTAMP:20260419T163242
CREATED:20240824T145803Z
LAST-MODIFIED:20240824T145803Z
UID:2418-1727200800-1727204400@pecantownbooks.com
SUMMARY:Literary Book Club
DESCRIPTION:This month Tess’ book club will be reading “Come & Get It” by Kiley Reid. \n\n\nIt’s 2017 at the University of Arkansas. Millie Cousins\, a senior resident assistant\, wants to graduate\, get a job\, and buy a house. So when Agatha Paul\, a visiting professor and writer\, offers Millie an easy yet unusual opportunity\, she jumps at the chance. But Millie’s starry-eyed hustle becomes jeopardized by odd new friends\, vengeful dorm pranks\, and illicit intrigue. \nA fresh and intimate portrait of desire\, consumption\, and reckless abandon\, Come and Get It is a tension-filled story about money\, indiscretion\, and bad behavior—and the highly anticipated new novel by acclaimed and award-winning author Kiley Reid. \n\nSEE LESS
URL:https://pecantownbooks.com/event/literary-book-club-9/
LOCATION:Pecantown Books & Brews\, 212 S. Camp Street\, Seguin\, 78155\, United States
ORGANIZER;CN="Tess Coody-Anders":MAILTO:tess@pecantownbooks.com
END:VEVENT
BEGIN:VEVENT
DTSTART;TZID=America/Chicago:20240924T180000
DTEND;TZID=America/Chicago:20240924T190000
DTSTAMP:20260419T163242
CREATED:20240821T150732Z
LAST-MODIFIED:20240821T150732Z
UID:2404-1727200800-1727204400@pecantownbooks.com
SUMMARY:Classics Book Club
DESCRIPTION:September 23rd the Classic’s book club will discuss “To Kill a Mocking Bird” by Harper Lee. Join us at 6 pm to discuss the controversy and the conversation that Lee inspired.
URL:https://pecantownbooks.com/event/classics-book-club-5/
LOCATION:Pecantown Books & Brews\, 212 S. Camp Street\, Seguin\, 78155\, United States
ORGANIZER;CN="Kassie Brandt":MAILTO:kassie@pecantownbooks.com
END:VEVENT
BEGIN:VEVENT
DTSTART;VALUE=DATE:20240923
DTEND;VALUE=DATE:20240924
DTSTAMP:20260419T163242
CREATED:20240923T213909Z
LAST-MODIFIED:20240923T213909Z
UID:2561-1727049600-1727135999@pecantownbooks.com
SUMMARY:Pecanfest
DESCRIPTION:Join Downtown Seguin and #shoplocal for Pecanfest! We will have food and drink specials\, deals and holiday merchandise available.
URL:https://pecantownbooks.com/event/pecanfest/
LOCATION:Pecantown Books & Brews\, 212 S. Camp Street\, Seguin\, 78155\, United States
ORGANIZER;CN="Tess Coody-Anders":MAILTO:tess@pecantownbooks.com
END:VEVENT
BEGIN:VEVENT
DTSTART;TZID=America/Chicago:20240921T130000
DTEND;TZID=America/Chicago:20240921T150000
DTSTAMP:20260419T163242
CREATED:20240821T144919Z
LAST-MODIFIED:20240821T144919Z
UID:2402-1726923600-1726930800@pecantownbooks.com
SUMMARY:Signing with Jane Botkin
DESCRIPTION:Author Jane Botkin will be at Pecantown Books & Brews on September 21st at 1 pm to share her new book: “The Pink Dress a Memoir of a Reluctant Beauty Queen.” Come get a Lavender Lemonade and a signed copy of Jane’s book.
URL:https://pecantownbooks.com/event/signing-with-jane-botkin/
LOCATION:Pecantown Books & Brews\, 212 S. Camp Street\, Seguin\, 78155\, United States
ORGANIZER;CN="Kassie Brandt":MAILTO:kassie@pecantownbooks.com
END:VEVENT
BEGIN:VEVENT
DTSTART;TZID=America/Chicago:20240918T170000
DTEND;TZID=America/Chicago:20240918T190000
DTSTAMP:20260419T163242
CREATED:20240821T144012Z
LAST-MODIFIED:20240821T195101Z
UID:2400-1726678800-1726686000@pecantownbooks.com
SUMMARY:Reading with SG Huerta and Brooke Shaffner
DESCRIPTION:Join us at 5 pm on September 18th for a reading and discussion! Author Brooke Shaffner will be reading from her book and Poet SG Huerta will be sharing their prose. Get a glass of wine and enjoy some literature!
URL:https://pecantownbooks.com/event/reading-with-sg-huerta-and-brooke-shaffner/
LOCATION:Pecantown Books & Brews\, 212 S. Camp Street\, Seguin\, 78155\, United States
ORGANIZER;CN="Kassie Brandt":MAILTO:kassie@pecantownbooks.com
END:VEVENT
BEGIN:VEVENT
DTSTART;TZID=America/New_York:20240918T080000
DTEND;TZID=America/New_York:20240918T170000
DTSTAMP:20260419T163242
CREATED:20240820T144026Z
LAST-MODIFIED:20240820T144026Z
UID:2386-1726646400-1726678800@pecantownbooks.com
SUMMARY:Milk and Bookies
DESCRIPTION:Join Pecantown every Wednesday between 3p-5pm for a glass of milk and a cookie. Also enjoy specials on baked goods\, sharables and drinks.
URL:https://pecantownbooks.com/event/milk-and-bookies-12/
LOCATION:Pecantown Books & Brews\, 212 S. Camp Street\, Seguin\, 78155\, United States
ORGANIZER;CN="Kassie Brandt":MAILTO:kassie@pecantownbooks.com
END:VEVENT
BEGIN:VEVENT
DTSTART;TZID=America/Chicago:20240914T130000
DTEND;TZID=America/Chicago:20240914T150000
DTSTAMP:20260419T163242
CREATED:20240820T150424Z
LAST-MODIFIED:20240820T150424Z
UID:2390-1726318800-1726326000@pecantownbooks.com
SUMMARY:Author Wayne Stewart
DESCRIPTION:Join us on September 19th at 1 pm to meet Wayne Stewart and get a copy of his book “Generations of Texas.” This is a history of a Texas family and their growth\, tragedy and perseverance.
URL:https://pecantownbooks.com/event/author-wayne-stewart/
LOCATION:Pecantown Books & Brews\, 212 S. Camp Street\, Seguin\, 78155\, United States
ORGANIZER;CN="Kassie Brandt":MAILTO:kassie@pecantownbooks.com
END:VEVENT
BEGIN:VEVENT
DTSTART;TZID=America/New_York:20240912T180000
DTEND;TZID=America/New_York:20240912T190000
DTSTAMP:20260419T163242
CREATED:20240818T171701Z
LAST-MODIFIED:20240818T171701Z
UID:2358-1726164000-1726167600@pecantownbooks.com
SUMMARY:Crime Book Club
DESCRIPTION:Join us for a sangria and story! Kassie’s book club read “As the Wicked Watch” by Tamron Hall. Hall took inspiration from her time as an ABC journalist to create the character Jordan Manning. Come read with us and discuss this work of fiction.
URL:https://pecantownbooks.com/event/crime-book-club-3/
LOCATION:Pecantown Books & Brews\, 212 S. Camp Street\, Seguin\, 78155\, United States
ORGANIZER;CN="Kassie Brandt":MAILTO:kassie@pecantownbooks.com
END:VEVENT
BEGIN:VEVENT
DTSTART;TZID=America/Chicago:20240911T150000
DTEND;TZID=America/Chicago:20240911T170000
DTSTAMP:20260419T163242
CREATED:20240820T143655Z
LAST-MODIFIED:20240820T143655Z
UID:2384-1726066800-1726074000@pecantownbooks.com
SUMMARY:Milk and Bookies
DESCRIPTION:Join Pecantown every Wednesday between 3p-5pm for a glass of milk and a cookie. Also enjoy specials on baked goods\, sharables and drinks.
URL:https://pecantownbooks.com/event/milk-and-bookies-11/
LOCATION:Pecantown Books & Brews\, 212 S. Camp Street\, Seguin\, 78155\, United States
ORGANIZER;CN="Kassie Brandt":MAILTO:kassie@pecantownbooks.com
END:VEVENT
BEGIN:VEVENT
DTSTART;TZID=America/New_York:20240907T130000
DTEND;TZID=America/New_York:20240907T150000
DTSTAMP:20260419T163242
CREATED:20240818T163304Z
LAST-MODIFIED:20240818T163304Z
UID:2352-1725714000-1725721200@pecantownbooks.com
SUMMARY:Author James Wade
DESCRIPTION:Come visit Pecantown on September 7th for a Reading and Signing with James Wade! His new book\, “Hollow out the Dark” is a historical crime fiction that entrances the reader from the beginning of the story. Come get your copy and hear the unpublished back story from James Wade.
URL:https://pecantownbooks.com/event/author-james-wade/
LOCATION:Pecantown Books & Brews\, 212 S. Camp Street\, Seguin\, 78155\, United States
ORGANIZER;CN="Kassie Brandt":MAILTO:kassie@pecantownbooks.com
END:VEVENT
BEGIN:VEVENT
DTSTART;TZID=America/Chicago:20240905T180000
DTEND;TZID=America/Chicago:20240905T190000
DTSTAMP:20260419T163242
CREATED:20240827T170025Z
LAST-MODIFIED:20240827T170104Z
UID:2439-1725559200-1725562800@pecantownbooks.com
SUMMARY:Lone Star Story Hour w/Tess
DESCRIPTION:Join Tess on the first Thursday of each month for a stimulating discussion of a little known person\, place or event in Texas history or culture. Reservations required as seating is limited. \nSeptember’s feature is Champ d’Asile & Napoleon’s Lost Treasure\, which follows pirate Jean Lafitte and a group of French veterans of the Napoleonic Wars who sought to establish a military fort and operation in Spanish Texas with the intent to free the exiled and imprisoned Napoleon. Pirates\, lost treasures\, hurricanes and Jim Bowie make an appearance in the story!
URL:https://pecantownbooks.com/event/lone-star-story-hour-w-tess/
LOCATION:Pecantown Books & Brews\, 212 S. Camp Street\, Seguin\, 78155\, United States
ORGANIZER;CN="Tess Coody-Anders":MAILTO:tess@pecantownbooks.com
END:VEVENT
BEGIN:VEVENT
DTSTART;TZID=America/Chicago:20240904T150000
DTEND;TZID=America/Chicago:20240904T170000
DTSTAMP:20260419T163242
CREATED:20240820T143320Z
LAST-MODIFIED:20240820T143320Z
UID:2382-1725462000-1725469200@pecantownbooks.com
SUMMARY:Milk and Bookies
DESCRIPTION:Join Pecantown every Wednesday between 3p-5pm for a glass of milk and a cookie. Also enjoy specials on baked goods\, sharables and drinks.
URL:https://pecantownbooks.com/event/milk-and-bookies-10/
LOCATION:Pecantown Books & Brews\, 212 S. Camp Street\, Seguin\, 78155\, United States
ORGANIZER;CN="Kassie Brandt":MAILTO:kassie@pecantownbooks.com
END:VEVENT
BEGIN:VEVENT
DTSTART;TZID=America/New_York:20240901T110000
DTEND;TZID=America/New_York:20240901T120000
DTSTAMP:20260419T163242
CREATED:20240817T190546Z
LAST-MODIFIED:20240818T162428Z
UID:2344-1725188400-1725192000@pecantownbooks.com
SUMMARY:Murder and Mimosas
DESCRIPTION:In 1986 Sherri Rasmussen was a nurse who was gunned down in her home on a Monday morning. Her murder was left unsolved for nearly 20 years. Thanks to DNA\, we learn who is responsible for the demise of a promising young woman. Join Kassie as she shares the twisted tale of deception\, power and unrequited love. \n  \nEmail kassie@pecantownbooks.com for more information.
URL:https://pecantownbooks.com/event/murder-and-mimosas-10/
LOCATION:Pecantown Books & Brews\, 212 S. Camp Street\, Seguin\, 78155\, United States
ORGANIZER;CN="Kassie Brandt":MAILTO:kassie@pecantownbooks.com
END:VEVENT
BEGIN:VEVENT
DTSTART;TZID=America/Chicago:20240828T180000
DTEND;TZID=America/Chicago:20240828T190000
DTSTAMP:20260419T163242
CREATED:20240723T003637Z
LAST-MODIFIED:20240723T003637Z
UID:2255-1724868000-1724871600@pecantownbooks.com
SUMMARY:Wine and True Crime
DESCRIPTION:This Month\, Kassie will be telling a lesser known story that was solved because of DNA. In 1986 Sherri Rasmussen was murdered and a burglary was blamed. In 2009 a cold case detective ran the DNA attained at the 1986 autopsy and found that it belonged to a woman named Stephanie Lazarus. The twist\, Lazarus was a police officer. Come hear a twisted love triangle that lead to a murderer walking free for more than 20 years.
URL:https://pecantownbooks.com/event/wine-and-true-crime-13/
LOCATION:Pecantown Books & Brews\, 212 S. Camp Street\, Seguin\, 78155\, United States
ORGANIZER;CN="Kassie Brandt":MAILTO:kassie@pecantownbooks.com
END:VEVENT
BEGIN:VEVENT
DTSTART;TZID=America/Chicago:20240828T150000
DTEND;TZID=America/Chicago:20240828T170000
DTSTAMP:20260419T163242
CREATED:20240720T171737Z
LAST-MODIFIED:20240722T235926Z
UID:2223-1724857200-1724864400@pecantownbooks.com
SUMMARY:Milk and Bookies
DESCRIPTION:Every Wednesday\, we will have deals on our delicious fresh made cookies and children’s books  from 3p-5pm.
URL:https://pecantownbooks.com/event/milk-and-bookies-9/
LOCATION:Pecantown Books & Brews\, 212 S. Camp Street\, Seguin\, 78155\, United States
ORGANIZER;CN="Kassie Brandt":MAILTO:kassie@pecantownbooks.com
END:VEVENT
BEGIN:VEVENT
DTSTART;TZID=America/Chicago:20240827T180000
DTEND;TZID=America/Chicago:20240827T190000
DTSTAMP:20260419T163242
CREATED:20240723T002215Z
LAST-MODIFIED:20240723T002215Z
UID:2253-1724781600-1724785200@pecantownbooks.com
SUMMARY:Classics Book Club
DESCRIPTION:This month our book club will be reading “Wuthering Heights” by Emily Bronte. We will discuss the themes\, controversy\, and what we can translate into modern life with this story. Join us at 6pm for a sangria\, pastry and conversation on August 27th.
URL:https://pecantownbooks.com/event/classics-book-club-4/
LOCATION:Pecantown Books & Brews\, 212 S. Camp Street\, Seguin\, 78155\, United States
ORGANIZER;CN="Kassie Brandt":MAILTO:kassie@pecantownbooks.com
END:VEVENT
BEGIN:VEVENT
DTSTART;TZID=America/Chicago:20240821T150000
DTEND;TZID=America/Chicago:20240821T170000
DTSTAMP:20260419T163242
CREATED:20240720T171544Z
LAST-MODIFIED:20240723T000118Z
UID:2221-1724252400-1724259600@pecantownbooks.com
SUMMARY:Milk and Bookies
DESCRIPTION:Every Wednesday\, we will have deals on our delicious fresh made cookies and children’s books  from 3p-5pm. Come get your next adventure.
URL:https://pecantownbooks.com/event/milk-and-bookies-8/
LOCATION:Pecantown Books & Brews\, 212 S. Camp Street\, Seguin\, 78155\, United States
ORGANIZER;CN="Kassie Brandt":MAILTO:kassie@pecantownbooks.com
END:VEVENT
BEGIN:VEVENT
DTSTART;TZID=America/Chicago:20240817T130000
DTEND;TZID=America/Chicago:20240817T150000
DTSTAMP:20260419T163242
CREATED:20240720T173859Z
LAST-MODIFIED:20240720T173859Z
UID:2225-1723899600-1723906800@pecantownbooks.com
SUMMARY:Author Kit Hawthorne
DESCRIPTION:Join us on August 17th for Kit Hawthorne! She will be here 1p-3p to sign her new books “Treason Trail” and “Hill Country Hero.” Bookstore Romance Day will be a blast with Kit and her historical fiction.
URL:https://pecantownbooks.com/event/author-kit-hawthorne-2/
LOCATION:Pecantown Books & Brews\, 212 S. Camp Street\, Seguin\, 78155\, United States
ORGANIZER;CN="Kassie Brandt":MAILTO:kassie@pecantownbooks.com
END:VEVENT
BEGIN:VEVENT
DTSTART;TZID=America/Chicago:20240817T110000
DTEND;TZID=America/Chicago:20240817T130000
DTSTAMP:20260419T163242
CREATED:20240720T180816Z
LAST-MODIFIED:20240801T135329Z
UID:2227-1723892400-1723899600@pecantownbooks.com
SUMMARY:Author PJ Hamilton
DESCRIPTION:Local author PJ Hamilton will be here to share her story\, “From the Piney Woods.” Explore relationships\, emotion and her fight for a better future.  Join us 11 am -1 pm for a reading and signing. \n 
URL:https://pecantownbooks.com/event/author-pj-hamilton/
LOCATION:Pecantown Books & Brews\, 212 S. Camp Street\, Seguin\, 78155\, United States
ORGANIZER;CN="Kassie Brandt":MAILTO:kassie@pecantownbooks.com
END:VEVENT
BEGIN:VEVENT
DTSTART;TZID=America/Chicago:20240814T150000
DTEND;TZID=America/Chicago:20240814T170000
DTSTAMP:20260419T163242
CREATED:20240720T171415Z
LAST-MODIFIED:20240723T000224Z
UID:2219-1723647600-1723654800@pecantownbooks.com
SUMMARY:Milk and Bookies
DESCRIPTION:Every Wednesday\, we will have deals on our delicious fresh made cookies and children’s books  from 3p-5pm. Come get your next adventure.
URL:https://pecantownbooks.com/event/milk-and-bookies-7/
LOCATION:Pecantown Books & Brews\, 212 S. Camp Street\, Seguin\, 78155\, United States
ORGANIZER;CN="Kassie Brandt":MAILTO:kassie@pecantownbooks.com
END:VEVENT
BEGIN:VEVENT
DTSTART;TZID=America/Chicago:20240809T100000
DTEND;TZID=America/Chicago:20240809T113000
DTSTAMP:20260419T163242
CREATED:20240722T235441Z
LAST-MODIFIED:20240729T235858Z
UID:2241-1723197600-1723203000@pecantownbooks.com
SUMMARY:Roly Poly Make and Take Class
DESCRIPTION:Pecantown’s resident animal enthusiast\, Blake\, will be teaching a class about isopods (AKA: Roly Poly or Pill Bugs) Each participant will get to learn about isopods\, make a habitat\, introduce 3-5 isopods\, and leave with instructions on their care. Join us August 9th at 10 am. This course is recommended for kids 6 and older. Space is limited. Email kassie@pecantownbooks.com for  more information.
URL:https://pecantownbooks.com/event/isopod-make-and-take-class/
LOCATION:Pecantown Books & Brews\, 212 S. Camp Street\, Seguin\, 78155\, United States
ORGANIZER;CN="Kassie Brandt":MAILTO:kassie@pecantownbooks.com
END:VEVENT
BEGIN:VEVENT
DTSTART;TZID=America/Chicago:20240808T180000
DTEND;TZID=America/Chicago:20240808T190000
DTSTAMP:20260419T163242
CREATED:20240720T170614Z
LAST-MODIFIED:20240720T170614Z
UID:2215-1723140000-1723143600@pecantownbooks.com
SUMMARY:Crime Book Club
DESCRIPTION:Come discuss “Blood & Ink: the scandalous jazz age double murder that hooked America on true crime” by Joe Pompeo on August 8th at 6pm. Grab a sangria and pull up a chair to examine America’s scandal! \n  \n*It is the day after Kassie’s birthday and she plans to bring cupcakes.*
URL:https://pecantownbooks.com/event/crime-book-club-2/
LOCATION:Pecantown Books & Brews\, 212 S. Camp Street\, Seguin\, 78155\, United States
ORGANIZER;CN="Kassie Brandt":MAILTO:kassie@pecantownbooks.com
END:VEVENT
BEGIN:VEVENT
DTSTART;TZID=America/Chicago:20240807T150000
DTEND;TZID=America/Chicago:20240807T170000
DTSTAMP:20260419T163242
CREATED:20240720T171218Z
LAST-MODIFIED:20240723T000456Z
UID:2217-1723042800-1723050000@pecantownbooks.com
SUMMARY:Milk and Bookies
DESCRIPTION:Every Wednesday\, we will have deals on our delicious fresh made cookies and children’s books  from 3p-5pm. Come get your next adventure.
URL:https://pecantownbooks.com/event/milk-and-bookies-6/
LOCATION:Pecantown Books & Brews\, 212 S. Camp Street\, Seguin\, 78155\, United States
ORGANIZER;CN="Kassie Brandt":MAILTO:kassie@pecantownbooks.com
END:VEVENT
BEGIN:VEVENT
DTSTART;TZID=America/Chicago:20240804T110000
DTEND;TZID=America/Chicago:20240804T120000
DTSTAMP:20260419T163242
CREATED:20240720T165408Z
LAST-MODIFIED:20240720T165408Z
UID:2212-1722769200-1722772800@pecantownbooks.com
SUMMARY:Murder and Mimosas
DESCRIPTION:This month Kassie will be sharing the harrowing tale of Bonnie and Clyde. Join us at 11 am on August 4th\, grab some brunch and a mimosa as she unpacks the fact from fiction. \n 
URL:https://pecantownbooks.com/event/murder-and-mimosas-9/
LOCATION:Pecantown Books & Brews\, 212 S. Camp Street\, Seguin\, 78155\, United States
ORGANIZER;CN="Kassie Brandt":MAILTO:kassie@pecantownbooks.com
END:VEVENT
BEGIN:VEVENT
DTSTART;TZID=America/Chicago:20240803T110000
DTEND;TZID=America/Chicago:20240803T130000
DTSTAMP:20260419T163242
CREATED:20240702T020300Z
LAST-MODIFIED:20240702T020300Z
UID:2126-1722682800-1722690000@pecantownbooks.com
SUMMARY:Author Kate Winkler Dawson
DESCRIPTION:August 3rd\, at 11 am\, Author and professor Kate Dawson will be at Pecantown! History\, murder\, intrigue are all things she covers in her books. Come meet her and get a copy of “Death in the Air\,” “All that is Wicked\,” or “American Sherlock.” \n 
URL:https://pecantownbooks.com/event/author-kate-winkler-dawson/
LOCATION:Pecantown Books & Brews\, 212 S. Camp Street\, Seguin\, 78155\, United States
ORGANIZER;CN="Kassie Brandt":MAILTO:kassie@pecantownbooks.com
END:VEVENT
BEGIN:VEVENT
DTSTART;VALUE=DATE:20240803
DTEND;VALUE=DATE:20240804
DTSTAMP:20260419T163242
CREATED:20240610T152244Z
LAST-MODIFIED:20240610T152626Z
UID:2010-1722643200-1722729599@pecantownbooks.com
SUMMARY:Summer Bingo Challenge
DESCRIPTION:Pecantown presents a Summer 2024 Reading Bingo Challenge! Fill out this bingo card and bring it to our store on August 3rd – participants will receive a free bookmark at the beginning and a small prize at the end. On that Saturday\, August 3rd\, Pecantown will be hosting author Kate Winkler Dawson\, who will be signing copies of her books from 11am–1pm. Stop by to hear from Kate and drop off your bingo card! Feel free to post your completed card on your social media\, and be sure to tag us! \n \nDownload our Summer Reading Bingo Card here!
URL:https://pecantownbooks.com/event/summer-bingo-challenge/
END:VEVENT
BEGIN:VEVENT
DTSTART;TZID=America/Chicago:20240801T180000
DTEND;TZID=America/Chicago:20240801T190000
DTSTAMP:20260419T163242
CREATED:20240715T184206Z
LAST-MODIFIED:20240715T184241Z
UID:2189-1722535200-1722538800@pecantownbooks.com
SUMMARY:Flying Minutemen: WWII and The Civil Air Patrol in Texas
DESCRIPTION:Stretched to its limits\, the American military needed all hands to protect precious supplies of oil and gas that were literally fueling the Allies’ fight against the Nazis. We’ll talk about how hotshot civilian aviators — men and women of all walks of life — volunteered to run thousands of missions to defend merchant marines and the Gulf Coast against u-boat attacks. Think “Stripes” meets “Masters of the Air!”
URL:https://pecantownbooks.com/event/flying-minutemen-wwii-and-the-civil-air-patrol-in-texas/
LOCATION:Pecantown Books & Brews\, 212 S. Camp Street\, Seguin\, 78155\, United States
ORGANIZER;CN="Tess Coody-Anders":MAILTO:tess@pecantownbooks.com
END:VEVENT
BEGIN:VEVENT
DTSTART;TZID=America/Chicago:20240731T180000
DTEND;TZID=America/Chicago:20240731T190000
DTSTAMP:20260419T163242
CREATED:20240702T015326Z
LAST-MODIFIED:20240711T142311Z
UID:2124-1722448800-1722452400@pecantownbooks.com
SUMMARY:Wine and True Crime
DESCRIPTION:Kassie will be telling the harrowing story of “Bonnie and Clyde.” These infamous bandits caused a phenomena that romanticized murder and robbery. Join us as we take a look at the 2 lovers who caused chaos in the southwest. Please note that you may experience a delay when there’s heavy traffic on the ticketing system; please stay with it!
URL:https://pecantownbooks.com/event/wine-and-true-crime-12/
LOCATION:Pecantown Books & Brews\, 212 S. Camp Street\, Seguin\, 78155\, United States
ORGANIZER;CN="Kassie Brandt":MAILTO:kassie@pecantownbooks.com
END:VEVENT
END:VCALENDAR