BEGIN:VCALENDAR
VERSION:2.0
PRODID:-//Pecantown Books &amp; Brews - ECPv6.15.20//NONSGML v1.0//EN
CALSCALE:GREGORIAN
METHOD:PUBLISH
X-ORIGINAL-URL:https://pecantownbooks.com
X-WR-CALDESC:Events for Pecantown Books &amp; Brews
REFRESH-INTERVAL;VALUE=DURATION:PT1H
X-Robots-Tag:noindex
X-PUBLISHED-TTL:PT1H
BEGIN:VTIMEZONE
TZID:America/Chicago
BEGIN:DAYLIGHT
TZOFFSETFROM:-0600
TZOFFSETTO:-0500
TZNAME:CDT
DTSTART:20240310T080000
END:DAYLIGHT
BEGIN:STANDARD
TZOFFSETFROM:-0500
TZOFFSETTO:-0600
TZNAME:CST
DTSTART:20241103T070000
END:STANDARD
BEGIN:DAYLIGHT
TZOFFSETFROM:-0600
TZOFFSETTO:-0500
TZNAME:CDT
DTSTART:20250309T080000
END:DAYLIGHT
BEGIN:STANDARD
TZOFFSETFROM:-0500
TZOFFSETTO:-0600
TZNAME:CST
DTSTART:20251102T070000
END:STANDARD
BEGIN:DAYLIGHT
TZOFFSETFROM:-0600
TZOFFSETTO:-0500
TZNAME:CDT
DTSTART:20260308T080000
END:DAYLIGHT
BEGIN:STANDARD
TZOFFSETFROM:-0500
TZOFFSETTO:-0600
TZNAME:CST
DTSTART:20261101T070000
END:STANDARD
END:VTIMEZONE
BEGIN:VTIMEZONE
TZID:America/New_York
BEGIN:DAYLIGHT
TZOFFSETFROM:-0500
TZOFFSETTO:-0400
TZNAME:EDT
DTSTART:20240310T070000
END:DAYLIGHT
BEGIN:STANDARD
TZOFFSETFROM:-0400
TZOFFSETTO:-0500
TZNAME:EST
DTSTART:20241103T060000
END:STANDARD
BEGIN:DAYLIGHT
TZOFFSETFROM:-0500
TZOFFSETTO:-0400
TZNAME:EDT
DTSTART:20250309T070000
END:DAYLIGHT
BEGIN:STANDARD
TZOFFSETFROM:-0400
TZOFFSETTO:-0500
TZNAME:EST
DTSTART:20251102T060000
END:STANDARD
BEGIN:DAYLIGHT
TZOFFSETFROM:-0500
TZOFFSETTO:-0400
TZNAME:EDT
DTSTART:20260308T070000
END:DAYLIGHT
BEGIN:STANDARD
TZOFFSETFROM:-0400
TZOFFSETTO:-0500
TZNAME:EST
DTSTART:20261101T060000
END:STANDARD
END:VTIMEZONE
BEGIN:VEVENT
DTSTART;TZID=America/Chicago:20250906T150000
DTEND;TZID=America/Chicago:20250906T170000
DTSTAMP:20260419T155329
CREATED:20250818T140235Z
LAST-MODIFIED:20250818T140235Z
UID:3820-1757170800-1757178000@pecantownbooks.com
SUMMARY:Author and Artist Gwendolyn Hustvedt
DESCRIPTION:Local artist featured here in Seguin\, Gwendolyn Hustvedt\, has her work published and will be hosting a signing September 6th. Join us between 3p-5p to meet the artist and get your copy of her book\, “Groundwork” that honors the aquifers in Texas. Preview her work at: https://www.gwendolynhustvedt.com/
URL:https://pecantownbooks.com/event/author-and-artist-gwendolyn-hustvedt/
LOCATION:Pecantown Books & Brews\, 212 S. Camp Street\, Seguin\, 78155\, United States
ORGANIZER;CN="Kassie Brandt":MAILTO:kassie@pecantownbooks.com
END:VEVENT
BEGIN:VEVENT
DTSTART;TZID=America/New_York:20250907T110000
DTEND;TZID=America/New_York:20250907T120000
DTSTAMP:20260419T155329
CREATED:20250811T170313Z
LAST-MODIFIED:20250818T205916Z
UID:3769-1757242800-1757246400@pecantownbooks.com
SUMMARY:Murder & Mimosas
DESCRIPTION:Serial killers stalked the streets like never before in 1970’s and 1980’s America. From Ted Bundy to the Night Stalker to the Green River Killer\, the bodies were piling up. Coincidence or the result of an unprecedented increase in poisonous lead\, copper\, and arsenic in the air?\n\nJoin Kassie Sunday\, September 7th as we explore this hidden link via Caroline Frasier’s book\, Murderland!
URL:https://pecantownbooks.com/event/murder-mimosas-3/
LOCATION:Pecantown Books & Brews\, 212 S. Camp Street\, Seguin\, 78155\, United States
ORGANIZER;CN="Kassie Brandt":MAILTO:kassie@pecantownbooks.com
END:VEVENT
BEGIN:VEVENT
DTSTART;TZID=America/Chicago:20250910T170000
DTEND;TZID=America/Chicago:20250910T180000
DTSTAMP:20260419T155329
CREATED:20250829T161158Z
LAST-MODIFIED:20250829T161158Z
UID:3860-1757523600-1757527200@pecantownbooks.com
SUMMARY:Classic's Book Club
DESCRIPTION:Join Mark as they discuss The Brothers Karamazov. This sprawling\, philosophical novel explores themes of God\, morality\, and free will through the murder of a depraved father and the subsequent trial of his three sons. Set in 19th-century Russia\, the story follows the Karamazov brothers—Dmitri\, the sensualist; Ivan\, the rational intellectual; and Alyosha\, the pious monk—as they are drawn into the chaotic aftermath of their father’s death\, which forces them to confront their own beliefs and desires.
URL:https://pecantownbooks.com/event/classics-book-club-11/
LOCATION:Pecantown Books & Brews\, 212 S. Camp Street\, Seguin\, 78155\, United States
ORGANIZER;CN="Kassie Brandt":MAILTO:kassie@pecantownbooks.com
END:VEVENT
BEGIN:VEVENT
DTSTART;TZID=America/Chicago:20250911T180000
DTEND;TZID=America/Chicago:20250911T190000
DTSTAMP:20260419T155329
CREATED:20250829T162006Z
LAST-MODIFIED:20250829T162006Z
UID:3862-1757613600-1757617200@pecantownbooks.com
SUMMARY:Crime Book Club
DESCRIPTION:Join Kassie and the crime book club as they discuss “The Cuckoo’s Calling” by Robert Galbraith. This month’s fiction book introduces private investigator Cormoran Strike\, a down-on-his-luck war veteran hired to investigate the suspicious death of a famous supermodel. Assisted by his temporary secretary\, Robin Ellacott\, Strike peels back layers of glamour and deceit in London’s fashion world to expose a killer hiding in plain sight.
URL:https://pecantownbooks.com/event/crime-book-club-12/
LOCATION:Pecantown Books & Brews\, 212 S. Camp Street\, Seguin\, 78155\, United States
ORGANIZER;CN="Kassie Brandt":MAILTO:kassie@pecantownbooks.com
END:VEVENT
BEGIN:VEVENT
DTSTART;TZID=America/Chicago:20250919T180000
DTEND;TZID=America/Chicago:20250919T190000
DTSTAMP:20260419T155329
CREATED:20250829T163151Z
LAST-MODIFIED:20250830T011649Z
UID:3864-1758304800-1758308400@pecantownbooks.com
SUMMARY:Wine and True Crime
DESCRIPTION:This month Kassie is sharing the incredible book\, American Heiress by Jeffrey Toobin. Patty Hearst is a newspaper heiress who was kidnapped in 1974 by the Symbionese Liberation Army\, a domestic terrorist group. Her case gained international notoriety when she appeared to adopt the group’s radical ideology\, changed her name to “Tania\,” and was photographed participating in a bank robbery. After being convicted of armed robbery and serving time in prison\, she was pardoned and has since lived a private life\, working as an author and actress.  \n  \n*This story contains adult themes \n**Tickets are not refundable and cannot be transferred. \nEmail kassie@pecantownbooks.com with questions or to be added to a wait-list.
URL:https://pecantownbooks.com/event/wine-and-true-crime-25/
LOCATION:Pecantown Books & Brews\, 212 S. Camp Street\, Seguin\, 78155\, United States
ORGANIZER;CN="Kassie Brandt":MAILTO:kassie@pecantownbooks.com
END:VEVENT
BEGIN:VEVENT
DTSTART;TZID=America/Chicago:20250920T150000
DTEND;TZID=America/Chicago:20250920T170000
DTSTAMP:20260419T155329
CREATED:20250829T163805Z
LAST-MODIFIED:20250829T163805Z
UID:3868-1758380400-1758387600@pecantownbooks.com
SUMMARY:Poesia Transfronteriza
DESCRIPTION:Join poets Amber Isaac\, Jorge Renaud\, and Juania Suenos for a reading and a signing on September 20th at 3 pm!
URL:https://pecantownbooks.com/event/poesia-transfronteriza/
LOCATION:Pecantown Books & Brews\, 212 S. Camp Street\, Seguin\, 78155\, United States
ORGANIZER;CN="Kassie Brandt":MAILTO:kassie@pecantownbooks.com
END:VEVENT
BEGIN:VEVENT
DTSTART;TZID=America/Chicago:20250926T180000
DTEND;TZID=America/Chicago:20250926T190000
DTSTAMP:20260419T155329
CREATED:20250830T164822Z
LAST-MODIFIED:20250830T164822Z
UID:3872-1758909600-1758913200@pecantownbooks.com
SUMMARY:Fantasy Book Club
DESCRIPTION:Join Hannah and the Fantasy Book Club as they read Katabasis by R.F. Kuang on September 26th at 6 pm. This story follows two rival Cambridge PhD students of “magick” who must venture into Hell after their abusive advisor’s accidental death. Driven by academic ambition and a twisted sense of obligation\, they descend into an otherworldly parody of the academic world to retrieve his soul so he can write their career-defining recommendation letters.
URL:https://pecantownbooks.com/event/fantasy-book-club-8/
LOCATION:Pecantown Books & Brews\, 212 S. Camp Street\, Seguin\, 78155\, United States
ORGANIZER;CN="Kassie Brandt":MAILTO:kassie@pecantownbooks.com
END:VEVENT
BEGIN:VEVENT
DTSTART;TZID=America/Chicago:20250926T180000
DTEND;TZID=America/Chicago:20250926T190000
DTSTAMP:20260419T155329
CREATED:20250915T191220Z
LAST-MODIFIED:20250915T191220Z
UID:3917-1758909600-1758913200@pecantownbooks.com
SUMMARY:Lone Star Story Hour: Verein Verboten! WWI Anti-German Sentiment in Texas
DESCRIPTION:In 1917\, Seguin-native Will Bergfeld and his family were preparing for bed when almost 20 Texas Rangers crashed through windows and doors to arrest the young farmer for treason. What followed was a six-week trial that would pit neighbor against neighbor and have lasting impact on German-American communities across Texas. Will was just one of many targeted by secretive Councils of Defense formed in small towns across the state in response to WWI. Join us to learn more about the socio-political context for the outcry against Germans as “alien enemies” and the outcome of Will’s trial and those of other prominent Texans at this month’s Lone Star Story Hour! \nAmericans Attacking German Store in 1917 \nWilliam Bergfeld
URL:https://pecantownbooks.com/event/lone-star-story-hour-verein-verboten-wwi-anti-german-sentiment-in-texas/
LOCATION:Pecantown Books & Brews\, 212 S. Camp Street\, Seguin\, 78155\, United States
ORGANIZER;CN="Tess Coody-Anders":MAILTO:tess@pecantownbooks.com
END:VEVENT
END:VCALENDAR