BEGIN:VCALENDAR
VERSION:2.0
PRODID:-//Pecantown Books &amp; Brews - ECPv6.15.20//NONSGML v1.0//EN
CALSCALE:GREGORIAN
METHOD:PUBLISH
X-WR-CALNAME:Pecantown Books &amp; Brews
X-ORIGINAL-URL:https://pecantownbooks.com
X-WR-CALDESC:Events for Pecantown Books &amp; Brews
REFRESH-INTERVAL;VALUE=DURATION:PT1H
X-Robots-Tag:noindex
X-PUBLISHED-TTL:PT1H
BEGIN:VTIMEZONE
TZID:America/Chicago
BEGIN:DAYLIGHT
TZOFFSETFROM:-0600
TZOFFSETTO:-0500
TZNAME:CDT
DTSTART:20240310T080000
END:DAYLIGHT
BEGIN:STANDARD
TZOFFSETFROM:-0500
TZOFFSETTO:-0600
TZNAME:CST
DTSTART:20241103T070000
END:STANDARD
BEGIN:DAYLIGHT
TZOFFSETFROM:-0600
TZOFFSETTO:-0500
TZNAME:CDT
DTSTART:20250309T080000
END:DAYLIGHT
BEGIN:STANDARD
TZOFFSETFROM:-0500
TZOFFSETTO:-0600
TZNAME:CST
DTSTART:20251102T070000
END:STANDARD
BEGIN:DAYLIGHT
TZOFFSETFROM:-0600
TZOFFSETTO:-0500
TZNAME:CDT
DTSTART:20260308T080000
END:DAYLIGHT
BEGIN:STANDARD
TZOFFSETFROM:-0500
TZOFFSETTO:-0600
TZNAME:CST
DTSTART:20261101T070000
END:STANDARD
END:VTIMEZONE
BEGIN:VEVENT
DTSTART;TZID=America/Chicago:20251004T150000
DTEND;TZID=America/Chicago:20251004T170000
DTSTAMP:20260419T141124
CREATED:20250913T194421Z
LAST-MODIFIED:20250913T194442Z
UID:3907-1759590000-1759597200@pecantownbooks.com
SUMMARY:Beauty from Ashes Widow Workshop
DESCRIPTION:Lori Bohning is hosting a workshop here at Pecantown to offer support to widows in the Seguin area. Her ministry\, Beauty from Ashes\, has partnered with us to provide Christ centered support to widows in their grieving process\, secondary losses\, and beyond into empowering widows in the process of re-engaging in life. Beauty from Ashes Ministries meets every widow right where they are in their grief journey. We do this by offering a safe place for widows of all ages to connect with one another as they begin to discover what God can do with a heart that is His. \n*Class includes book\, pen and 1.5 hours of intimate conversation with empathetic and trained individuals. \nFor more information: https://beautyfromashesministry.com/
URL:https://pecantownbooks.com/event/beauty-from-ashes-widow-class/
LOCATION:Pecantown Books & Brews\, 212 S. Camp Street\, Seguin\, 78155\, United States
ORGANIZER;CN="Kassie Brandt":MAILTO:kassie@pecantownbooks.com
END:VEVENT
BEGIN:VEVENT
DTSTART;TZID=America/Chicago:20251005T110000
DTEND;TZID=America/Chicago:20251005T120000
DTSTAMP:20260419T141124
CREATED:20250912T184741Z
LAST-MODIFIED:20250912T184741Z
UID:3900-1759662000-1759665600@pecantownbooks.com
SUMMARY:Murder and Mimosas
DESCRIPTION:This month Kassie is sharing the incredible book\, American Heiress by Jeffrey Toobin. Patty Hearst is a newspaper heiress who was kidnapped in 1974 by the Symbionese Liberation Army\, a domestic terrorist group. Her case gained international notoriety when she appeared to adopt the group’s radical ideology\, changed her name to “Tania\,” and was photographed participating in a bank robbery. After being convicted of armed robbery and serving time in prison\, she was pardoned and has since lived a private life\, working as an author and actress.  \n  \n*This story contains adult themes \n**Tickets are not refundable and cannot be transferred. \nEmail kassie@pecantownbooks.com with questions or to be added to a wait-list.
URL:https://pecantownbooks.com/event/murder-and-mimosas-19/
LOCATION:Pecantown Books & Brews\, 212 S. Camp Street\, Seguin\, 78155\, United States
ORGANIZER;CN="Kassie Brandt":MAILTO:kassie@pecantownbooks.com
END:VEVENT
BEGIN:VEVENT
DTSTART;TZID=America/Chicago:20251007T170000
DTEND;TZID=America/Chicago:20251007T183000
DTSTAMP:20260419T141124
CREATED:20250913T202209Z
LAST-MODIFIED:20250913T202209Z
UID:3911-1759856400-1759861800@pecantownbooks.com
SUMMARY:New Fatherland Author Event
DESCRIPTION:Join Authors Natalie Bright and Manuela Schneider as they share their Historical Fiction Novel! \nA New Fatherland: German Freedom Under the Texas Sky \nFar away from their old homeland\, countless Germans seek their fortune in the land of opportunity. Political unrest in the monarchy drives them away—into a world where vast fields and freely accessible land await settlers. But behind the tempting promise of freedom lies a high price.
URL:https://pecantownbooks.com/event/newfatherlandauthorevent/
LOCATION:Pecantown Books & Brews\, 212 S. Camp Street\, Seguin\, 78155\, United States
ORGANIZER;CN="Kassie Brandt":MAILTO:kassie@pecantownbooks.com
END:VEVENT
BEGIN:VEVENT
DTSTART;TZID=America/Chicago:20251008T170000
DTEND;TZID=America/Chicago:20251008T180000
DTSTAMP:20260419T141124
CREATED:20250912T191149Z
LAST-MODIFIED:20250912T191149Z
UID:3903-1759942800-1759946400@pecantownbooks.com
SUMMARY:Classics Book Club
DESCRIPTION:Join Mark and the Classics Book Club on October 8th at 5 pm. \nA sprawling epic set in California’s Salinas Valley\, John Steinbeck’s East of Eden chronicles the intertwined lives of two families\, the Trasks and the Hamiltons\, as they struggle with themes of good versus evil and free will. The novel serves as a modern retelling of the biblical story of Cain and Abel\, with each generation of the Trask family reenacting the jealous rivalry between the two brothers.
URL:https://pecantownbooks.com/event/classics-book-club-12/
LOCATION:Pecantown Books & Brews\, 212 S. Camp Street\, Seguin\, 78155\, United States
ORGANIZER;CN="Tess Coody-Anders":MAILTO:tess@pecantownbooks.com
END:VEVENT
BEGIN:VEVENT
DTSTART;TZID=America/Chicago:20251009T180000
DTEND;TZID=America/Chicago:20251009T190000
DTSTAMP:20260419T141124
CREATED:20250912T191609Z
LAST-MODIFIED:20250912T191609Z
UID:3905-1760032800-1760036400@pecantownbooks.com
SUMMARY:Crime and Thriller Book Club
DESCRIPTION:This Month Kassie and the Crime book Club will be reading “The Exorcism Files” By Adam Bali. This book is a collection of true stories and first-hand accounts of demonic oppression and possession\, written from the perspective of a Catholic lay expert who assists priests with exorcisms.
URL:https://pecantownbooks.com/event/crime-and-thriller-book-club-4/
LOCATION:Pecantown Books & Brews\, 212 S. Camp Street\, Seguin\, 78155\, United States
ORGANIZER;CN="Kassie Brandt":MAILTO:kassie@pecantownbooks.com
END:VEVENT
BEGIN:VEVENT
DTSTART;TZID=America/Chicago:20251017T180000
DTEND;TZID=America/Chicago:20251017T193000
DTSTAMP:20260419T141124
CREATED:20250929T194238Z
LAST-MODIFIED:20251010T150930Z
UID:3955-1760724000-1760729400@pecantownbooks.com
SUMMARY:Wine and True Crime
DESCRIPTION:This will be a hybrid W&TC along with an author meeting! Join us for a 30 minute discussion of the book then\, we will call and remote video chat with the Authors of “Shadow of the Bridge!” \n  \nKassie read: Shadow of the Bridge: The Delphi Murders and the Dark Side of the American Heartland by Áine Cain and Kevin Greenlee. This is a true-crime deep dive into the 2017 double murder of two teenagers\, Liberty German and Abigail Williams\, in Delphi\, Indiana\, and the subsequent investigation and trial of Richard Allen\, all set against the backdrop of a small community grappling with tragedy and an unprecedented level of online public obsession. \nEmail kassie@pecantownbooks.com to set aside your copy of “Shadow of the Bridge” with a signed bookplate!
URL:https://pecantownbooks.com/event/wine-and-true-crime-26/
LOCATION:Pecantown Books & Brews\, 212 S. Camp Street\, Seguin\, 78155\, United States
ORGANIZER;CN="Kassie Brandt":MAILTO:kassie@pecantownbooks.com
END:VEVENT
BEGIN:VEVENT
DTSTART;TZID=America/Chicago:20251021T180000
DTEND;TZID=America/Chicago:20251021T190000
DTSTAMP:20260419T141124
CREATED:20251006T200649Z
LAST-MODIFIED:20251006T201213Z
UID:4020-1761069600-1761073200@pecantownbooks.com
SUMMARY:Literary Fiction Book Club
DESCRIPTION:All are welcome as we discuss October’s title — “James” by Percival Everett. Join us for a lively discussion!
URL:https://pecantownbooks.com/event/literary-fiction-book-club-3/
LOCATION:Pecantown Books & Brews\, 212 S. Camp Street\, Seguin\, 78155\, United States
ORGANIZER;CN="Tess Coody-Anders":MAILTO:tess@pecantownbooks.com
END:VEVENT
BEGIN:VEVENT
DTSTART;TZID=America/Chicago:20251024T170000
DTEND;TZID=America/Chicago:20251024T183000
DTSTAMP:20260419T141124
CREATED:20251006T201041Z
LAST-MODIFIED:20251006T201124Z
UID:4023-1761325200-1761330600@pecantownbooks.com
SUMMARY:Meet the Creator of 'Halloween Man'
DESCRIPTION:Join us for a meet and greet with Austin’s Drew Edwards\, who created the cult-classic “Halloween Man” comic for adult readers 25 years ago! Pick up your signed copy and learn more about the story\, his story and process.
URL:https://pecantownbooks.com/event/meet-the-creator-of-halloween-man/
ORGANIZER;CN="Tess Coody-Anders":MAILTO:tess@pecantownbooks.com
END:VEVENT
BEGIN:VEVENT
DTSTART;VALUE=DATE:20251029
DTEND;VALUE=DATE:20251030
DTSTAMP:20260419T141124
CREATED:20251029T151006Z
LAST-MODIFIED:20251029T151006Z
UID:4086-1761696000-1761782399@pecantownbooks.com
SUMMARY:Closed for Thanksgiving
DESCRIPTION:Pecantown Books & Brews will be closed for Thanksgiving for our staff to enjoy the holiday with their friends and family. Please come see our Black Friday and Small Business Saturday deals this weekend!
URL:https://pecantownbooks.com/event/closed-for-thanksgiving/
LOCATION:Pecantown Books & Brews\, 212 S. Camp Street\, Seguin\, 78155\, United States
ORGANIZER;CN="Kassie Brandt":MAILTO:kassie@pecantownbooks.com
END:VEVENT
END:VCALENDAR