BEGIN:VCALENDAR
VERSION:2.0
PRODID:-//Pecantown Books &amp; Brews - ECPv6.15.20//NONSGML v1.0//EN
CALSCALE:GREGORIAN
METHOD:PUBLISH
X-ORIGINAL-URL:https://pecantownbooks.com
X-WR-CALDESC:Events for Pecantown Books &amp; Brews
REFRESH-INTERVAL;VALUE=DURATION:PT1H
X-Robots-Tag:noindex
X-PUBLISHED-TTL:PT1H
BEGIN:VTIMEZONE
TZID:America/Chicago
BEGIN:DAYLIGHT
TZOFFSETFROM:-0600
TZOFFSETTO:-0500
TZNAME:CDT
DTSTART:20240310T080000
END:DAYLIGHT
BEGIN:STANDARD
TZOFFSETFROM:-0500
TZOFFSETTO:-0600
TZNAME:CST
DTSTART:20241103T070000
END:STANDARD
BEGIN:DAYLIGHT
TZOFFSETFROM:-0600
TZOFFSETTO:-0500
TZNAME:CDT
DTSTART:20250309T080000
END:DAYLIGHT
BEGIN:STANDARD
TZOFFSETFROM:-0500
TZOFFSETTO:-0600
TZNAME:CST
DTSTART:20251102T070000
END:STANDARD
BEGIN:DAYLIGHT
TZOFFSETFROM:-0600
TZOFFSETTO:-0500
TZNAME:CDT
DTSTART:20260308T080000
END:DAYLIGHT
BEGIN:STANDARD
TZOFFSETFROM:-0500
TZOFFSETTO:-0600
TZNAME:CST
DTSTART:20261101T070000
END:STANDARD
END:VTIMEZONE
BEGIN:VTIMEZONE
TZID:America/New_York
BEGIN:DAYLIGHT
TZOFFSETFROM:-0500
TZOFFSETTO:-0400
TZNAME:EDT
DTSTART:20240310T070000
END:DAYLIGHT
BEGIN:STANDARD
TZOFFSETFROM:-0400
TZOFFSETTO:-0500
TZNAME:EST
DTSTART:20241103T060000
END:STANDARD
BEGIN:DAYLIGHT
TZOFFSETFROM:-0500
TZOFFSETTO:-0400
TZNAME:EDT
DTSTART:20250309T070000
END:DAYLIGHT
BEGIN:STANDARD
TZOFFSETFROM:-0400
TZOFFSETTO:-0500
TZNAME:EST
DTSTART:20251102T060000
END:STANDARD
BEGIN:DAYLIGHT
TZOFFSETFROM:-0500
TZOFFSETTO:-0400
TZNAME:EDT
DTSTART:20260308T070000
END:DAYLIGHT
BEGIN:STANDARD
TZOFFSETFROM:-0400
TZOFFSETTO:-0500
TZNAME:EST
DTSTART:20261101T060000
END:STANDARD
END:VTIMEZONE
BEGIN:VEVENT
DTSTART;TZID=America/Chicago:20251205T180000
DTEND;TZID=America/Chicago:20251205T210000
DTSTAMP:20260419T104334
CREATED:20251101T192607Z
LAST-MODIFIED:20251101T192607Z
UID:4090-1764957600-1764968400@pecantownbooks.com
SUMMARY:Sip and Stroll
DESCRIPTION:Pecantown is participating in downtown Seguin’s annual Sip and Stroll! Join us from 6pm -9 pm and try our next winning hot chocolate!
URL:https://pecantownbooks.com/event/sip-and-stroll/
LOCATION:Pecantown Books & Brews\, 212 S. Camp Street\, Seguin\, 78155\, United States
ORGANIZER;CN="Kassie Brandt":MAILTO:kassie@pecantownbooks.com
END:VEVENT
BEGIN:VEVENT
DTSTART;TZID=America/Chicago:20251213T140000
DTEND;TZID=America/Chicago:20251213T160000
DTSTAMP:20260419T104334
CREATED:20251119T165202Z
LAST-MODIFIED:20251119T165202Z
UID:4101-1765634400-1765641600@pecantownbooks.com
SUMMARY:Santa and Mrs. Claus at Pecantown
DESCRIPTION:Join us on December 13th from 2p -4p! Santa will be taking pictures and listening to wishes.
URL:https://pecantownbooks.com/event/santa-and-mrs-claus-at-pecantown/
LOCATION:Pecantown Books & Brews\, 212 S. Camp Street\, Seguin\, 78155\, United States
ORGANIZER;CN="Kassie Brandt":MAILTO:kassie@pecantownbooks.com
END:VEVENT
BEGIN:VEVENT
DTSTART;TZID=America/Chicago:20251216T180000
DTEND;TZID=America/Chicago:20251216T190000
DTSTAMP:20260419T104334
CREATED:20251119T172233Z
LAST-MODIFIED:20251204T162200Z
UID:4105-1765908000-1765911600@pecantownbooks.com
SUMMARY:Literary Book Club
DESCRIPTION:Join Tess and the Literary Book Club as they discuss both “Fox” by Joyce Carol Oates and “Fagan the Thief” by Allison Epstein. Join us December 16th at 6pm.
URL:https://pecantownbooks.com/event/literary-book-club-15/
LOCATION:Pecantown Books & Brews\, 212 S. Camp Street\, Seguin\, 78155\, United States
ORGANIZER;CN="Kassie Brandt":MAILTO:kassie@pecantownbooks.com
END:VEVENT
BEGIN:VEVENT
DTSTART;TZID=America/Chicago:20251217T170000
DTEND;TZID=America/Chicago:20251217T180000
DTSTAMP:20260419T104334
CREATED:20251119T171622Z
LAST-MODIFIED:20251204T161740Z
UID:4103-1765990800-1765994400@pecantownbooks.com
SUMMARY:Classics Book Club
DESCRIPTION:Join Mark and the Classics Book Club as they discuss\, “Elective Affinities” by Goethe. This story explores the passionate\, destructive\, and ultimately tragic consequences of spousal exchange and attraction between four people\, using the metaphor of chemical reactions (or “elective affinities”) to describe human relationships. Join us on December 10th at 5 pm.
URL:https://pecantownbooks.com/event/classics-book-club-14/
LOCATION:Pecantown Books & Brews\, 212 S. Camp Street\, Seguin\, 78155\, United States
ORGANIZER;CN="Kassie Brandt":MAILTO:kassie@pecantownbooks.com
END:VEVENT
BEGIN:VEVENT
DTSTART;TZID=America/Chicago:20251219T180000
DTEND;TZID=America/Chicago:20251219T190000
DTSTAMP:20260419T104334
CREATED:20251119T172604Z
LAST-MODIFIED:20251119T172604Z
UID:4107-1766167200-1766170800@pecantownbooks.com
SUMMARY:Fantasy Book Club
DESCRIPTION:Join Hannah and the Fantasy Book Club as they discuss “Brimstone” the sequel to “Quicksilver” by Callie Hart. They will meet at 6 pm on December 19th.
URL:https://pecantownbooks.com/event/fantasy-book-club-9/
LOCATION:Pecantown Books & Brews\, 212 S. Camp Street\, Seguin\, 78155\, United States
ORGANIZER;CN="Kassie Brandt":MAILTO:kassie@pecantownbooks.com
END:VEVENT
BEGIN:VEVENT
DTSTART;TZID=America/Chicago:20251220T150000
DTEND;TZID=America/Chicago:20251220T170000
DTSTAMP:20260419T104334
CREATED:20251119T173230Z
LAST-MODIFIED:20251119T173304Z
UID:4109-1766242800-1766250000@pecantownbooks.com
SUMMARY:Authors James Wade and Burke De Boer
DESCRIPTION:Join Pecantown in welcoming debut author Burke De Boer and returing author James Wade. We are so excited to host a signing and reading on December 20th. Get your signed copies just in time for Christmas to delight the Bibliophile in your family.
URL:https://pecantownbooks.com/event/authors-james-wade-and-burke-de-boer/
LOCATION:Pecantown Books & Brews\, 212 S. Camp Street\, Seguin\, 78155\, United States
ORGANIZER;CN="Kassie Brandt":MAILTO:kassie@pecantownbooks.com
END:VEVENT
BEGIN:VEVENT
DTSTART;TZID=America/Chicago:20251222T080000
DTEND;TZID=America/Chicago:20251222T170000
DTSTAMP:20260419T104334
CREATED:20251208T201808Z
LAST-MODIFIED:20251208T201808Z
UID:4117-1766390400-1766422800@pecantownbooks.com
SUMMARY:Open for Holiday Shopping
DESCRIPTION:We will be open Monday\, December 22nd from 8 am – 5 pm. We will have a special menu and last minute deals. \n 
URL:https://pecantownbooks.com/event/open-for-holiday-shopping/
LOCATION:Pecantown Books & Brews\, 212 S. Camp Street\, Seguin\, 78155\, United States
ORGANIZER;CN="Kassie Brandt":MAILTO:kassie@pecantownbooks.com
END:VEVENT
BEGIN:VEVENT
DTSTART;TZID=America/Chicago:20251224T080000
DTEND;TZID=America/Chicago:20251224T150000
DTSTAMP:20260419T104334
CREATED:20251208T202424Z
LAST-MODIFIED:20251208T202424Z
UID:4119-1766563200-1766588400@pecantownbooks.com
SUMMARY:Closing Early
DESCRIPTION:We will be open until 3 pm on December 24th. We will have a limited menu and last minute deals for your Christmas Eve.
URL:https://pecantownbooks.com/event/closing-early/
LOCATION:Pecantown Books & Brews\, 212 S. Camp Street\, Seguin\, 78155\, United States
ORGANIZER;CN="Kassie Brandt":MAILTO:kassie@pecantownbooks.com
END:VEVENT
BEGIN:VEVENT
DTSTART;VALUE=DATE:20251225
DTEND;VALUE=DATE:20251226
DTSTAMP:20260419T104334
CREATED:20251210T173136Z
LAST-MODIFIED:20251210T173136Z
UID:4122-1766620800-1766707199@pecantownbooks.com
SUMMARY:Closed Christmas Day
DESCRIPTION:Pecantown will be closed on Christmas Day to celebrate with our families. We will be open on 12/26 at 8 am.
URL:https://pecantownbooks.com/event/closed-christmas-day/
LOCATION:Pecantown Books & Brews\, 212 S. Camp Street\, Seguin\, 78155\, United States
ORGANIZER;CN="Kassie Brandt":MAILTO:kassie@pecantownbooks.com
END:VEVENT
BEGIN:VEVENT
DTSTART;TZID=America/Chicago:20251231T080000
DTEND;TZID=America/Chicago:20251231T150000
DTSTAMP:20260419T104334
CREATED:20251210T173549Z
LAST-MODIFIED:20251210T173549Z
UID:4124-1767168000-1767193200@pecantownbooks.com
SUMMARY:Closing Early New Year's Eve
DESCRIPTION:Join us for an early lunch and a new book to ring in the new year. Pecantown will be closing at 3pm.
URL:https://pecantownbooks.com/event/closing-early-new-years-eve/
LOCATION:Pecantown Books & Brews\, 212 S. Camp Street\, Seguin\, 78155\, United States
ORGANIZER;CN="Kassie Brandt":MAILTO:kassie@pecantownbooks.com
END:VEVENT
END:VCALENDAR