BEGIN:VCALENDAR
VERSION:2.0
PRODID:-//Pecantown Books &amp; Brews - ECPv6.15.20//NONSGML v1.0//EN
CALSCALE:GREGORIAN
METHOD:PUBLISH
X-WR-CALNAME:Pecantown Books &amp; Brews
X-ORIGINAL-URL:https://pecantownbooks.com
X-WR-CALDESC:Events for Pecantown Books &amp; Brews
REFRESH-INTERVAL;VALUE=DURATION:PT1H
X-Robots-Tag:noindex
X-PUBLISHED-TTL:PT1H
BEGIN:VTIMEZONE
TZID:America/Chicago
BEGIN:DAYLIGHT
TZOFFSETFROM:-0600
TZOFFSETTO:-0500
TZNAME:CDT
DTSTART:20210314T080000
END:DAYLIGHT
BEGIN:STANDARD
TZOFFSETFROM:-0500
TZOFFSETTO:-0600
TZNAME:CST
DTSTART:20211107T070000
END:STANDARD
BEGIN:DAYLIGHT
TZOFFSETFROM:-0600
TZOFFSETTO:-0500
TZNAME:CDT
DTSTART:20220313T080000
END:DAYLIGHT
BEGIN:STANDARD
TZOFFSETFROM:-0500
TZOFFSETTO:-0600
TZNAME:CST
DTSTART:20221106T070000
END:STANDARD
BEGIN:DAYLIGHT
TZOFFSETFROM:-0600
TZOFFSETTO:-0500
TZNAME:CDT
DTSTART:20230312T080000
END:DAYLIGHT
BEGIN:STANDARD
TZOFFSETFROM:-0500
TZOFFSETTO:-0600
TZNAME:CST
DTSTART:20231105T070000
END:STANDARD
END:VTIMEZONE
BEGIN:VEVENT
DTSTART;TZID=America/Chicago:20221112T180000
DTEND;TZID=America/Chicago:20221112T200000
DTSTAMP:20260423T170420
CREATED:20221108T202807Z
LAST-MODIFIED:20221108T202807Z
UID:777-1668276000-1668283200@pecantownbooks.com
SUMMARY:Live Jazz on the Patio with Choo-Cha Booch
DESCRIPTION:Kick off the holiday season with the Mitchells of Choo-Cha Booch for live jazz\, great wine\, beer and snacks and the season’s best books.
URL:https://pecantownbooks.com/event/live-jazz-on-the-patio-with-choo-cha-booch/
LOCATION:Pecantown Books & Brews\, 212 S. Camp Street\, Seguin\, 78155\, United States
ORGANIZER;CN="Kassie Brandt":MAILTO:kassie@pecantownbooks.com
END:VEVENT
END:VCALENDAR